Workbook
Name ACCLSUPT: Coef!$B$58
Name ACSPR: Coef!$B$57
Name an_final: Date!$B$11
Name an_initial: Date!$B$10
Name arh_list_1a: 'Arh-tipuri'!$A$2:$A$6
Name arh_list_1b: 'Arh-tipuri'!$C$2:$C$5
Name arh_list_2a: 'Arh-tipuri'!$E$2:$E$4
Name arh_list_2b: 'Arh-tipuri'!$H$2:$H$3
Name arh_list_34ab: 'Arh-tipuri'!$Q$2:$Q$3
Name arh_list_3a: 'Arh-tipuri'!$K$2:$K$3
Name arh_list_3b: 'Arh-tipuri'!$M$2:$M$4
Name arh_list_3c: 'Arh-tipuri'!$O$2:$O$3
Name bdi: BDI!$B$2:$B$56
Name BREV_APL: Coef!$B$15
Name BREV_INT: Coef!$B$16
Name BREV_ROM: Coef!$B$17
Name BUL_UPT: Coef!$B$7
Name Campionate_internaționale: 'Sport-Competiții'!$E$2:$E$3
Name Campionate_naționale: 'Sport-Competiții'!$D$2:$D$3
Name Campionate_naționale_universitare: 'Sport-Competiții'!$C$2:$C$4
Name CIT_BDI: Coef!$B$53
Name CIT_ISI: Coef!$B$52
Name ClasareSport: 'Sport-Competiții'!$G$2:$G$4
Name CNCSIS_B: Coef!$B$12
Name CNCSIS_C: Coef!$B$13
Name coef_citari: Coef!$B$62
Name coef_grant: Coef!$B$61
Name Competiții: 'Sport-Competiții'!$A$2:$A$5
Name CompetițiiSport: 'Sport-Competiții'!$A$2:$A$5
Name CONF_NL: Coef!#REF!
Name CONF_NL: Coef!#REF!
Name CONF_NL: Coef!#REF!
Name CONF_NL: Coef!#REF!
Name CONF_NL: Coef!#REF!
Name CONF_NL: Coef!#REF!
Name CONF_NL: Coef!#REF!
Name CONF_NL: Coef!#REF!
Name CONF_NL: Coef!#REF!
Name CONF_NL: Coef!#REF!
Name CONF_NL: Coef!#REF!
Name CONF_NL: Coef!#REF!
Name CONF_NL: Coef!#REF!
Name CONF_NL: Coef!#REF!
Name CONF_NL: Coef!#REF!
Name CONF_NL: Coef!#REF!
Name CONF_NL: Coef!#REF!
Name CONF_NL: Coef!#REF!
Name CONF_NL: Coef!#REF!
Name CONF_NL: Coef!#REF!
Name CONF_NL: Coef!#REF!
Name CONF_NL: Coef!#REF!
Name CONF_NL: Coef!#REF!
Name CONF_NL: Coef!#REF!
Name CONF_NL: Coef!#REF!
Name CONF_NL: Coef!#REF!
Name CONF_NL: Coef!#REF!
Name CONF_NL: Coef!#REF!
Name CONF_NL: Coef!#REF!
Name CONF_NL: Coef!#REF!
Name CONF_NL: Coef!#REF!

Sheet Informații completare
A1: Această foaie nu trebuie tipărită.
A2: Numele complet al candidatului trebuie să apară identic în listele de autori lucrări, titulari contracte, etc.
A3: Numele persoanelor se vor despărți cu virgulă în listele de autori lucrări, titulari contracte, etc.
A4: Pentru proiectele în echipă, rolul candidatului trebuie marcat cu X în coloana corespunzătoare.
A5: Pentru brevetele de invenție, tipul de brevet trebuie marcat cu X în coloana corespunzătoare.
A6: Foile de lucru 5 se completează doar de membrii departamentelor/facultăților respective.
A7: Câmpurile cu opțiuni limitate (de tip select) se vor alege după focusarea pe celulă, din lista accesibilă cu click pe săgeată.

Sheet Date candidat
A1: Universitatea Politehnica Timișoara
A3: ="Concurs de gradații de merit " & an_final+1 -> Concurs de gradații de merit 2026
A4: ="Perioada de evaluare: "& an_initial& " ‒ " & an_final -> Perioada de evaluare: 2021 ‒ 2025
D5: Observații
A6: Concurs la nivelul | B6: Departamentului | D6: numele complet trebuie să apară identic în listele de autori lucrări, titulari contracte, etc.
A7: Nume și prenume candidat | B7: Bojan-Dragos Claudia-Adina | D7: funcția deținută la momentul concursului
A8: Funcția didactică actuală | B8: Conferențiar | D8: se alege din listă
A9: Departament UPT | B9: Automatică și Informatică Aplicată | D9: se alege din listă
A10: Director Departament | B10: Conf. Dr. Ing. Albu Adriana | D10: necesar pentru semnătură
A11: Facultate | B11: Automatică și Calculatoare | D11: se alege din listă
A12: Decan Facultate | B12: Prof. Dr. Ing. Marcu Marius | D12: necesar pentru semnătură

Sheet Date
A1: Funcții didactice | C1: Concurs la nivelul | F1: Facultăți UPT | J1: Departamente UPT
A2: Profesor | C2: Departamentului | F2: Arhitectură și Urbanism | J2: Arhitectură
A3: Conferențiar | C3: Facultății | F3: Automatică și Calculatoare | J3: Automatică și Informatică Aplicată
A4: Șef de lucrări | C4: Universității | F4: Chimie Industrială și Ingineria Mediului | J4: Bazele Fizice ale Ingineriei
A5: Asistent | F5: Construcții | J5: Calculatoare
F6: Electronică și Telecomunicații | J6: Căi de Comunicație Terestre, Fundații și Cadastru
F7: Electrotehnică și Electroenergetică | J7: Chimie Aplicată și Ingineria Compușilor Anorganici și a Mediului
F8: Inginerie din Hunedoara | J8: Chimie Aplicată și Ingineria Compușilor Organici și Naturali
A9: Concurs în perioada | F9: Management în Producție și Transporturi | J9: Comunicare și Limbi Străine
A10: An inițial | B10: 2021 | F10: Mecanică | J10: Comunicații
A11: An final | B11: 2025 | F11: Științe ale Comunicării | J11: Construcții Civile și Instalații
A12: Durată ani | B12: =an_final-an_initial+1 -> 5 | J12: Construcții Metalice și Mecanica Construcțiilor
J13: Educație Fizică și Sport
J14: Electroenergetică
A15: I.6 Organizarea de concursuri profesionale / conferințe studențești | J15: Electronică Aplicată
B16: Coordonator colectiv organizare | C16: Membru colectiv organizare | J16: Hidrotehnică
A17: Internațională | B17: 100 | C17: 50 | J17: Ingineria Materialelor și Fabricației
A18: Națională | B18: 50 | C18: 25 | J18: Inginerie Electrică
A19: Locală | B19: 25 | C19: 10 | J19: Inginerie Electrică și Informatică Industrială din Hunedoara
J20: Inginerie și Management din Hunedoara
A21: I.7 Premii obținute cu studenții la etapa finală a concursurilor profesionale | J21: Management
B22: Premiul I | C22: Premiul II | D22: Premiul III | E22: Mențiune | J22: Mașini Mecanice, Utilaje și Transporturi
A23: Internațională | B23: 100 | C23: 90 | D23: 80 | E23: 70 | J23: Matematică
A24: Națională | B24: 50 | C24: 45 | D24: 40 | E24: 35 | J24: Măsurări și Electronică Optică
J25: Mecanica și Rezistența Materialelor
A26: I.8 Organizare școli de vară/iarnă naționale/internaționale | J26: Pregatirea Personalului Didactic
A27: Coordonator | B27: Membru în colectivul de organizare | C27: Susținere curs/modul training | J27: Mecatronică
A28: 50 | B28: 25 | C28: 10
A30: III.1 Experienţa în management academic
A31: Funcţie de conducere | B31: Funcţie de reprezentare | C31: Membru în organisme de conducere/reprezentare
A32: 5 | B32: 10 | C32: 2
A34: III.2 Coordonarea de acorduri internaţionale/naţionale cu alte universităţi/instituţii/organizaţii profesionale/firme
A35: Coordonator instituţional | B35: Coordonator departamental | C35: Coordonator acord punctual
A36: 50 | B36: 20 | C36: 5
A38: III4. Coordonare mobilităţi (inclusiv Erasmus)
A39: internaţionale/naţionale pentru studenţi | B39: internaţionale pentru cadre didactice şi staff
A40: 5 | B40: 5
A42: III5. Participare în comisii
A43: comisie de concurs pentru ocuparea posturilor vacante | B43: comisie de diplomă / disertaţie (activităţi neincluse în statele de funcţiuni) | C43: comisie de admitere
A44: 10 | B44: 10 | C44: 5
...

Sheet GRILA
A1: Universitatea Politehnica Timișoara
A2: =IF(ISBLANK(facultate), IF(ISBLANK(departament),"","Departament " & departament), "Facultatea " & facultate) -> Facultatea Automatică și Calculatoare
A3: =IF(ISBLANK(departament),"","Departamentul " & departament) -> Departamentul Automatică și Informatică Aplicată
C4: =CONCATENATE(functie," ",nume_candidat) -> Conferențiar Bojan-Dragos Claudia-Adina
B5: CRITERIUL I. ACTIVITĂȚI DIDACTICE ȘI PROFESIONALE
A6: 1 | B6: Teza de doctorat (susținută în perioada de evaluare) | C6: =I.1!L9 -> 0 | D6: 100 | E6: Titlul de doctor confirmat
A7: 2 | B7: Cărți*, cursuri*, manuale*, culegeri de probleme*, îndrumătoare de lucrări, proiectare* (acoperind discipline sau tematici cuprinse în planurile de învățământ ale specializărilor din UPT) | C7: =SUM(C8,C14,C20,C23) -> 54
A8: 2.1 | B8: Cărți de specialitate/capitole în cărți de specialitate, tratate/capitole în tratate, monografii/capitole în monografii | C8: =SUM(C9:C13) -> 54
A9: 2.1a | B9: Cărți de specialitate/capitole în cărți de specialitate, tratate/capitole în tratate, monografii/capitole în monografii publicate la edituri din străinătate de clasa A (clasificare UPT) | C9: ='I.2.1a'!$I$9 -> 0 | D9: 4,00*NP/NA | E9: NA = nr. autori NP = nr. pagini NEd = nr. editori ai volumului În cazul în care numărul de pagini în redactare proprie, NP, este definit exact (de ex. pe capitole), NA=1; în caz contrar, punctajul pentru nr. total de pagini, NP, se împarte la NA. La reeditări se ia în considerare doar ultima ediţie.
A10: 2.1b | B10: Cărți de specialitate/capitole în cărți de specialitate, tratate/capitole în tratate, monografii/capitole în monografii publicate la edituri din străinătate de clasa B (clasificare UPT) | C10: ='I.2.1b'!$I$9 -> 0 | D10: 2,00*NP/NA
A11: 2.1c | B11: Cărți de specialitate/capitole în cărți de specialitate, tratate/capitole în tratate, monografii/capitole în monografii publicate la alte edituri din străinătate | C11: ='I.2.1c'!$I$9 -> 0 | D11: 1.50*NP/NA
A12: 2.1d | B12: Cărți de specialitate/capitole în cărți de specialitate, tratate/capitole în tratate, monografii/capitole în monografii publicate la editura POLITEHNICA, editura Academiei, editura Tehnică, editura Polirom, Iasi (pt Stiintele Comunicarii) sau editura Paideia, Bucuresti (pt Arhitectura) | C12: ='I.2.1d'!$I$9 -> 54 | D12: 1.00*NP/NA
A13: 2.1e | B13: Cărți de specialitate/capitole în cărți de specialitate, tratate/capitole în tratate, monografii/capitole în monografii publicate la alte edituri din țară (cu ISBN și referențiere științifică) | C13: ='I.2.1e'!$I$9 -> 0 | D13: 0,50*NP/NA
A14: 2.2 | B14: Cărți de specialitate publicate în calitate de editor/coordonator (nu se includ contributiile ca editor de proceedings) | C14: =SUM(C15:C19) -> 0
A15: 2.2a | B15: Cărți de specialitate publicate în calitate de editor/coordonator publicate la edituri din străinătate de clasa A (clasificare UPT) | C15: ='I.2.2a'!$I$9 -> 0 | D15: 2,00*NP/NEd
A16: 2.2b | B16: Cărți de specialitate publicate în calitate de editor/coordonator publicate la edituri din străinătate de clasa B (clasificare UPT) | C16: ='I.2.2b'!$I$9 -> 0 | D16: 1,00*NP/NEd
A17: 2.2c | B17: Cărți de specialitate publicate în calitate de editor/coordonator publicate la alte edituri din străinătate | C17: ='I.2.2c'!$I$9 -> 0 | D17: 0,75*NP/NEd
A18: 2.2d | B18: Cărți de specialitate publicate în calitate de editor/coordonator publicate la editura POLITEHNICA, editura Academiei, editura Tehnică, editura Polirom, Iasi (pt Stiintele Comunicarii) sau editura Paideia, Bucuresti (pt Arhitectura) | C18: ='I.2.2d'!$I$9 -> 0 | D18: 0,50*NP/NEd
A19: 2.2e | B19: Cărți de specialitate publicate în calitate de editor/coordonator publicate la alte edituri din țară | C19: ='I.2.2e'!$I$9 -> 0 | D19: 0,25*NP/NEd
A20: 2.3 | B20: Culegeri de probleme, îndrumătoare de lucrări practice și de proiectare (cu ISBN și referențiere științifică) pt. învățământul superior | C20: =SUM(C21:C22) -> 0
A21: 2.3a | B21: Culegeri de probleme, îndrumătoare de lucrări practice și de proiectare (cu ISBN și referențiere științifică) pt. învățământul superior publicate la editura POLITEHNICA | C21: ='I.2.3a'!I9 -> 0 | D21: 1,00*NP/NA
A22: 2.3b | B22: Culegeri de probleme, îndrumătoare de lucrări practice și de proiectare (cu ISBN și referențiere științifică) pt. învățământul superior publicate la alte edituri din țară | C22: ='I.2.3b'!I9 -> 0 | D22: 0,50*NP/NA
A23: 2.4 | B23: Materiale complexe de tip e-learning publicate pe Campusul Virtual al UPT, care includ uneltele specifice e-learning | C23: ='I.2.4'!I9 -> 0 | D23: 50/NA
A24: 3 | B24: Programe de studiu / de formare continuă / postuniversitare existente sau nou introduse și acreditate/autorizate • Coordonator introducere program nou • Coordonator/responsabil program • Disciplină nou introdusă, într-o limbă de circulație internațională (punctează fiecare membru al colectivului nominalizat în fișa disciplinei) • Disciplină nou introdusă, în limba română (punctează fiecare membru al colectivului nominalizat în fișa disciplinei) | C24: =I.3!I11 -> 0 | D24: • 200 • 150 • 100 • 50 | E24: Se punctează fiecare program sau disciplină raportată.
A25: 4 | B25: Proiecte de diplomă / disertație conduse | C25: =I.4!E11 -> 380 | D25: 10 | E25: Se punctează fiecare lucrare condusă.
A26: 5 | B26: Punctaj realizat din evaluarea cadrelor didactice de către studenți (o singură fișă de evaluare, punctaj între 0 – 200 pct) | C26: =I.5!D11 -> 200 | D26: Punctaj fișă * 10 (înainte 2018) SAU Punctaj fișă (din 2018)
A27: 6 | B27: Organizarea de concursuri profesionale / conferințe studențești, cu participarea unor firme sau alți parteneri • Internaţionale, cu participarea unor firme sau alţi parteneri (coordonator/membru colectiv organizare) • Naţionale, cu participarea unor firme sau alţi parteneri (coordonator/membru colectiv organizare) • Locale, cu participarea unor firme sau alţi parteneri / interne UPT (coordonator/membru colectiv organizare) | C27: =I.6!F11 -> 0 | D27: • 100/50 • 50/25 • 25/10 | E27: Se punctează fiecare activitate (concurs/conferință) raportată.
A28: 7 | B28: Premii obținute cu studenții la etapa finală a concursurilor profesionale: • Internaționale (premiul I/II/III/mențiune) • Naționale (premiul I/II/III/mențiune) | C28: =I.7!F11 -> 0 | D28: • 100/90/80/70 • 50/45/40/35 | E28: Se punctează fiecare premiu raportat.
A29: 8 | B29: Organizare școli de vară/iarnă naționale/internaționale • Coordonator • Membru în colectivul de organizare • Susținere curs/modul trening | C29: =I.8!E11 -> 0 | D29: • 50 • 25 • 10 | E29: Se punctează fiecare activitate raportată.
A30: 9 | B30: Modernizare bază materială de laborator (certificarea se face de către directorul de departament) | C30: =I.9!D11 -> 0 | D30: 20/NA | E30: Se punctează fiecare activitate raportată. NA = nr. autori
B31: PUNCTAJ MINIM NECESAR – CRITERIUL I | C31: Profesor – 240
C32: Conferențiar – 200
B33: 10% din punctajul minim necesar pentru gradul didactic respectiv | C33: Sef lucrări – 140
C34: Asistent - 80
B35: CRITERIUL I. ACTIVITĂȚI DIDACTICE ȘI PROFESIONALE | C35: =SUM(C6,C7,C24,C25,C27,C26,C28,C29,C30) -> 634
B37: CRITERIUL II. ACTIVITĂȚI DE CERCETARE, RECUNOAȘTEREA ȘI IMPACTUL ACTIVITĂȚII
A38: 1 | B38: Articole publicate* in extenso într-o limbă de circulație internațională / brevete de invenții: | C38: =SUM(C39:C42) -> 5354 | E38: *inclusiv pe suport electronic.
A39: 1.1 | B39: Articole publicate în reviste de specialitate: • indexate ISI/WOS, cu factor de impact • indexate ISI/WOS dar fără factor de impact • indexate în baze de date internaționale specifice domeniului (BDI) sau în buletinele sau analele științifice ale UPT • din străinătate, neindexate • din țară, neindexate | C39: ='II1.1BDI'!G9+'II1.1'!G9 -> 4530 | D39: • 150*K*Q • 100*K • 80*K • 30*K • 15*K | E39: Q = cuartila revistei ISI/WOS K = coeficient funcție de numărul de autori Unde K = 1,0 pt. 1 autor Q = 6 pt. Q1 0,9 pt. 2 autori Q = 5 pt. Q2 0,8 pt. 3 autori Q = 3 pt. Q3 0,7 pt. 4 autori Q = 2 pt. Q4 0,6 pt. 5 autori 0,5 pt. ≥6 autori
A40: 1.2 | B40: Articole publicate în volumele unor manifestări științifice (Proceedings) internaționale: • indexate ISI/WOS • indexate în baze de date internaționale specifice domeniului (BDI) • din străinătate, neindexate • din țară, neindexate | C40: ='II1.2'!G9 -> 824 | D40: • 100*K • 60*K • 30*K • 15*K
A41: 1.3 | B41: Editor de proceedings conferinte, sub forma de volum cu ISBN: • Volum proceedings, cu ISBN, indexat ISI • Volum proceedings, cu ISBN, indexat BDI | C41: ='II1.3'!G9 -> 0 | D41: • 200/NEd • 100/NEd | E41: NEd = nr. editori
...

Sheet Sport-Competiții
A1: Competiții | B1: Cupa_României | C1: Campionate_naționale_universitare | D1: Campionate_naționale | E1: Campionate_internaționale | G1: Clasare
A2: Cupa României | B2: jocuri sportive | C2: Faza finală | D2: jocuri sportive | E2: jocuri sportive | G2: Locul 1
A3: Campionate naționale universitare | B3: sporturi individuale | C3: Faza pe zonă | D3: sporturi individuale | E3: sporturi individuale | G3: Locul 2
A4: Campionate naționale | C4: Faza pe centru universitar | G4: Locul 3
A5: Campionate internaționale

Sheet Coef
A1: Indicator | B1: Punctaj | E1: Autori | F1: K
A2: 3.1a | B2: 120 | E2: 1 | F2: 1
A3: 3.2a | B3: 100 | E3: 2 | F3: 0.9
A4: 3.2b | B4: 80 | E4: 3 | F4: 0.8
A5: 3.3a | B5: 80 | E5: 4 | F5: 0.7
A6: 3.3b | B6: 70 | E6: 5 | F6: 0.6
A7: 3.3c | B7: 80 | E7: 6 | F7: 0.5
A8: 3.4a | B8: 40 | E8: 7 | F8: 0.5
A9: 3.4b | B9: 30 | E9: 8 | F9: 0.5
A10: 3.5a | B10: 30 | E10: 9 | F10: 0.5
A11: 3.5b | B11: 20 | E11: 10 | F11: 0.5
A12: 3.6a | B12: 20 | E12: 11 | F12: 0.5
B13: 10 | E13: 12 | F13: 0.5
A14: 3.6b | B14: 10 | E14: 13 | F14: 0.5
A15: 3.7 | B15: 100 | E15: 14 | F15: 0.5
B16: 200 | E16: 15 | F16: 0.5
B17: 100 | E17: 16 | F17: 0.5
A18: 2.1a | B18: 4 | C18: Cărți de specialitate/capitole în cărți de specialitate, tratate/capitole în tratate, monografii/capitole în monografii publicate la edituri din străinătate de clasa A (clasificare UPT)
A19: 2.1b | B19: 2 | C19: Cărți de specialitate/capitole în cărți de specialitate, tratate/capitole în tratate, monografii/capitole în monografii publicate la edituri din străinătate de clasa B (clasificare UPT)
A20: 2.1c | B20: 1.5 | C20: Cărți de specialitate/capitole în cărți de specialitate, tratate/capitole în tratate, monografii/capitole în monografii publicate la alte edituri din străinătate
A21: 2.1d | B21: 1 | C21: Cărți de specialitate/capitole în cărți de specialitate, tratate/capitole în tratate, monografii/capitole în monografii publicate la editura POLITEHNICA, editura Academiei, editura Tehnică, editura Polirom, Iasi (pt Stiintele Comunicarii) sau editura Paideia, Bucuresti (pt Arhitectura)
A22: 2.1e | B22: 0.5 | C22: Cărți de specialitate/capitole în cărți de specialitate, tratate/capitole în tratate, monografii/capitole în monografii publicate la alte edituri din țară (cu ISBN și referențiere științifică)
A23: 2.2a | B23: 2 | C23: Cărți de specialitate publicate în calitate de editor/coordonator publicate la edituri din străinătate de clasa A (clasificare UPT)
A24: 2.2b | B24: 1 | C24: Cărți de specialitate publicate în calitate de editor/coordonator publicate la edituri din străinătate de clasa B (clasificare UPT)
A25: 2.2c | B25: =1.5/2 -> 0.75 | C25: Cărți de specialitate publicate în calitate de editor/coordonator publicate la alte edituri din străinătate
A26: 2.2d | B26: 0.5 | C26: Cărți de specialitate publicate în calitate de editor/coordonator publicate la editura POLITEHNICA, editura Academiei, editura Tehnică, editura Polirom, Iasi (pt Stiintele Comunicarii) sau editura Paideia, Bucuresti (pt Arhitectura)
A27: 2.2e | B27: =0.5/2 -> 0.25 | C27: Cărți de specialitate publicate în calitate de editor/coordonator publicate la alte edituri din țară
A28: 2.2 | B28: 0.5
A29: 2.3 | B29: 0.2
A30: 2.3a | B30: 1
A31: 2.3b | B31: 0.5
A32: 2.4 | B32: 50
A33: 2.5 | B33: 15
A34: 2.6 | B34: 0.1
A35: 2.7 | B35: 0.05
A36: 4.1a | B36: 100
B37: 80
B38: 0
B39: 20
A40: 4.1b | B40: 30
...

Sheet I.1
A1: Universitatea Politehnica Timișoara
A2: =IF(ISBLANK(facultate), IF(ISBLANK(departament),"","Departament " & departament), "Facultatea " & facultate) -> Facultatea Automatică și Calculatoare
A3: =IF(ISBLANK(departament),"","Departamentul " & departament) -> Departamentul Automatică și Informatică Aplicată
A4: I. ACTIVITĂȚI DIDACTICE ȘI PROFESIONALE
A5: 1. Teza de doctorat
L6: =CONCATENATE(functie," ",nume_candidat) -> Conferențiar Bojan-Dragos Claudia-Adina
A7: Nr. crt. | B7: Autor | C7: Conducător științific | D7: Titlul tezei de doctorat | E7: Domeniul | G7: Editura | H7: ISBN | I7: Anul | J7: Număr de pagini | K7: Teza de doctorat confirmată prin OMEdC/data | L7: Punctaj obținut | M7: candidat găsit
E8: fundamental | F8: de doctorat
L9: =SUMIF(L10:L14,">0") -> 0
A10: 1 | B10: Popescu Ion | C10: Ionescu Pop | D10: teza | E10: domeniu | F10: domeniu | G10: editura | H10: 0 | I10: 2024 | J10: 100 | K10: 10.04.2014 | L10: =IF(OR($B10="",$C10="",$D10="",$I10<an_initial,$I10>an_final,$K10="",$M10=FALSE),"",100) | M10: =IF(nume_candidat="",FALSE,ISNUMBER(SEARCH(nume_candidat,$B10))) -> FALSE
A11: 2 | L11: =IF(OR($B11="",$C11="",$D11="",$I11<an_initial,$I11>an_final,$K11="",$M11=FALSE),"",100) | M11: =IF(nume_candidat="",FALSE,ISNUMBER(SEARCH(nume_candidat,$B11))) -> FALSE
A12: 3 | L12: =IF(OR($B12="",$C12="",$D12="",$I12<an_initial,$I12>an_final,$K12="",$M12=FALSE),"",100) | M12: =IF(nume_candidat="",FALSE,ISNUMBER(SEARCH(nume_candidat,$B12))) -> FALSE
A13: 4 | L13: =IF(OR($B13="",$C13="",$D13="",$I13<an_initial,$I13>an_final,$K13="",$M13=FALSE),"",100) | M13: =IF(nume_candidat="",FALSE,ISNUMBER(SEARCH(nume_candidat,$B13))) -> FALSE
A14: 5 | L14: =IF(OR($B14="",$C14="",$D14="",$I14<an_initial,$I14>an_final,$K14="",$M14=FALSE),"",100) | M14: =IF(nume_candidat="",FALSE,ISNUMBER(SEARCH(nume_candidat,$B14))) -> FALSE

Sheet I.2.1a
A1: Universitatea Politehnica Timișoara
A2: =IF(ISBLANK(facultate), IF(ISBLANK(departament),"","Departament " & departament), "Facultatea " & facultate) -> Facultatea Automatică și Calculatoare
A3: =IF(ISBLANK(departament),"","Departamentul " & departament) -> Departamentul Automatică și Informatică Aplicată
A4: I. ACTIVITĂȚI DIDACTICE ȘI PROFESIONALE
A5: 2.1a Cărţi de specialitate, tratate, monografii publicate la edituri din străinătate de clasa A (clasificare UPT)
I6: =CONCATENATE(functie," ",nume_candidat) -> Conferențiar Bojan-Dragos Claudia-Adina | J6: =CONCATENATE(functie," ",nume_candidat) -> Conferențiar Bojan-Dragos Claudia-Adina
A7: Nr. crt. | B7: Autori | C7: Titlul cărții | D7: Editura | E7: ISBN | F7: Anul | G7: Număr total de pagini | H7: Număr de pagini contribuție proprie | I7: Punctaj obținut | K7: Număr de lucrări | M7: Nr. pag. red. pr. | O7: candidat găsit | P7: autori
I8: =CONCATENATE("ultimii ",durata_evaluare," ani") -> ultimii 5 ani | J8: întreaga activitate | K8: =CONCATENATE("ultimii ",durata_evaluare," ani") -> ultimii 5 ani | L8: întreaga activitate | M8: întreaga activitate | N8: =CONCATENATE("ultimii ",durata_evaluare," ani") -> ultimii 5 ani
I9: =SUMIF(I10:I1010,">0") -> 0 | J9: =SUMIF(J10:J108,">0") -> 0 | K9: =SUMIF(K10:K108,">0") -> 0 | L9: =SUMIF(L10:L108,">0") -> 0 | M9: =SUMIF(M10:M108,">0") -> 0 | N9: =SUMIF(N10:N108,">0") -> 0
A10: 1 | I10: =IF(OR($B10="",$C10="",$D10="",$E10="",$F10<an_initial,$F10>an_final,$O10=FALSE),"",IF($H10="",CS_STR_A*$G10/P10,CS_STR_A*$H10)) | J10: =IF(OR($B10="",$C10="",$D10="",$E10="",$F10="",$F10>an_final,$O10=FALSE),"",IF($H10="",CS_STR_A*$G10/P10,CS_STR_A*$H10)) | K10: =IF(OR($B10="",$C10="",$D10="",$E10="",$F10="",$F10>an_final,$O10=FALSE),"",IF($F10>=an_initial,1,"")) | L10: =IF(OR($B10="",$C10="",$D10="",$E10="",$F10="",$F10>an_final,$O10=FALSE),"",1) | M10: =IF(OR($B10="",$C10="",$D10="",$E10="",$F10="",$F10>an_final,$O10=FALSE),"",IF($H10="",$G10/P10,$H10)) | N10: =IF(OR($B10="",$C10="",$D10="",$E10="",$F10="",$F10<an_initial,$F10>an_final,$O10=FALSE),"",IF($H10="",$G10/P10,$H10)) | O10: =IF(nume_candidat="",FALSE,ISNUMBER(SEARCH(nume_candidat,$B10))) -> FALSE | P10: =LEN(B10)-LEN(SUBSTITUTE(B10,",",""))+1 -> 1
A11: 2 | I11: =IF(OR($B11="",$C11="",$D11="",$E11="",$F11<an_initial,$F11>an_final,$O11=FALSE),"",IF($H11="",CS_STR_A*$G11/P11,CS_STR_A*$H11)) | J11: =IF(OR($B11="",$C11="",$D11="",$E11="",$F11="",$F11>an_final,$O11=FALSE),"",IF($H11="",CS_STR_A*$G11/P11,CS_STR_A*$H11)) | K11: =IF(OR($B11="",$C11="",$D11="",$E11="",$F11="",$F11>an_final,$O11=FALSE),"",IF($F11>=an_initial,1,"")) | L11: =IF(OR($B11="",$C11="",$D11="",$E11="",$F11="",$F11>an_final,$O11=FALSE),"",1) | M11: =IF(OR($B11="",$C11="",$D11="",$E11="",$F11="",$F11>an_final,$O11=FALSE),"",IF($H11="",$G11/P11,$H11)) | N11: =IF(OR($B11="",$C11="",$D11="",$E11="",$F11="",$F11<an_initial,$F11>an_final,$O11=FALSE),"",IF($H11="",$G11/P11,$H11)) | O11: =IF(nume_candidat="",FALSE,ISNUMBER(SEARCH(nume_candidat,$B11))) -> FALSE | P11: =LEN(B11)-LEN(SUBSTITUTE(B11,",",""))+1 -> 1
A12: 3 | I12: =IF(OR($B12="",$C12="",$D12="",$E12="",$F12<an_initial,$F12>an_final,$O12=FALSE),"",IF($H12="",CS_STR_A*$G12/P12,CS_STR_A*$H12)) | J12: =IF(OR($B12="",$C12="",$D12="",$E12="",$F12="",$F12>an_final,$O12=FALSE),"",IF($H12="",CS_STR_A*$G12/P12,CS_STR_A*$H12)) | K12: =IF(OR($B12="",$C12="",$D12="",$E12="",$F12="",$F12>an_final,$O12=FALSE),"",IF($F12>=an_initial,1,"")) | L12: =IF(OR($B12="",$C12="",$D12="",$E12="",$F12="",$F12>an_final,$O12=FALSE),"",1) | M12: =IF(OR($B12="",$C12="",$D12="",$E12="",$F12="",$F12>an_final,$O12=FALSE),"",IF($H12="",$G12/P12,$H12)) | N12: =IF(OR($B12="",$C12="",$D12="",$E12="",$F12="",$F12<an_initial,$F12>an_final,$O12=FALSE),"",IF($H12="",$G12/P12,$H12)) | O12: =IF(nume_candidat="",FALSE,ISNUMBER(SEARCH(nume_candidat,$B12))) -> FALSE | P12: =LEN(B12)-LEN(SUBSTITUTE(B12,",",""))+1 -> 1
A13: 4 | I13: =IF(OR($B13="",$C13="",$D13="",$E13="",$F13<an_initial,$F13>an_final,$O13=FALSE),"",IF($H13="",CS_STR_A*$G13/P13,CS_STR_A*$H13)) | J13: =IF(OR($B13="",$C13="",$D13="",$E13="",$F13="",$F13>an_final,$O13=FALSE),"",IF($H13="",CS_STR_A*$G13/P13,CS_STR_A*$H13)) | K13: =IF(OR($B13="",$C13="",$D13="",$E13="",$F13="",$F13>an_final,$O13=FALSE),"",IF($F13>=an_initial,1,"")) | L13: =IF(OR($B13="",$C13="",$D13="",$E13="",$F13="",$F13>an_final,$O13=FALSE),"",1) | M13: =IF(OR($B13="",$C13="",$D13="",$E13="",$F13="",$F13>an_final,$O13=FALSE),"",IF($H13="",$G13/P13,$H13)) | N13: =IF(OR($B13="",$C13="",$D13="",$E13="",$F13="",$F13<an_initial,$F13>an_final,$O13=FALSE),"",IF($H13="",$G13/P13,$H13)) | O13: =IF(nume_candidat="",FALSE,ISNUMBER(SEARCH(nume_candidat,$B13))) -> FALSE | P13: =LEN(B13)-LEN(SUBSTITUTE(B13,",",""))+1 -> 1
A14: 5 | I14: =IF(OR($B14="",$C14="",$D14="",$E14="",$F14<an_initial,$F14>an_final,$O14=FALSE),"",IF($H14="",CS_STR_A*$G14/P14,CS_STR_A*$H14)) | J14: =IF(OR($B14="",$C14="",$D14="",$E14="",$F14="",$F14>an_final,$O14=FALSE),"",IF($H14="",CS_STR_A*$G14/P14,CS_STR_A*$H14)) | K14: =IF(OR($B14="",$C14="",$D14="",$E14="",$F14="",$F14>an_final,$O14=FALSE),"",IF($F14>=an_initial,1,"")) | L14: =IF(OR($B14="",$C14="",$D14="",$E14="",$F14="",$F14>an_final,$O14=FALSE),"",1) | M14: =IF(OR($B14="",$C14="",$D14="",$E14="",$F14="",$F14>an_final,$O14=FALSE),"",IF($H14="",$G14/P14,$H14)) | N14: =IF(OR($B14="",$C14="",$D14="",$E14="",$F14="",$F14<an_initial,$F14>an_final,$O14=FALSE),"",IF($H14="",$G14/P14,$H14)) | O14: =IF(nume_candidat="",FALSE,ISNUMBER(SEARCH(nume_candidat,$B14))) -> FALSE | P14: =LEN(B14)-LEN(SUBSTITUTE(B14,",",""))+1 -> 1
A15: 6 | I15: =IF(OR($B15="",$C15="",$D15="",$E15="",$F15<an_initial,$F15>an_final,$O15=FALSE),"",IF($H15="",CS_STR_A*$G15/P15,CS_STR_A*$H15)) | J15: =IF(OR($B15="",$C15="",$D15="",$E15="",$F15="",$F15>an_final,$O15=FALSE),"",IF($H15="",CS_STR_A*$G15/P15,CS_STR_A*$H15)) | K15: =IF(OR($B15="",$C15="",$D15="",$E15="",$F15="",$F15>an_final,$O15=FALSE),"",IF($F15>=an_initial,1,"")) | L15: =IF(OR($B15="",$C15="",$D15="",$E15="",$F15="",$F15>an_final,$O15=FALSE),"",1) | M15: =IF(OR($B15="",$C15="",$D15="",$E15="",$F15="",$F15>an_final,$O15=FALSE),"",IF($H15="",$G15/P15,$H15)) | N15: =IF(OR($B15="",$C15="",$D15="",$E15="",$F15="",$F15<an_initial,$F15>an_final,$O15=FALSE),"",IF($H15="",$G15/P15,$H15)) | O15: =IF(nume_candidat="",FALSE,ISNUMBER(SEARCH(nume_candidat,$B15))) -> FALSE | P15: =LEN(B15)-LEN(SUBSTITUTE(B15,",",""))+1 -> 1
A16: 7 | I16: =IF(OR($B16="",$C16="",$D16="",$E16="",$F16<an_initial,$F16>an_final,$O16=FALSE),"",IF($H16="",CS_STR_A*$G16/P16,CS_STR_A*$H16)) | J16: =IF(OR($B16="",$C16="",$D16="",$E16="",$F16="",$F16>an_final,$O16=FALSE),"",IF($H16="",CS_STR_A*$G16/P16,CS_STR_A*$H16)) | K16: =IF(OR($B16="",$C16="",$D16="",$E16="",$F16="",$F16>an_final,$O16=FALSE),"",IF($F16>=an_initial,1,"")) | L16: =IF(OR($B16="",$C16="",$D16="",$E16="",$F16="",$F16>an_final,$O16=FALSE),"",1) | M16: =IF(OR($B16="",$C16="",$D16="",$E16="",$F16="",$F16>an_final,$O16=FALSE),"",IF($H16="",$G16/P16,$H16)) | N16: =IF(OR($B16="",$C16="",$D16="",$E16="",$F16="",$F16<an_initial,$F16>an_final,$O16=FALSE),"",IF($H16="",$G16/P16,$H16)) | O16: =IF(nume_candidat="",FALSE,ISNUMBER(SEARCH(nume_candidat,$B16))) -> FALSE | P16: =LEN(B16)-LEN(SUBSTITUTE(B16,",",""))+1 -> 1
A17: 8 | I17: =IF(OR($B17="",$C17="",$D17="",$E17="",$F17<an_initial,$F17>an_final,$O17=FALSE),"",IF($H17="",CS_STR_A*$G17/P17,CS_STR_A*$H17)) | J17: =IF(OR($B17="",$C17="",$D17="",$E17="",$F17="",$F17>an_final,$O17=FALSE),"",IF($H17="",CS_STR_A*$G17/P17,CS_STR_A*$H17)) | K17: =IF(OR($B17="",$C17="",$D17="",$E17="",$F17="",$F17>an_final,$O17=FALSE),"",IF($F17>=an_initial,1,"")) | L17: =IF(OR($B17="",$C17="",$D17="",$E17="",$F17="",$F17>an_final,$O17=FALSE),"",1) | M17: =IF(OR($B17="",$C17="",$D17="",$E17="",$F17="",$F17>an_final,$O17=FALSE),"",IF($H17="",$G17/P17,$H17)) | N17: =IF(OR($B17="",$C17="",$D17="",$E17="",$F17="",$F17<an_initial,$F17>an_final,$O17=FALSE),"",IF($H17="",$G17/P17,$H17)) | O17: =IF(nume_candidat="",FALSE,ISNUMBER(SEARCH(nume_candidat,$B17))) -> FALSE | P17: =LEN(B17)-LEN(SUBSTITUTE(B17,",",""))+1 -> 1
A18: 9 | I18: =IF(OR($B18="",$C18="",$D18="",$E18="",$F18<an_initial,$F18>an_final,$O18=FALSE),"",IF($H18="",CS_STR_A*$G18/P18,CS_STR_A*$H18)) | J18: =IF(OR($B18="",$C18="",$D18="",$E18="",$F18="",$F18>an_final,$O18=FALSE),"",IF($H18="",CS_STR_A*$G18/P18,CS_STR_A*$H18)) | K18: =IF(OR($B18="",$C18="",$D18="",$E18="",$F18="",$F18>an_final,$O18=FALSE),"",IF($F18>=an_initial,1,"")) | L18: =IF(OR($B18="",$C18="",$D18="",$E18="",$F18="",$F18>an_final,$O18=FALSE),"",1) | M18: =IF(OR($B18="",$C18="",$D18="",$E18="",$F18="",$F18>an_final,$O18=FALSE),"",IF($H18="",$G18/P18,$H18)) | N18: =IF(OR($B18="",$C18="",$D18="",$E18="",$F18="",$F18<an_initial,$F18>an_final,$O18=FALSE),"",IF($H18="",$G18/P18,$H18)) | O18: =IF(nume_candidat="",FALSE,ISNUMBER(SEARCH(nume_candidat,$B18))) -> FALSE | P18: =LEN(B18)-LEN(SUBSTITUTE(B18,",",""))+1 -> 1
A19: 10 | I19: =IF(OR($B19="",$C19="",$D19="",$E19="",$F19<an_initial,$F19>an_final,$O19=FALSE),"",IF($H19="",CS_STR_A*$G19/P19,CS_STR_A*$H19)) | J19: =IF(OR($B19="",$C19="",$D19="",$E19="",$F19="",$F19>an_final,$O19=FALSE),"",IF($H19="",CS_STR_A*$G19/P19,CS_STR_A*$H19)) | K19: =IF(OR($B19="",$C19="",$D19="",$E19="",$F19="",$F19>an_final,$O19=FALSE),"",IF($F19>=an_initial,1,"")) | L19: =IF(OR($B19="",$C19="",$D19="",$E19="",$F19="",$F19>an_final,$O19=FALSE),"",1) | M19: =IF(OR($B19="",$C19="",$D19="",$E19="",$F19="",$F19>an_final,$O19=FALSE),"",IF($H19="",$G19/P19,$H19)) | N19: =IF(OR($B19="",$C19="",$D19="",$E19="",$F19="",$F19<an_initial,$F19>an_final,$O19=FALSE),"",IF($H19="",$G19/P19,$H19)) | O19: =IF(nume_candidat="",FALSE,ISNUMBER(SEARCH(nume_candidat,$B19))) -> FALSE | P19: =LEN(B19)-LEN(SUBSTITUTE(B19,",",""))+1 -> 1
A20: 11 | I20: =IF(OR($B20="",$C20="",$D20="",$E20="",$F20<an_initial,$F20>an_final,$O20=FALSE),"",IF($H20="",CS_STR_A*$G20/P20,CS_STR_A*$H20)) | J20: =IF(OR($B20="",$C20="",$D20="",$E20="",$F20="",$F20>an_final,$O20=FALSE),"",IF($H20="",CS_STR_A*$G20/P20,CS_STR_A*$H20)) | K20: =IF(OR($B20="",$C20="",$D20="",$E20="",$F20="",$F20>an_final,$O20=FALSE),"",IF($F20>=an_initial,1,"")) | L20: =IF(OR($B20="",$C20="",$D20="",$E20="",$F20="",$F20>an_final,$O20=FALSE),"",1) | M20: =IF(OR($B20="",$C20="",$D20="",$E20="",$F20="",$F20>an_final,$O20=FALSE),"",IF($H20="",$G20/P20,$H20)) | N20: =IF(OR($B20="",$C20="",$D20="",$E20="",$F20="",$F20<an_initial,$F20>an_final,$O20=FALSE),"",IF($H20="",$G20/P20,$H20)) | O20: =IF(nume_candidat="",FALSE,ISNUMBER(SEARCH(nume_candidat,$B20))) -> FALSE | P20: =LEN(B20)-LEN(SUBSTITUTE(B20,",",""))+1 -> 1
A21: 12 | I21: =IF(OR($B21="",$C21="",$D21="",$E21="",$F21<an_initial,$F21>an_final,$O21=FALSE),"",IF($H21="",CS_STR_A*$G21/P21,CS_STR_A*$H21)) | J21: =IF(OR($B21="",$C21="",$D21="",$E21="",$F21="",$F21>an_final,$O21=FALSE),"",IF($H21="",CS_STR_A*$G21/P21,CS_STR_A*$H21)) | K21: =IF(OR($B21="",$C21="",$D21="",$E21="",$F21="",$F21>an_final,$O21=FALSE),"",IF($F21>=an_initial,1,"")) | L21: =IF(OR($B21="",$C21="",$D21="",$E21="",$F21="",$F21>an_final,$O21=FALSE),"",1) | M21: =IF(OR($B21="",$C21="",$D21="",$E21="",$F21="",$F21>an_final,$O21=FALSE),"",IF($H21="",$G21/P21,$H21)) | N21: =IF(OR($B21="",$C21="",$D21="",$E21="",$F21="",$F21<an_initial,$F21>an_final,$O21=FALSE),"",IF($H21="",$G21/P21,$H21)) | O21: =IF(nume_candidat="",FALSE,ISNUMBER(SEARCH(nume_candidat,$B21))) -> FALSE | P21: =LEN(B21)-LEN(SUBSTITUTE(B21,",",""))+1 -> 1
... A259: 250 | I259: =IF(OR($B259="",$C259="",$D259="",$E259="",$F259<an_initial,$F259>an_final,$O259=FALSE),"",IF($H259="",CS_STR_A*$G259/P259,CS_STR_A*$H259)) | J259: =IF(OR($B259="",$C259="",$D259="",$E259="",$F259="",$F259>an_final,$O259=FALSE),"",IF($H259="",CS_STR_A*$G259/P259,CS_STR_A*$H259)) | K259: =IF(OR($B259="",$C259="",$D259="",$E259="",$F259="",$F259>an_final,$O259=FALSE),"",IF($F259>=an_initial,1,"")) | L259: =IF(OR($B259="",$C259="",$D259="",$E259="",$F259="",$F259>an_final,$O259=FALSE),"",1) | M259: =IF(OR($B259="",$C259="",$D259="",$E259="",$F259="",$F259>an_final,$O259=FALSE),"",IF($H259="",$G259/P259,$H259)) | N259: =IF(OR($B259="",$C259="",$D259="",$E259="",$F259="",$F259<an_initial,$F259>an_final,$O259=FALSE),"",IF($H259="",$G259/P259,$H259)) | O259: =IF(nume_candidat="",FALSE,ISNUMBER(SEARCH(nume_candidat,$B259))) -> FALSE | P259: =LEN(B259)-LEN(SUBSTITUTE(B259,",",""))+1 -> 1

Sheet I.2.1b
A1: Universitatea Politehnica Timișoara
A2: =IF(ISBLANK(facultate), IF(ISBLANK(departament),"","Departament " & departament), "Facultatea " & facultate) -> Facultatea Automatică și Calculatoare
A3: =IF(ISBLANK(departament),"","Departamentul " & departament) -> Departamentul Automatică și Informatică Aplicată
A4: I. ACTIVITĂȚI DIDACTICE ȘI PROFESIONALE
A5: 2.1b Cărţi de specialitate, tratate, monografii publicate la edituri din străinătate de clasa B (clasificare UPT)
I6: =CONCATENATE(functie," ",nume_candidat) -> Conferențiar Bojan-Dragos Claudia-Adina | J6: =CONCATENATE(functie," ",nume_candidat) -> Conferențiar Bojan-Dragos Claudia-Adina
A7: Nr. crt. | B7: Autori | C7: Titlul cărții | D7: Editura | E7: ISBN | F7: Anul | G7: Număr total de pagini | H7: Număr de pagini contribuție proprie | I7: Punctaj obținut | K7: Număr de lucrări | M7: Nr. pag. red. pr. | O7: candidat găsit | P7: autori
I8: =CONCATENATE("ultimii ",durata_evaluare," ani") -> ultimii 5 ani | J8: întreaga activitate | K8: =CONCATENATE("ultimii ",durata_evaluare," ani") -> ultimii 5 ani | L8: întreaga activitate | M8: întreaga activitate | N8: =CONCATENATE("ultimii ",durata_evaluare," ani") -> ultimii 5 ani
I9: =SUMIF(I10:I1010,">0") -> 0 | J9: =SUMIF(J10:J108,">0") -> 0 | K9: =SUMIF(K10:K108,">0") -> 0 | L9: =SUMIF(L10:L108,">0") -> 0 | M9: =SUMIF(M10:M108,">0") -> 0 | N9: =SUMIF(N10:N108,">0") -> 0
A10: 1 | I10: =IF(OR($B10="",$C10="",$D10="",$E10="",$F10<an_initial,$F10>an_final,$O10=FALSE),"",IF($H10="",CS_STR_B*$G10/P10,CS_STR_B*$H10)) | J10: =IF(OR($B10="",$C10="",$D10="",$E10="",$F10="",$F10>an_final,$O10=FALSE),"",IF($H10="",CS_STR_B*$G10/P10,CS_STR_B*$H10)) | K10: =IF(OR($B10="",$C10="",$D10="",$E10="",$F10="",$F10>an_final,$O10=FALSE),"",IF($F10>=an_initial,1,"")) | L10: =IF(OR($B10="",$C10="",$D10="",$E10="",$F10="",$F10>an_final,$O10=FALSE),"",1) | M10: =IF(OR($B10="",$C10="",$D10="",$E10="",$F10="",$F10>an_final,$O10=FALSE),"",IF($H10="",$G10/P10,$H10)) | N10: =IF(OR($B10="",$C10="",$D10="",$E10="",$F10="",$F10<an_initial,$F10>an_final,$O10=FALSE),"",IF($H10="",$G10/P10,$H10)) | O10: =IF(nume_candidat="",FALSE,ISNUMBER(SEARCH(nume_candidat,$B10))) -> FALSE | P10: =LEN(B10)-LEN(SUBSTITUTE(B10,",",""))+1 -> 1
A11: 2 | I11: =IF(OR($B11="",$C11="",$D11="",$E11="",$F11<an_initial,$F11>an_final,$O11=FALSE),"",IF($H11="",CS_STR_B*$G11/P11,CS_STR_B*$H11)) | J11: =IF(OR($B11="",$C11="",$D11="",$E11="",$F11="",$F11>an_final,$O11=FALSE),"",IF($H11="",CS_STR_B*$G11/P11,CS_STR_B*$H11)) | K11: =IF(OR($B11="",$C11="",$D11="",$E11="",$F11="",$F11>an_final,$O11=FALSE),"",IF($F11>=an_initial,1,"")) | L11: =IF(OR($B11="",$C11="",$D11="",$E11="",$F11="",$F11>an_final,$O11=FALSE),"",1) | M11: =IF(OR($B11="",$C11="",$D11="",$E11="",$F11="",$F11>an_final,$O11=FALSE),"",IF($H11="",$G11/P11,$H11)) | N11: =IF(OR($B11="",$C11="",$D11="",$E11="",$F11="",$F11<an_initial,$F11>an_final,$O11=FALSE),"",IF($H11="",$G11/P11,$H11)) | O11: =IF(nume_candidat="",FALSE,ISNUMBER(SEARCH(nume_candidat,$B11))) -> FALSE | P11: =LEN(B11)-LEN(SUBSTITUTE(B11,",",""))+1 -> 1
A12: 3 | I12: =IF(OR($B12="",$C12="",$D12="",$E12="",$F12<an_initial,$F12>an_final,$O12=FALSE),"",IF($H12="",CS_STR_B*$G12/P12,CS_STR_B*$H12)) | J12: =IF(OR($B12="",$C12="",$D12="",$E12="",$F12="",$F12>an_final,$O12=FALSE),"",IF($H12="",CS_STR_B*$G12/P12,CS_STR_B*$H12)) | K12: =IF(OR($B12="",$C12="",$D12="",$E12="",$F12="",$F12>an_final,$O12=FALSE),"",IF($F12>=an_initial,1,"")) | L12: =IF(OR($B12="",$C12="",$D12="",$E12="",$F12="",$F12>an_final,$O12=FALSE),"",1) | M12: =IF(OR($B12="",$C12="",$D12="",$E12="",$F12="",$F12>an_final,$O12=FALSE),"",IF($H12="",$G12/P12,$H12)) | N12: =IF(OR($B12="",$C12="",$D12="",$E12="",$F12="",$F12<an_initial,$F12>an_final,$O12=FALSE),"",IF($H12="",$G12/P12,$H12)) | O12: =IF(nume_candidat="",FALSE,ISNUMBER(SEARCH(nume_candidat,$B12))) -> FALSE | P12: =LEN(B12)-LEN(SUBSTITUTE(B12,",",""))+1 -> 1
A13: 4 | I13: =IF(OR($B13="",$C13="",$D13="",$E13="",$F13<an_initial,$F13>an_final,$O13=FALSE),"",IF($H13="",CS_STR_B*$G13/P13,CS_STR_B*$H13)) | J13: =IF(OR($B13="",$C13="",$D13="",$E13="",$F13="",$F13>an_final,$O13=FALSE),"",IF($H13="",CS_STR_B*$G13/P13,CS_STR_B*$H13)) | K13: =IF(OR($B13="",$C13="",$D13="",$E13="",$F13="",$F13>an_final,$O13=FALSE),"",IF($F13>=an_initial,1,"")) | L13: =IF(OR($B13="",$C13="",$D13="",$E13="",$F13="",$F13>an_final,$O13=FALSE),"",1) | M13: =IF(OR($B13="",$C13="",$D13="",$E13="",$F13="",$F13>an_final,$O13=FALSE),"",IF($H13="",$G13/P13,$H13)) | N13: =IF(OR($B13="",$C13="",$D13="",$E13="",$F13="",$F13<an_initial,$F13>an_final,$O13=FALSE),"",IF($H13="",$G13/P13,$H13)) | O13: =IF(nume_candidat="",FALSE,ISNUMBER(SEARCH(nume_candidat,$B13))) -> FALSE | P13: =LEN(B13)-LEN(SUBSTITUTE(B13,",",""))+1 -> 1
A14: 5 | I14: =IF(OR($B14="",$C14="",$D14="",$E14="",$F14<an_initial,$F14>an_final,$O14=FALSE),"",IF($H14="",CS_STR_B*$G14/P14,CS_STR_B*$H14)) | J14: =IF(OR($B14="",$C14="",$D14="",$E14="",$F14="",$F14>an_final,$O14=FALSE),"",IF($H14="",CS_STR_B*$G14/P14,CS_STR_B*$H14)) | K14: =IF(OR($B14="",$C14="",$D14="",$E14="",$F14="",$F14>an_final,$O14=FALSE),"",IF($F14>=an_initial,1,"")) | L14: =IF(OR($B14="",$C14="",$D14="",$E14="",$F14="",$F14>an_final,$O14=FALSE),"",1) | M14: =IF(OR($B14="",$C14="",$D14="",$E14="",$F14="",$F14>an_final,$O14=FALSE),"",IF($H14="",$G14/P14,$H14)) | N14: =IF(OR($B14="",$C14="",$D14="",$E14="",$F14="",$F14<an_initial,$F14>an_final,$O14=FALSE),"",IF($H14="",$G14/P14,$H14)) | O14: =IF(nume_candidat="",FALSE,ISNUMBER(SEARCH(nume_candidat,$B14))) -> FALSE | P14: =LEN(B14)-LEN(SUBSTITUTE(B14,",",""))+1 -> 1
A15: 6 | I15: =IF(OR($B15="",$C15="",$D15="",$E15="",$F15<an_initial,$F15>an_final,$O15=FALSE),"",IF($H15="",CS_STR_B*$G15/P15,CS_STR_B*$H15)) | J15: =IF(OR($B15="",$C15="",$D15="",$E15="",$F15="",$F15>an_final,$O15=FALSE),"",IF($H15="",CS_STR_B*$G15/P15,CS_STR_B*$H15)) | K15: =IF(OR($B15="",$C15="",$D15="",$E15="",$F15="",$F15>an_final,$O15=FALSE),"",IF($F15>=an_initial,1,"")) | L15: =IF(OR($B15="",$C15="",$D15="",$E15="",$F15="",$F15>an_final,$O15=FALSE),"",1) | M15: =IF(OR($B15="",$C15="",$D15="",$E15="",$F15="",$F15>an_final,$O15=FALSE),"",IF($H15="",$G15/P15,$H15)) | N15: =IF(OR($B15="",$C15="",$D15="",$E15="",$F15="",$F15<an_initial,$F15>an_final,$O15=FALSE),"",IF($H15="",$G15/P15,$H15)) | O15: =IF(nume_candidat="",FALSE,ISNUMBER(SEARCH(nume_candidat,$B15))) -> FALSE | P15: =LEN(B15)-LEN(SUBSTITUTE(B15,",",""))+1 -> 1
A16: 7 | I16: =IF(OR($B16="",$C16="",$D16="",$E16="",$F16<an_initial,$F16>an_final,$O16=FALSE),"",IF($H16="",CS_STR_B*$G16/P16,CS_STR_B*$H16)) | J16: =IF(OR($B16="",$C16="",$D16="",$E16="",$F16="",$F16>an_final,$O16=FALSE),"",IF($H16="",CS_STR_B*$G16/P16,CS_STR_B*$H16)) | K16: =IF(OR($B16="",$C16="",$D16="",$E16="",$F16="",$F16>an_final,$O16=FALSE),"",IF($F16>=an_initial,1,"")) | L16: =IF(OR($B16="",$C16="",$D16="",$E16="",$F16="",$F16>an_final,$O16=FALSE),"",1) | M16: =IF(OR($B16="",$C16="",$D16="",$E16="",$F16="",$F16>an_final,$O16=FALSE),"",IF($H16="",$G16/P16,$H16)) | N16: =IF(OR($B16="",$C16="",$D16="",$E16="",$F16="",$F16<an_initial,$F16>an_final,$O16=FALSE),"",IF($H16="",$G16/P16,$H16)) | O16: =IF(nume_candidat="",FALSE,ISNUMBER(SEARCH(nume_candidat,$B16))) -> FALSE | P16: =LEN(B16)-LEN(SUBSTITUTE(B16,",",""))+1 -> 1
A17: 8 | I17: =IF(OR($B17="",$C17="",$D17="",$E17="",$F17<an_initial,$F17>an_final,$O17=FALSE),"",IF($H17="",CS_STR_B*$G17/P17,CS_STR_B*$H17)) | J17: =IF(OR($B17="",$C17="",$D17="",$E17="",$F17="",$F17>an_final,$O17=FALSE),"",IF($H17="",CS_STR_B*$G17/P17,CS_STR_B*$H17)) | K17: =IF(OR($B17="",$C17="",$D17="",$E17="",$F17="",$F17>an_final,$O17=FALSE),"",IF($F17>=an_initial,1,"")) | L17: =IF(OR($B17="",$C17="",$D17="",$E17="",$F17="",$F17>an_final,$O17=FALSE),"",1) | M17: =IF(OR($B17="",$C17="",$D17="",$E17="",$F17="",$F17>an_final,$O17=FALSE),"",IF($H17="",$G17/P17,$H17)) | N17: =IF(OR($B17="",$C17="",$D17="",$E17="",$F17="",$F17<an_initial,$F17>an_final,$O17=FALSE),"",IF($H17="",$G17/P17,$H17)) | O17: =IF(nume_candidat="",FALSE,ISNUMBER(SEARCH(nume_candidat,$B17))) -> FALSE | P17: =LEN(B17)-LEN(SUBSTITUTE(B17,",",""))+1 -> 1
A18: 9 | I18: =IF(OR($B18="",$C18="",$D18="",$E18="",$F18<an_initial,$F18>an_final,$O18=FALSE),"",IF($H18="",CS_STR_B*$G18/P18,CS_STR_B*$H18)) | J18: =IF(OR($B18="",$C18="",$D18="",$E18="",$F18="",$F18>an_final,$O18=FALSE),"",IF($H18="",CS_STR_B*$G18/P18,CS_STR_B*$H18)) | K18: =IF(OR($B18="",$C18="",$D18="",$E18="",$F18="",$F18>an_final,$O18=FALSE),"",IF($F18>=an_initial,1,"")) | L18: =IF(OR($B18="",$C18="",$D18="",$E18="",$F18="",$F18>an_final,$O18=FALSE),"",1) | M18: =IF(OR($B18="",$C18="",$D18="",$E18="",$F18="",$F18>an_final,$O18=FALSE),"",IF($H18="",$G18/P18,$H18)) | N18: =IF(OR($B18="",$C18="",$D18="",$E18="",$F18="",$F18<an_initial,$F18>an_final,$O18=FALSE),"",IF($H18="",$G18/P18,$H18)) | O18: =IF(nume_candidat="",FALSE,ISNUMBER(SEARCH(nume_candidat,$B18))) -> FALSE | P18: =LEN(B18)-LEN(SUBSTITUTE(B18,",",""))+1 -> 1
A19: 10 | I19: =IF(OR($B19="",$C19="",$D19="",$E19="",$F19<an_initial,$F19>an_final,$O19=FALSE),"",IF($H19="",CS_STR_B*$G19/P19,CS_STR_B*$H19)) | J19: =IF(OR($B19="",$C19="",$D19="",$E19="",$F19="",$F19>an_final,$O19=FALSE),"",IF($H19="",CS_STR_B*$G19/P19,CS_STR_B*$H19)) | K19: =IF(OR($B19="",$C19="",$D19="",$E19="",$F19="",$F19>an_final,$O19=FALSE),"",IF($F19>=an_initial,1,"")) | L19: =IF(OR($B19="",$C19="",$D19="",$E19="",$F19="",$F19>an_final,$O19=FALSE),"",1) | M19: =IF(OR($B19="",$C19="",$D19="",$E19="",$F19="",$F19>an_final,$O19=FALSE),"",IF($H19="",$G19/P19,$H19)) | N19: =IF(OR($B19="",$C19="",$D19="",$E19="",$F19="",$F19<an_initial,$F19>an_final,$O19=FALSE),"",IF($H19="",$G19/P19,$H19)) | O19: =IF(nume_candidat="",FALSE,ISNUMBER(SEARCH(nume_candidat,$B19))) -> FALSE | P19: =LEN(B19)-LEN(SUBSTITUTE(B19,",",""))+1 -> 1
A20: 11 | I20: =IF(OR($B20="",$C20="",$D20="",$E20="",$F20<an_initial,$F20>an_final,$O20=FALSE),"",IF($H20="",CS_STR_B*$G20/P20,CS_STR_B*$H20)) | J20: =IF(OR($B20="",$C20="",$D20="",$E20="",$F20="",$F20>an_final,$O20=FALSE),"",IF($H20="",CS_STR_B*$G20/P20,CS_STR_B*$H20)) | K20: =IF(OR($B20="",$C20="",$D20="",$E20="",$F20="",$F20>an_final,$O20=FALSE),"",IF($F20>=an_initial,1,"")) | L20: =IF(OR($B20="",$C20="",$D20="",$E20="",$F20="",$F20>an_final,$O20=FALSE),"",1) | M20: =IF(OR($B20="",$C20="",$D20="",$E20="",$F20="",$F20>an_final,$O20=FALSE),"",IF($H20="",$G20/P20,$H20)) | N20: =IF(OR($B20="",$C20="",$D20="",$E20="",$F20="",$F20<an_initial,$F20>an_final,$O20=FALSE),"",IF($H20="",$G20/P20,$H20)) | O20: =IF(nume_candidat="",FALSE,ISNUMBER(SEARCH(nume_candidat,$B20))) -> FALSE | P20: =LEN(B20)-LEN(SUBSTITUTE(B20,",",""))+1 -> 1
A21: 12 | I21: =IF(OR($B21="",$C21="",$D21="",$E21="",$F21<an_initial,$F21>an_final,$O21=FALSE),"",IF($H21="",CS_STR_B*$G21/P21,CS_STR_B*$H21)) | J21: =IF(OR($B21="",$C21="",$D21="",$E21="",$F21="",$F21>an_final,$O21=FALSE),"",IF($H21="",CS_STR_B*$G21/P21,CS_STR_B*$H21)) | K21: =IF(OR($B21="",$C21="",$D21="",$E21="",$F21="",$F21>an_final,$O21=FALSE),"",IF($F21>=an_initial,1,"")) | L21: =IF(OR($B21="",$C21="",$D21="",$E21="",$F21="",$F21>an_final,$O21=FALSE),"",1) | M21: =IF(OR($B21="",$C21="",$D21="",$E21="",$F21="",$F21>an_final,$O21=FALSE),"",IF($H21="",$G21/P21,$H21)) | N21: =IF(OR($B21="",$C21="",$D21="",$E21="",$F21="",$F21<an_initial,$F21>an_final,$O21=FALSE),"",IF($H21="",$G21/P21,$H21)) | O21: =IF(nume_candidat="",FALSE,ISNUMBER(SEARCH(nume_candidat,$B21))) -> FALSE | P21: =LEN(B21)-LEN(SUBSTITUTE(B21,",",""))+1 -> 1
... A259: 250 | I259: =IF(OR($B259="",$C259="",$D259="",$E259="",$F259<an_initial,$F259>an_final,$O259=FALSE),"",IF($H259="",CS_STR_B*$G259/P259,CS_STR_B*$H259)) | J259: =IF(OR($B259="",$C259="",$D259="",$E259="",$F259="",$F259>an_final,$O259=FALSE),"",IF($H259="",CS_STR_B*$G259/P259,CS_STR_B*$H259)) | K259: =IF(OR($B259="",$C259="",$D259="",$E259="",$F259="",$F259>an_final,$O259=FALSE),"",IF($F259>=an_initial,1,"")) | L259: =IF(OR($B259="",$C259="",$D259="",$E259="",$F259="",$F259>an_final,$O259=FALSE),"",1) | M259: =IF(OR($B259="",$C259="",$D259="",$E259="",$F259="",$F259>an_final,$O259=FALSE),"",IF($H259="",$G259/P259,$H259)) | N259: =IF(OR($B259="",$C259="",$D259="",$E259="",$F259="",$F259<an_initial,$F259>an_final,$O259=FALSE),"",IF($H259="",$G259/P259,$H259)) | O259: =IF(nume_candidat="",FALSE,ISNUMBER(SEARCH(nume_candidat,$B259))) -> FALSE | P259: =LEN(B259)-LEN(SUBSTITUTE(B259,",",""))+1 -> 1

Sheet I.2.1c
A1: Universitatea Politehnica Timișoara
A2: =IF(ISBLANK(facultate), IF(ISBLANK(departament),"","Departament " & departament), "Facultatea " & facultate) -> Facultatea Automatică și Calculatoare
A3: =IF(ISBLANK(departament),"","Departamentul " & departament) -> Departamentul Automatică și Informatică Aplicată
A4: I. ACTIVITĂȚI DIDACTICE ȘI PROFESIONALE
A5: 2.1c Cărţi de specialitate, tratate, monografii publicate la alte edituri din străinătate
I6: =CONCATENATE(functie," ",nume_candidat) -> Conferențiar Bojan-Dragos Claudia-Adina | J6: =CONCATENATE(functie," ",nume_candidat) -> Conferențiar Bojan-Dragos Claudia-Adina
A7: Nr. crt. | B7: Autori | C7: Titlul cărții | D7: Editura | E7: ISBN | F7: Anul | G7: Număr total de pagini | H7: Număr de pagini contribuție proprie | I7: Punctaj obținut | K7: Număr de lucrări | M7: Nr. pag. red. pr. | O7: candidat găsit | P7: autori
I8: =CONCATENATE("ultimii ",durata_evaluare," ani") -> ultimii 5 ani | J8: întreaga activitate | K8: =CONCATENATE("ultimii ",durata_evaluare," ani") -> ultimii 5 ani | L8: întreaga activitate | M8: întreaga activitate | N8: =CONCATENATE("ultimii ",durata_evaluare," ani") -> ultimii 5 ani
I9: =SUMIF(I10:I1010,">0") -> 0 | J9: =SUMIF(J10:J214,">0") -> 0 | K9: =SUMIF(K10:K214,">0") -> 0 | L9: =SUMIF(L10:L214,">0") -> 0 | M9: =SUMIF(M10:M214,">0") -> 0 | N9: =SUMIF(N10:N214,">0") -> 0
A10: 1 | I10: =IF(OR($B10="",$C10="",$D10="",$E10="",$F10<an_initial,$F10>an_final,$O10=FALSE),"",IF($H10="",CS_STR_ALTE*$G10/P10,CS_STR_ALTE*$H10)) | J10: =IF(OR($B10="",$C10="",$D10="",$E10="",$F10="",$F10>an_final,$O10=FALSE),"",IF($H10="",CS_STR_ALTE*$G10/P10,CS_STR_ALTE*$H10)) | K10: =IF(OR($B10="",$C10="",$D10="",$E10="",$F10="",$F10>an_final,$O10=FALSE),"",IF($F10>=an_initial,1,"")) | L10: =IF(OR($B10="",$C10="",$D10="",$E10="",$F10="",$F10>an_final,$O10=FALSE),"",1) | M10: =IF(OR($B10="",$C10="",$D10="",$E10="",$F10="",$F10>an_final,$O10=FALSE),"",IF($H10="",$G10/P10,$H10)) | N10: =IF(OR($B10="",$C10="",$D10="",$E10="",$F10="",$F10<an_initial,$F10>an_final,$O10=FALSE),"",IF($H10="",$G10/P10,$H10)) | O10: =IF(nume_candidat="",FALSE,ISNUMBER(SEARCH(nume_candidat,$B10))) -> FALSE | P10: =LEN(B10)-LEN(SUBSTITUTE(B10,",",""))+1 -> 1
A11: 2 | I11: =IF(OR($B11="",$C11="",$D11="",$E11="",$F11<an_initial,$F11>an_final,$O11=FALSE),"",IF($H11="",CS_STR_ALTE*$G11/P11,CS_STR_ALTE*$H11)) | J11: =IF(OR($B11="",$C11="",$D11="",$E11="",$F11="",$F11>an_final,$O11=FALSE),"",IF($H11="",CS_STR_ALTE*$G11/P11,CS_STR_ALTE*$H11)) | K11: =IF(OR($B11="",$C11="",$D11="",$E11="",$F11="",$F11>an_final,$O11=FALSE),"",IF($F11>=an_initial,1,"")) | L11: =IF(OR($B11="",$C11="",$D11="",$E11="",$F11="",$F11>an_final,$O11=FALSE),"",1) | M11: =IF(OR($B11="",$C11="",$D11="",$E11="",$F11="",$F11>an_final,$O11=FALSE),"",IF($H11="",$G11/P11,$H11)) | N11: =IF(OR($B11="",$C11="",$D11="",$E11="",$F11="",$F11<an_initial,$F11>an_final,$O11=FALSE),"",IF($H11="",$G11/P11,$H11)) | O11: =IF(nume_candidat="",FALSE,ISNUMBER(SEARCH(nume_candidat,$B11))) -> FALSE | P11: =LEN(B11)-LEN(SUBSTITUTE(B11,",",""))+1 -> 1
A12: 3 | I12: =IF(OR($B12="",$C12="",$D12="",$E12="",$F12<an_initial,$F12>an_final,$O12=FALSE),"",IF($H12="",CS_STR_ALTE*$G12/P12,CS_STR_ALTE*$H12)) | J12: =IF(OR($B12="",$C12="",$D12="",$E12="",$F12="",$F12>an_final,$O12=FALSE),"",IF($H12="",CS_STR_ALTE*$G12/P12,CS_STR_ALTE*$H12)) | K12: =IF(OR($B12="",$C12="",$D12="",$E12="",$F12="",$F12>an_final,$O12=FALSE),"",IF($F12>=an_initial,1,"")) | L12: =IF(OR($B12="",$C12="",$D12="",$E12="",$F12="",$F12>an_final,$O12=FALSE),"",1) | M12: =IF(OR($B12="",$C12="",$D12="",$E12="",$F12="",$F12>an_final,$O12=FALSE),"",IF($H12="",$G12/P12,$H12)) | N12: =IF(OR($B12="",$C12="",$D12="",$E12="",$F12="",$F12<an_initial,$F12>an_final,$O12=FALSE),"",IF($H12="",$G12/P12,$H12)) | O12: =IF(nume_candidat="",FALSE,ISNUMBER(SEARCH(nume_candidat,$B12))) -> FALSE | P12: =LEN(B12)-LEN(SUBSTITUTE(B12,",",""))+1 -> 1
A13: 4 | I13: =IF(OR($B13="",$C13="",$D13="",$E13="",$F13<an_initial,$F13>an_final,$O13=FALSE),"",IF($H13="",CS_STR_ALTE*$G13/P13,CS_STR_ALTE*$H13)) | J13: =IF(OR($B13="",$C13="",$D13="",$E13="",$F13="",$F13>an_final,$O13=FALSE),"",IF($H13="",CS_STR_ALTE*$G13/P13,CS_STR_ALTE*$H13)) | K13: =IF(OR($B13="",$C13="",$D13="",$E13="",$F13="",$F13>an_final,$O13=FALSE),"",IF($F13>=an_initial,1,"")) | L13: =IF(OR($B13="",$C13="",$D13="",$E13="",$F13="",$F13>an_final,$O13=FALSE),"",1) | M13: =IF(OR($B13="",$C13="",$D13="",$E13="",$F13="",$F13>an_final,$O13=FALSE),"",IF($H13="",$G13/P13,$H13)) | N13: =IF(OR($B13="",$C13="",$D13="",$E13="",$F13="",$F13<an_initial,$F13>an_final,$O13=FALSE),"",IF($H13="",$G13/P13,$H13)) | O13: =IF(nume_candidat="",FALSE,ISNUMBER(SEARCH(nume_candidat,$B13))) -> FALSE | P13: =LEN(B13)-LEN(SUBSTITUTE(B13,",",""))+1 -> 1
A14: 5 | I14: =IF(OR($B14="",$C14="",$D14="",$E14="",$F14<an_initial,$F14>an_final,$O14=FALSE),"",IF($H14="",CS_STR_ALTE*$G14/P14,CS_STR_ALTE*$H14)) | J14: =IF(OR($B14="",$C14="",$D14="",$E14="",$F14="",$F14>an_final,$O14=FALSE),"",IF($H14="",CS_STR_ALTE*$G14/P14,CS_STR_ALTE*$H14)) | K14: =IF(OR($B14="",$C14="",$D14="",$E14="",$F14="",$F14>an_final,$O14=FALSE),"",IF($F14>=an_initial,1,"")) | L14: =IF(OR($B14="",$C14="",$D14="",$E14="",$F14="",$F14>an_final,$O14=FALSE),"",1) | M14: =IF(OR($B14="",$C14="",$D14="",$E14="",$F14="",$F14>an_final,$O14=FALSE),"",IF($H14="",$G14/P14,$H14)) | N14: =IF(OR($B14="",$C14="",$D14="",$E14="",$F14="",$F14<an_initial,$F14>an_final,$O14=FALSE),"",IF($H14="",$G14/P14,$H14)) | O14: =IF(nume_candidat="",FALSE,ISNUMBER(SEARCH(nume_candidat,$B14))) -> FALSE | P14: =LEN(B14)-LEN(SUBSTITUTE(B14,",",""))+1 -> 1
A15: 6 | I15: =IF(OR($B15="",$C15="",$D15="",$E15="",$F15<an_initial,$F15>an_final,$O15=FALSE),"",IF($H15="",CS_STR_ALTE*$G15/P15,CS_STR_ALTE*$H15)) | J15: =IF(OR($B15="",$C15="",$D15="",$E15="",$F15="",$F15>an_final,$O15=FALSE),"",IF($H15="",CS_STR_ALTE*$G15/P15,CS_STR_ALTE*$H15)) | K15: =IF(OR($B15="",$C15="",$D15="",$E15="",$F15="",$F15>an_final,$O15=FALSE),"",IF($F15>=an_initial,1,"")) | L15: =IF(OR($B15="",$C15="",$D15="",$E15="",$F15="",$F15>an_final,$O15=FALSE),"",1) | M15: =IF(OR($B15="",$C15="",$D15="",$E15="",$F15="",$F15>an_final,$O15=FALSE),"",IF($H15="",$G15/P15,$H15)) | N15: =IF(OR($B15="",$C15="",$D15="",$E15="",$F15="",$F15<an_initial,$F15>an_final,$O15=FALSE),"",IF($H15="",$G15/P15,$H15)) | O15: =IF(nume_candidat="",FALSE,ISNUMBER(SEARCH(nume_candidat,$B15))) -> FALSE | P15: =LEN(B15)-LEN(SUBSTITUTE(B15,",",""))+1 -> 1
A16: 7 | I16: =IF(OR($B16="",$C16="",$D16="",$E16="",$F16<an_initial,$F16>an_final,$O16=FALSE),"",IF($H16="",CS_STR_ALTE*$G16/P16,CS_STR_ALTE*$H16)) | J16: =IF(OR($B16="",$C16="",$D16="",$E16="",$F16="",$F16>an_final,$O16=FALSE),"",IF($H16="",CS_STR_ALTE*$G16/P16,CS_STR_ALTE*$H16)) | K16: =IF(OR($B16="",$C16="",$D16="",$E16="",$F16="",$F16>an_final,$O16=FALSE),"",IF($F16>=an_initial,1,"")) | L16: =IF(OR($B16="",$C16="",$D16="",$E16="",$F16="",$F16>an_final,$O16=FALSE),"",1) | M16: =IF(OR($B16="",$C16="",$D16="",$E16="",$F16="",$F16>an_final,$O16=FALSE),"",IF($H16="",$G16/P16,$H16)) | N16: =IF(OR($B16="",$C16="",$D16="",$E16="",$F16="",$F16<an_initial,$F16>an_final,$O16=FALSE),"",IF($H16="",$G16/P16,$H16)) | O16: =IF(nume_candidat="",FALSE,ISNUMBER(SEARCH(nume_candidat,$B16))) -> FALSE | P16: =LEN(B16)-LEN(SUBSTITUTE(B16,",",""))+1 -> 1
A17: 8 | I17: =IF(OR($B17="",$C17="",$D17="",$E17="",$F17<an_initial,$F17>an_final,$O17=FALSE),"",IF($H17="",CS_STR_ALTE*$G17/P17,CS_STR_ALTE*$H17)) | J17: =IF(OR($B17="",$C17="",$D17="",$E17="",$F17="",$F17>an_final,$O17=FALSE),"",IF($H17="",CS_STR_ALTE*$G17/P17,CS_STR_ALTE*$H17)) | K17: =IF(OR($B17="",$C17="",$D17="",$E17="",$F17="",$F17>an_final,$O17=FALSE),"",IF($F17>=an_initial,1,"")) | L17: =IF(OR($B17="",$C17="",$D17="",$E17="",$F17="",$F17>an_final,$O17=FALSE),"",1) | M17: =IF(OR($B17="",$C17="",$D17="",$E17="",$F17="",$F17>an_final,$O17=FALSE),"",IF($H17="",$G17/P17,$H17)) | N17: =IF(OR($B17="",$C17="",$D17="",$E17="",$F17="",$F17<an_initial,$F17>an_final,$O17=FALSE),"",IF($H17="",$G17/P17,$H17)) | O17: =IF(nume_candidat="",FALSE,ISNUMBER(SEARCH(nume_candidat,$B17))) -> FALSE | P17: =LEN(B17)-LEN(SUBSTITUTE(B17,",",""))+1 -> 1
A18: 9 | I18: =IF(OR($B18="",$C18="",$D18="",$E18="",$F18<an_initial,$F18>an_final,$O18=FALSE),"",IF($H18="",CS_STR_ALTE*$G18/P18,CS_STR_ALTE*$H18)) | J18: =IF(OR($B18="",$C18="",$D18="",$E18="",$F18="",$F18>an_final,$O18=FALSE),"",IF($H18="",CS_STR_ALTE*$G18/P18,CS_STR_ALTE*$H18)) | K18: =IF(OR($B18="",$C18="",$D18="",$E18="",$F18="",$F18>an_final,$O18=FALSE),"",IF($F18>=an_initial,1,"")) | L18: =IF(OR($B18="",$C18="",$D18="",$E18="",$F18="",$F18>an_final,$O18=FALSE),"",1) | M18: =IF(OR($B18="",$C18="",$D18="",$E18="",$F18="",$F18>an_final,$O18=FALSE),"",IF($H18="",$G18/P18,$H18)) | N18: =IF(OR($B18="",$C18="",$D18="",$E18="",$F18="",$F18<an_initial,$F18>an_final,$O18=FALSE),"",IF($H18="",$G18/P18,$H18)) | O18: =IF(nume_candidat="",FALSE,ISNUMBER(SEARCH(nume_candidat,$B18))) -> FALSE | P18: =LEN(B18)-LEN(SUBSTITUTE(B18,",",""))+1 -> 1
A19: 10 | I19: =IF(OR($B19="",$C19="",$D19="",$E19="",$F19<an_initial,$F19>an_final,$O19=FALSE),"",IF($H19="",CS_STR_ALTE*$G19/P19,CS_STR_ALTE*$H19)) | J19: =IF(OR($B19="",$C19="",$D19="",$E19="",$F19="",$F19>an_final,$O19=FALSE),"",IF($H19="",CS_STR_ALTE*$G19/P19,CS_STR_ALTE*$H19)) | K19: =IF(OR($B19="",$C19="",$D19="",$E19="",$F19="",$F19>an_final,$O19=FALSE),"",IF($F19>=an_initial,1,"")) | L19: =IF(OR($B19="",$C19="",$D19="",$E19="",$F19="",$F19>an_final,$O19=FALSE),"",1) | M19: =IF(OR($B19="",$C19="",$D19="",$E19="",$F19="",$F19>an_final,$O19=FALSE),"",IF($H19="",$G19/P19,$H19)) | N19: =IF(OR($B19="",$C19="",$D19="",$E19="",$F19="",$F19<an_initial,$F19>an_final,$O19=FALSE),"",IF($H19="",$G19/P19,$H19)) | O19: =IF(nume_candidat="",FALSE,ISNUMBER(SEARCH(nume_candidat,$B19))) -> FALSE | P19: =LEN(B19)-LEN(SUBSTITUTE(B19,",",""))+1 -> 1
A20: 11 | I20: =IF(OR($B20="",$C20="",$D20="",$E20="",$F20<an_initial,$F20>an_final,$O20=FALSE),"",IF($H20="",CS_STR_ALTE*$G20/P20,CS_STR_ALTE*$H20)) | J20: =IF(OR($B20="",$C20="",$D20="",$E20="",$F20="",$F20>an_final,$O20=FALSE),"",IF($H20="",CS_STR_ALTE*$G20/P20,CS_STR_ALTE*$H20)) | K20: =IF(OR($B20="",$C20="",$D20="",$E20="",$F20="",$F20>an_final,$O20=FALSE),"",IF($F20>=an_initial,1,"")) | L20: =IF(OR($B20="",$C20="",$D20="",$E20="",$F20="",$F20>an_final,$O20=FALSE),"",1) | M20: =IF(OR($B20="",$C20="",$D20="",$E20="",$F20="",$F20>an_final,$O20=FALSE),"",IF($H20="",$G20/P20,$H20)) | N20: =IF(OR($B20="",$C20="",$D20="",$E20="",$F20="",$F20<an_initial,$F20>an_final,$O20=FALSE),"",IF($H20="",$G20/P20,$H20)) | O20: =IF(nume_candidat="",FALSE,ISNUMBER(SEARCH(nume_candidat,$B20))) -> FALSE | P20: =LEN(B20)-LEN(SUBSTITUTE(B20,",",""))+1 -> 1
A21: 12 | I21: =IF(OR($B21="",$C21="",$D21="",$E21="",$F21<an_initial,$F21>an_final,$O21=FALSE),"",IF($H21="",CS_STR_ALTE*$G21/P21,CS_STR_ALTE*$H21)) | J21: =IF(OR($B21="",$C21="",$D21="",$E21="",$F21="",$F21>an_final,$O21=FALSE),"",IF($H21="",CS_STR_ALTE*$G21/P21,CS_STR_ALTE*$H21)) | K21: =IF(OR($B21="",$C21="",$D21="",$E21="",$F21="",$F21>an_final,$O21=FALSE),"",IF($F21>=an_initial,1,"")) | L21: =IF(OR($B21="",$C21="",$D21="",$E21="",$F21="",$F21>an_final,$O21=FALSE),"",1) | M21: =IF(OR($B21="",$C21="",$D21="",$E21="",$F21="",$F21>an_final,$O21=FALSE),"",IF($H21="",$G21/P21,$H21)) | N21: =IF(OR($B21="",$C21="",$D21="",$E21="",$F21="",$F21<an_initial,$F21>an_final,$O21=FALSE),"",IF($H21="",$G21/P21,$H21)) | O21: =IF(nume_candidat="",FALSE,ISNUMBER(SEARCH(nume_candidat,$B21))) -> FALSE | P21: =LEN(B21)-LEN(SUBSTITUTE(B21,",",""))+1 -> 1
... A214: 205 | I214: =IF(OR($B214="",$C214="",$D214="",$E214="",$F214<an_initial,$F214>an_final,$O214=FALSE),"",IF($H214="",CS_STR_ALTE*$G214/P214,CS_STR_ALTE*$H214)) | J214: =IF(OR($B214="",$C214="",$D214="",$E214="",$F214="",$F214>an_final,$O214=FALSE),"",IF($H214="",CS_STR_ALTE*$G214/P214,CS_STR_ALTE*$H214)) | K214: =IF(OR($B214="",$C214="",$D214="",$E214="",$F214="",$F214>an_final,$O214=FALSE),"",IF($F214>=an_initial,1,"")) | L214: =IF(OR($B214="",$C214="",$D214="",$E214="",$F214="",$F214>an_final,$O214=FALSE),"",1) | M214: =IF(OR($B214="",$C214="",$D214="",$E214="",$F214="",$F214>an_final,$O214=FALSE),"",IF($H214="",$G214/P214,$H214)) | N214: =IF(OR($B214="",$C214="",$D214="",$E214="",$F214="",$F214<an_initial,$F214>an_final,$O214=FALSE),"",IF($H214="",$G214/P214,$H214)) | O214: =IF(nume_candidat="",FALSE,ISNUMBER(SEARCH(nume_candidat,$B214))) -> FALSE | P214: =LEN(B214)-LEN(SUBSTITUTE(B214,",",""))+1 -> 1

Sheet I.2.1d
A1: Universitatea Politehnica Timișoara
A2: =IF(ISBLANK(facultate), IF(ISBLANK(departament),"","Departament " & departament), "Facultatea " & facultate) -> Facultatea Automatică și Calculatoare
A3: =IF(ISBLANK(departament),"","Departamentul " & departament) -> Departamentul Automatică și Informatică Aplicată
A4: I. ACTIVITĂȚI DIDACTICE ȘI PROFESIONALE
A5: 2.1d Cărţi de specialitate, tratate, monografii publicate la editura POLITEHNICA, editura Academiei, editura Tehnică, editura Polirom, Iasi (pt Stiintele Comunicarii) sau editura Paideia, Bucuresti (pt Arhitectura)
I6: =CONCATENATE(functie," ",nume_candidat) -> Conferențiar Bojan-Dragos Claudia-Adina | J6: =CONCATENATE(functie," ",nume_candidat) -> Conferențiar Bojan-Dragos Claudia-Adina
A7: Nr. crt. | B7: Autori | C7: Titlul cărții | D7: Editura | E7: ISBN | F7: Anul | G7: Număr total de pagini | H7: Număr de pagini contribuție proprie | I7: Punctaj obținut | K7: Număr de lucrări | M7: Nr. pag. red. pr. | O7: candidat găsit | P7: autori
I8: =CONCATENATE("ultimii ",durata_evaluare," ani") -> ultimii 5 ani | J8: întreaga activitate | K8: =CONCATENATE("ultimii ",durata_evaluare," ani") -> ultimii 5 ani | L8: întreaga activitate | M8: întreaga activitate | N8: =CONCATENATE("ultimii ",durata_evaluare," ani") -> ultimii 5 ani
I9: =SUMIF(I10:I1010,">0") -> 54 | J9: =SUMIF(J10:J108,">0") -> 54 | K9: =SUMIF(K10:K108,">0") -> 1 | L9: =SUMIF(L10:L108,">0") -> 1 | M9: =SUMIF(M10:M108,">0") -> 54 | N9: =SUMIF(N10:N108,">0") -> 54
