Workbook
Name ACCLSUPT: Coef!$B$58
Name ACSPR: Coef!$B$57
Name an_final: Date!$B$11
Name an_initial: Date!$B$10
Name arh_list_1a: 'Arh-tipuri'!$A$2:$A$6
Name arh_list_1b: 'Arh-tipuri'!$C$2:$C$5
Name arh_list_2a: 'Arh-tipuri'!$E$2:$E$4
Name arh_list_2b: 'Arh-tipuri'!$H$2:$H$3
Name arh_list_34ab: 'Arh-tipuri'!$Q$2:$Q$3
Name arh_list_3a: 'Arh-tipuri'!$K$2:$K$3
Name arh_list_3b: 'Arh-tipuri'!$M$2:$M$4
Name arh_list_3c: 'Arh-tipuri'!$O$2:$O$3
Name bdi: BDI!$B$2:$B$56
Name BREV_APL: Coef!$B$15
Name BREV_INT: Coef!$B$16
Name BREV_ROM: Coef!$B$17
Name BUL_UPT: Coef!$B$7
Name Campionate_internaționale: 'Sport-Competiții'!$E$2:$E$3
Name Campionate_naționale: 'Sport-Competiții'!$D$2:$D$3
Name Campionate_naționale_universitare: 'Sport-Competiții'!$C$2:$C$4
Name CIT_BDI: Coef!$B$53
Name CIT_ISI: Coef!$B$52
Name ClasareSport: 'Sport-Competiții'!$G$2:$G$4
Name CNCSIS_B: Coef!$B$12
Name CNCSIS_C: Coef!$B$13
Name coef_citari: Coef!$B$62
Name coef_grant: Coef!$B$61
Name Competiții: 'Sport-Competiții'!$A$2:$A$5
Name CompetițiiSport: 'Sport-Competiții'!$A$2:$A$5
Name CONF_NL: Coef!#REF!
Name CONF_NL: Coef!#REF!
Name CONF_NL: Coef!#REF!
Name CONF_NL: Coef!#REF!
Name CONF_NL: Coef!#REF!
Name CONF_NL: Coef!#REF!
Name CONF_NL: Coef!#REF!
Name CONF_NL: Coef!#REF!
Name CONF_NL: Coef!#REF!
Name CONF_NL: Coef!#REF!
Name CONF_NL: Coef!#REF!
Name CONF_NL: Coef!#REF!
Name CONF_NL: Coef!#REF!
Name CONF_NL: Coef!#REF!
Name CONF_NL: Coef!#REF!
Name CONF_NL: Coef!#REF!
Name CONF_NL: Coef!#REF!
Name CONF_NL: Coef!#REF!
Name CONF_NL: Coef!#REF!
Name CONF_NL: Coef!#REF!
Name CONF_NL: Coef!#REF!
Name CONF_NL: Coef!#REF!
Name CONF_NL: Coef!#REF!
Name CONF_NL: Coef!#REF!
Name CONF_NL: Coef!#REF!
Name CONF_NL: Coef!#REF!
Name CONF_NL: Coef!#REF!
Name CONF_NL: Coef!#REF!
Name CONF_NL: Coef!#REF!
Name CONF_NL: Coef!#REF!
Name CONF_NL: Coef!#REF!

Sheet Informații completare
A1: Această foaie nu trebuie tipărită.
A2: Numele complet al candidatului trebuie să apară identic în listele de autori lucrări, titulari contracte, etc.
A3: Numele persoanelor se vor despărți cu virgulă în listele de autori lucrări, titulari contracte, etc.
A4: Pentru proiectele în echipă, rolul candidatului trebuie marcat cu X în coloana corespunzătoare.
A5: Pentru brevetele de invenție, tipul de brevet trebuie marcat cu X în coloana corespunzătoare.
A6: Foile de lucru 5 se completează doar de membrii departamentelor/facultăților respective.
A7: Câmpurile cu opțiuni limitate (de tip select) se vor alege după focusarea pe celulă, din lista accesibilă cu click pe săgeată.

Sheet Date candidat
A1: Universitatea Politehnica Timișoara
A3: ="Concurs de gradații de merit " & an_final+1 -> Concurs de gradații de merit 2026
A4: ="Perioada de evaluare: "& an_initial& " ‒ " & an_final -> Perioada de evaluare: 2021 ‒ 2025
D5: Observații
A6: Concurs la nivelul | B6: Departamentului | D6: numele complet trebuie să apară identic în listele de autori lucrări, titulari contracte, etc.
A7: Nume și prenume candidat | B7: Bojan-Dragos Claudia-Adina | D7: funcția deținută la momentul concursului
A8: Funcția didactică actuală | B8: Conferențiar | D8: se alege din listă
A9: Departament UPT | B9: Automatică și Informatică Aplicată | D9: se alege din listă
A10: Director Departament | B10: Conf. Dr. Ing. Albu Adriana | D10: necesar pentru semnătură
A11: Facultate | B11: Automatică și Calculatoare | D11: se alege din listă
A12: Decan Facultate | B12: Prof. Dr. Ing. Marcu Marius | D12: necesar pentru semnătură

Sheet Date
A1: Funcții didactice | C1: Concurs la nivelul | F1: Facultăți UPT | J1: Departamente UPT
A2: Profesor | C2: Departamentului | F2: Arhitectură și Urbanism | J2: Arhitectură
A3: Conferențiar | C3: Facultății | F3: Automatică și Calculatoare | J3: Automatică și Informatică Aplicată
A4: Șef de lucrări | C4: Universității | F4: Chimie Industrială și Ingineria Mediului | J4: Bazele Fizice ale Ingineriei
A5: Asistent | F5: Construcții | J5: Calculatoare
F6: Electronică și Telecomunicații | J6: Căi de Comunicație Terestre, Fundații și Cadastru
F7: Electrotehnică și Electroenergetică | J7: Chimie Aplicată și Ingineria Compușilor Anorganici și a Mediului
F8: Inginerie din Hunedoara | J8: Chimie Aplicată și Ingineria Compușilor Organici și Naturali
A9: Concurs în perioada | F9: Management în Producție și Transporturi | J9: Comunicare și Limbi Străine
A10: An inițial | B10: 2021 | F10: Mecanică | J10: Comunicații
A11: An final | B11: 2025 | F11: Științe ale Comunicării | J11: Construcții Civile și Instalații
A12: Durată ani | B12: =an_final-an_initial+1 -> 5 | J12: Construcții Metalice și Mecanica Construcțiilor
J13: Educație Fizică și Sport
J14: Electroenergetică
A15: I.6 Organizarea de concursuri profesionale / conferințe studențești | J15: Electronică Aplicată
B16: Coordonator colectiv organizare | C16: Membru colectiv organizare | J16: Hidrotehnică
A17: Internațională | B17: 100 | C17: 50 | J17: Ingineria Materialelor și Fabricației
A18: Națională | B18: 50 | C18: 25 | J18: Inginerie Electrică
A19: Locală | B19: 25 | C19: 10 | J19: Inginerie Electrică și Informatică Industrială din Hunedoara
J20: Inginerie și Management din Hunedoara
A21: I.7 Premii obținute cu studenții la etapa finală a concursurilor profesionale | J21: Management
B22: Premiul I | C22: Premiul II | D22: Premiul III | E22: Mențiune | J22: Mașini Mecanice, Utilaje și Transporturi
A23: Internațională | B23: 100 | C23: 90 | D23: 80 | E23: 70 | J23: Matematică
A24: Națională | B24: 50 | C24: 45 | D24: 40 | E24: 35 | J24: Măsurări și Electronică Optică
J25: Mecanica și Rezistența Materialelor
A26: I.8 Organizare școli de vară/iarnă naționale/internaționale | J26: Pregatirea Personalului Didactic
A27: Coordonator | B27: Membru în colectivul de organizare | C27: Susținere curs/modul training | J27: Mecatronică
A28: 50 | B28: 25 | C28: 10
A30: III.1 Experienţa în management academic
A31: Funcţie de conducere | B31: Funcţie de reprezentare | C31: Membru în organisme de conducere/reprezentare
A32: 5 | B32: 10 | C32: 2
A34: III.2 Coordonarea de acorduri internaţionale/naţionale cu alte universităţi/instituţii/organizaţii profesionale/firme
A35: Coordonator instituţional | B35: Coordonator departamental | C35: Coordonator acord punctual
A36: 50 | B36: 20 | C36: 5
A38: III4. Coordonare mobilităţi (inclusiv Erasmus)
A39: internaţionale/naţionale pentru studenţi | B39: internaţionale pentru cadre didactice şi staff
A40: 5 | B40: 5
A42: III5. Participare în comisii
A43: comisie de concurs pentru ocuparea posturilor vacante | B43: comisie de diplomă / disertaţie (activităţi neincluse în statele de funcţiuni) | C43: comisie de admitere
A44: 10 | B44: 10 | C44: 5
A46: III6. Premii
A47: Academia Română | B47: ASTR, ASAS, AOSR, academii de ramură, CNCS | C47: Organizații profesionale internaționale | D47: Organizații profesionale naționale
A48: 120 | B48: 60 | C48: 40 | D48: 20
A50: III7. Membru titular sau corespondent în academii
A51: Academia Română | B51: ASTR, ASAS, AOSR, alte academii de ramură
A52: 200 | B52: 50
A54: III8. Asociații/organizații profesionale
B55: Conducere asociaţii/organizații profesionale | C55: Membru în asociaţii/organizații profesionale | D55: Membru în organizaţii din domeniul educaţiei şi cercetării (altele decât cele de la secțiunea III.9)
A56: Internaţionale | B56: 50 | C56: 5 | D56: 3
A57: Naţionale | B57: 20 | C57: 2 | D57: 3
A59: III9. Consilii/comisii în domeniul educaţiei şi cercetării (CNATDCU, CNCSIS, CNFIS, ARACIS, CCDI, CNCS, etc)
A60: Conducere | B60: Membru
A61: 15 | B61: 10
A63: III12. Alte activităţi în sprijinul procesului de învăţământ
A64: Decan de an / tutore | B64: Întocmire state de funcţiuni | C64: Întocmire orare | D64: Coordonare şi/sau întocmire dosare de acreditare | E64: Coordonare activităţi de practică (neincluse în statele de funcţiuni)
A65: 10 | B65: 10 | C65: 10 | D65: 50 | E65: 10
A67: III13. Administrator de platformă informaţională
A68: Administrator Campus Virtual UPT | B68: Administrator platformă informațională la nivel UPT | C68: Administrator platformă informaţională la nivel departament
A69: 60 | B69: 30 | C69: 15
A71: II1.1 Articole publicate în reviste de specialitate
A72: indexate ISI/WOS, cu factor de impact, în cuartila Q1 | B72: indexate ISI/WOS, cu factor de impact, în cuartila Q2 | C72: indexate ISI/WOS, cu factor de impact, în cuartila Q3 | D72: indexate ISI/WOS, cu factor de impact, în cuartila Q4 | E72: indexate ISI/WOS dar fără factor de impact | F72: neindexate, din străinătate | G72: neindexate, din țară
A73: =150*6 -> 900 | B73: =150*5 -> 750 | C73: =150*3 -> 450 | D73: =150*2 -> 300 | E73: 100 | F73: 30 | G73: 15
A75: II1.2 Articole publicate în reviste de specialitate
A76: indexate ISI/WOS | B76: indexate în baze de date internaționale specifice domeniului (BDI) | C76: neindexate, din străinătate | D76: neindexate, din țară
A77: 100 | B77: 60 | C77: 30 | D77: 15
A79: II1.3 Editor de proceedings conferinte, sub forma de volum cu ISBN
A80: Volum proceedings, cu ISBN, indexat ISI | B80: Volum proceedings, cu ISBN, indexat BDI
A81: 200 | B81: 100
A83: 1.4. Brevete de invenție
A84: protejat internațional | B84: protejat național | C84: modele de utilitate (OSIM)
A85: 200 | B85: 100 | C85: 100
A87: II3. Citări ale contribuțiilor originale în literatura de specialitate** (la ISI/WOS si Scopus se exclud autocitările celui care raportează)
A88: Citări în reviste sau proceedings-uri indexate ISI/WOS | B88: Citări în reviste sau proceedings-uri indexate Scopus | C88: Citări în reviste sau proceedings-uri indexate Google Scholar
A89: 10 | B89: 8 | C89: 3
A91: II5.1.1. | B91: Proiecte complexe de arhitectură, restaurare, de importanță națională, regională, zonală sau locală edificat / autorizat
B92: autor (director, coordonator) proiect | C92: șef proiect secțiune (componentă, studiu) | D92: membru echipă
A93: Internațional | B93: 150 | C93: 100 | D93: 50
A94: Național | B94: 100 | C94: 50 | D94: 25
A95: Regional | B95: 50 | C95: 30 | D95: 15
A96: Zonal | B96: 40 | C96: 30 | D96: 15
A97: Local | B97: 30 | C97: 15 | D97: 10
A99: 5.1.2. Proiecte complexe de amenajare a teritoriului și peisajului la nivel macro-teritorial
B100: autor (director, coordonator) proiect | C100: șef proiect secțiune (componentă, studiu) | D100: membru echipă
A101: PAT/PUG municipii mari | B101: 100 | C101: 50 | D101: 25
A102: PUG localități mici | B102: 60 | C102: 40 | D102: 20
A103: PUZ | B103: 40 | C103: 20 | D103: 15
A104: Studii de fundamentare | B104: 30 | C104: 15 | D104: 10
A106: 5.2.1. Traduceri de opere științifice sau beletristice
A107: din limba română într-o limbă de circulație internațională, publicate la edituri sau în reviste de specialitate din străinătate | B107: din limba română într-o limbă de circulație internațională, publicate la edituri (cu ISBN) sau în reviste de specialitate din țară (cu ISSN) | C107: dintr-o limbă de circulație internațională în limba română, publicate la edituri (cu ISBN) sau în reviste de specialitate din țară (cu ISSN)
A108: 0.75 | B108: 0.6 | C108: 0.5
A110: 5.2.2. Recenzii ale unor opere științifice sau beletristice, publicate în reviste de specialitate
A111: Indexate ISI | B111: Indexate BDI | C111: Din străinătate, neindexate | D111: Din țară, neindexate
A112: 30 | B112: 15 | C112: 10 | D112: 5
A114: 5.2.4. Activități de cercetare și comunicare în limbi străine, desfășurate în cadru instituțional, nepunctate la alte criterii
A115: Traducerea / revizia de documente | B115: Activități de interpretare (simultană / consecutivă, etc) | C115: Redactarea de texte | D115: Adaptarea de texte
A116: 0.3 | B116: 0.4 | C116: 0.4 | D116: 0.3
A118: II5.3. Reviewer / Citări pentru Mathematical Reviews (MatSciNet) sau Zentralblatt, baze de date specifice domeniului Matematică
A119: Reviewer | B119: Citări
A120: 10 | B120: 8
A122: II6. Doctorat
...

Sheet GRILA
A1: Universitatea Politehnica Timișoara
A2: =IF(ISBLANK(facultate), IF(ISBLANK(departament),"","Departament " & departament), "Facultatea " & facultate) -> Facultatea Automatică și Calculatoare
A3: =IF(ISBLANK(departament),"","Departamentul " & departament) -> Departamentul Automatică și Informatică Aplicată
C4: =CONCATENATE(functie," ",nume_candidat) -> Conferențiar Bojan-Dragos Claudia-Adina
B5: CRITERIUL I. ACTIVITĂȚI DIDACTICE ȘI PROFESIONALE
A6: 1 | B6: Teza de doctorat (susținută în perioada de evaluare) | C6: =I.1!L9 -> 0 | D6: 100 | E6: Titlul de doctor confirmat
A7: 2 | B7: Cărți*, cursuri*, manuale*, culegeri de probleme*, îndrumătoare de lucrări, proiectare* (acoperind discipline sau tematici cuprinse în planurile de învățământ ale specializărilor din UPT) | C7: =SUM(C8,C14,C20,C23) -> 54
A8: 2.1 | B8: Cărți de specialitate/capitole în cărți de specialitate, tratate/capitole în tratate, monografii/capitole în monografii | C8: =SUM(C9:C13) -> 54
A9: 2.1a | B9: Cărți de specialitate/capitole în cărți de specialitate, tratate/capitole în tratate, monografii/capitole în monografii publicate la edituri din străinătate de clasa A (clasificare UPT) | C9: ='I.2.1a'!$I$9 -> 0 | D9: 4,00*NP/NA | E9: NA = nr. autori NP = nr. pagini NEd = nr. editori ai volumului În cazul în care numărul de pagini în redactare proprie, NP, este definit exact (de ex. pe capitole), NA=1; în caz contrar, punctajul pentru nr. total de pagini, NP, se împarte la NA. La reeditări se ia în considerare doar ultima ediţie.
A10: 2.1b | B10: Cărți de specialitate/capitole în cărți de specialitate, tratate/capitole în tratate, monografii/capitole în monografii publicate la edituri din străinătate de clasa B (clasificare UPT) | C10: ='I.2.1b'!$I$9 -> 0 | D10: 2,00*NP/NA
A11: 2.1c | B11: Cărți de specialitate/capitole în cărți de specialitate, tratate/capitole în tratate, monografii/capitole în monografii publicate la alte edituri din străinătate | C11: ='I.2.1c'!$I$9 -> 0 | D11: 1.50*NP/NA
A12: 2.1d | B12: Cărți de specialitate/capitole în cărți de specialitate, tratate/capitole în tratate, monografii/capitole în monografii publicate la editura POLITEHNICA, editura Academiei, editura Tehnică, editura Polirom, Iasi (pt Stiintele Comunicarii) sau editura Paideia, Bucuresti (pt Arhitectura) | C12: ='I.2.1d'!$I$9 -> 54 | D12: 1.00*NP/NA
A13: 2.1e | B13: Cărți de specialitate/capitole în cărți de specialitate, tratate/capitole în tratate, monografii/capitole în monografii publicate la alte edituri din țară (cu ISBN și referențiere științifică) | C13: ='I.2.1e'!$I$9 -> 0 | D13: 0,50*NP/NA
A14: 2.2 | B14: Cărți de specialitate publicate în calitate de editor/coordonator (nu se includ contributiile ca editor de proceedings) | C14: =SUM(C15:C19) -> 0
A15: 2.2a | B15: Cărți de specialitate publicate în calitate de editor/coordonator publicate la edituri din străinătate de clasa A (clasificare UPT) | C15: ='I.2.2a'!$I$9 -> 0 | D15: 2,00*NP/NEd
A16: 2.2b | B16: Cărți de specialitate publicate în calitate de editor/coordonator publicate la edituri din străinătate de clasa B (clasificare UPT) | C16: ='I.2.2b'!$I$9 -> 0 | D16: 1,00*NP/NEd
A17: 2.2c | B17: Cărți de specialitate publicate în calitate de editor/coordonator publicate la alte edituri din străinătate | C17: ='I.2.2c'!$I$9 -> 0 | D17: 0,75*NP/NEd
A18: 2.2d | B18: Cărți de specialitate publicate în calitate de editor/coordonator publicate la editura POLITEHNICA, editura Academiei, editura Tehnică, editura Polirom, Iasi (pt Stiintele Comunicarii) sau editura Paideia, Bucuresti (pt Arhitectura) | C18: ='I.2.2d'!$I$9 -> 0 | D18: 0,50*NP/NEd
A19: 2.2e | B19: Cărți de specialitate publicate în calitate de editor/coordonator publicate la alte edituri din țară | C19: ='I.2.2e'!$I$9 -> 0 | D19: 0,25*NP/NEd
A20: 2.3 | B20: Culegeri de probleme, îndrumătoare de lucrări practice și de proiectare (cu ISBN și referențiere științifică) pt. învățământul superior | C20: =SUM(C21:C22) -> 0
A21: 2.3a | B21: Culegeri de probleme, îndrumătoare de lucrări practice și de proiectare (cu ISBN și referențiere științifică) pt. învățământul superior publicate la editura POLITEHNICA | C21: ='I.2.3a'!I9 -> 0 | D21: 1,00*NP/NA
A22: 2.3b | B22: Culegeri de probleme, îndrumătoare de lucrări practice și de proiectare (cu ISBN și referențiere științifică) pt. învățământul superior publicate la alte edituri din țară | C22: ='I.2.3b'!I9 -> 0 | D22: 0,50*NP/NA
A23: 2.4 | B23: Materiale complexe de tip e-learning publicate pe Campusul Virtual al UPT, care includ uneltele specifice e-learning | C23: ='I.2.4'!I9 -> 0 | D23: 50/NA
A24: 3 | B24: Programe de studiu / de formare continuă / postuniversitare existente sau nou introduse și acreditate/autorizate • Coordonator introducere program nou • Coordonator/responsabil program • Disciplină nou introdusă, într-o limbă de circulație internațională (punctează fiecare membru al colectivului nominalizat în fișa disciplinei) • Disciplină nou introdusă, în limba română (punctează fiecare membru al colectivului nominalizat în fișa disciplinei) | C24: =I.3!I11 -> 0 | D24: • 200 • 150 • 100 • 50 | E24: Se punctează fiecare program sau disciplină raportată.
A25: 4 | B25: Proiecte de diplomă / disertație conduse | C25: =I.4!E11 -> 380 | D25: 10 | E25: Se punctează fiecare lucrare condusă.
A26: 5 | B26: Punctaj realizat din evaluarea cadrelor didactice de către studenți (o singură fișă de evaluare, punctaj între 0 – 200 pct) | C26: =I.5!D11 -> 200 | D26: Punctaj fișă * 10 (înainte 2018) SAU Punctaj fișă (din 2018)
A27: 6 | B27: Organizarea de concursuri profesionale / conferințe studențești, cu participarea unor firme sau alți parteneri • Internaţionale, cu participarea unor firme sau alţi parteneri (coordonator/membru colectiv organizare) • Naţionale, cu participarea unor firme sau alţi parteneri (coordonator/membru colectiv organizare) • Locale, cu participarea unor firme sau alţi parteneri / interne UPT (coordonator/membru colectiv organizare) | C27: =I.6!F11 -> 0 | D27: • 100/50 • 50/25 • 25/10 | E27: Se punctează fiecare activitate (concurs/conferință) raportată.
A28: 7 | B28: Premii obținute cu studenții la etapa finală a concursurilor profesionale: • Internaționale (premiul I/II/III/mențiune) • Naționale (premiul I/II/III/mențiune) | C28: =I.7!F11 -> 0 | D28: • 100/90/80/70 • 50/45/40/35 | E28: Se punctează fiecare premiu raportat.
A29: 8 | B29: Organizare școli de vară/iarnă naționale/internaționale • Coordonator • Membru în colectivul de organizare • Susținere curs/modul trening | C29: =I.8!E11 -> 0 | D29: • 50 • 25 • 10 | E29: Se punctează fiecare activitate raportată.
A30: 9 | B30: Modernizare bază materială de laborator (certificarea se face de către directorul de departament) | C30: =I.9!D11 -> 0 | D30: 20/NA | E30: Se punctează fiecare activitate raportată. NA = nr. autori
B31: PUNCTAJ MINIM NECESAR – CRITERIUL I | C31: Profesor – 240
C32: Conferențiar – 200
B33: 10% din punctajul minim necesar pentru gradul didactic respectiv | C33: Sef lucrări – 140
C34: Asistent - 80
B35: CRITERIUL I. ACTIVITĂȚI DIDACTICE ȘI PROFESIONALE | C35: =SUM(C6,C7,C24,C25,C27,C26,C28,C29,C30) -> 634
B37: CRITERIUL II. ACTIVITĂȚI DE CERCETARE, RECUNOAȘTEREA ȘI IMPACTUL ACTIVITĂȚII
A38: 1 | B38: Articole publicate* in extenso într-o limbă de circulație internațională / brevete de invenții: | C38: =SUM(C39:C42) -> 5354 | E38: *inclusiv pe suport electronic.
A39: 1.1 | B39: Articole publicate în reviste de specialitate: • indexate ISI/WOS, cu factor de impact • indexate ISI/WOS dar fără factor de impact • indexate în baze de date internaționale specifice domeniului (BDI) sau în buletinele sau analele științifice ale UPT • din străinătate, neindexate • din țară, neindexate | C39: ='II1.1BDI'!G9+'II1.1'!G9 -> 4530 | D39: • 150*K*Q • 100*K • 80*K • 30*K • 15*K | E39: Q = cuartila revistei ISI/WOS K = coeficient funcție de numărul de autori Unde K = 1,0 pt. 1 autor Q = 6 pt. Q1 0,9 pt. 2 autori Q = 5 pt. Q2 0,8 pt. 3 autori Q = 3 pt. Q3 0,7 pt. 4 autori Q = 2 pt. Q4 0,6 pt. 5 autori 0,5 pt. ≥6 autori
A40: 1.2 | B40: Articole publicate în volumele unor manifestări științifice (Proceedings) internaționale: • indexate ISI/WOS • indexate în baze de date internaționale specifice domeniului (BDI) • din străinătate, neindexate • din țară, neindexate | C40: ='II1.2'!G9 -> 824 | D40: • 100*K • 60*K • 30*K • 15*K
A41: 1.3 | B41: Editor de proceedings conferinte, sub forma de volum cu ISBN: • Volum proceedings, cu ISBN, indexat ISI • Volum proceedings, cu ISBN, indexat BDI | C41: ='II1.3'!G9 -> 0 | D41: • 200/NEd • 100/NEd | E41: NEd = nr. editori
A42: 1.4 | B42: Brevete de invenție | C42: ='II1.4'!I9 -> 0
A43: 1.4a | B43: • Brevete de invenție/mărci înregistrate protejate internațional | C43: ='II1.4'!S9 -> 0 | D43: • 200*K | E43: K = aceleași valori ca la secțiunile II.1.1 și II.1.2
A44: 1.4b | B44: • Brevete de invenție/mărci înregistrate protejate național sau modele de utilitate (OSIM) | C44: =C42-C43 -> 0 | D44: • 100*K | E44: K = aceleași valori ca la secțiunile II.1.1 și II.1.2
A45: 2 | B45: Granturi /contracte/proiecte de cercetare-dezvoltare-inovare-consultanță-expertizare științifică/tehnică/didactică, granturi/proiecte de arhitectură/urbanism/restaurare (derulate sub egida și cu afiliere la UPT) | C45: =C46+C50 -> 1099.7885
A46: 2.1a | B46: Granturi de cercetare-dezvoltare-inovare-consultanță-expertizare științifică/tehnică/didactică internaționale obținute prin competiție, granturi/proiecte de arhitectură/urbanism/restaurare internaționale sau contracte/proiecte de cercetare-dezvoltare-inovare-consultanță-expertizare obținute pe piața liberă în străinătate | C46: ='II2.1a'!M9 -> 324.8 | E46: VEURO = valoare anuală contract în € PD = punctajul directorului/resp de grant/proiect/contract Pentru granturile/proiectele/contractele derulate pe mai mulți ani, fiecare an de derulare se consideră 1 grant. Punctajul se calculează pentru fiecare an de grant. Valoarea de calcul a proiectului, VEURO, este determinată de sumele efectiv atrase în UPT în anul respectiv. Toate sumele atrase se convertesc în EURO, la cursul mediu de schimb BNR al anului în cauză Pentru membrii in echipa de cercetare punctajul pentru fiecare membru se calculează ca procent din punctajul (PD) al directorului/responsabilului de grant/contract/proiect
B47: • Director / Responsabil grant/contract/proiect la nivel internațional, cu UPT funcționând ca titulară de grant/contract/proiect internațional | C47: ='II2.1a'!Q9 -> 0 | D47: 100*VEURO /10000
B48: • Director / Responsabil / Coordonator grant/contract/proiect la nivel internațional, la nivel UPT, cu UPT funcționând ca parteneră la grant/contract/proiect | C48: ='II2.1a'!R9 -> 0 | D48: 80*VEURO /10000
B49: • Membru în echipa de cercetare/implementare a a grantului/contractului/proiectului • Echipa de cercetare formată din ≤ 5 membri • Echipa de cercetare formată din > 5 membri | C49: ='II2.1a'!S9 -> 324.8 | D49: • 30%*PD • 20%*PD
A50: 2.1b | B50: Granturi de cercetare-dezvoltare-inovare-consultanță-expertizare științifică/tehnică/didactică naționale obținute prin competiție, granturi/proiecte de arhitectură/urbanism/restaurare naționale sau contracte/proiecte de cercetare-dezvoltare-inovare-consultanță-expertizare obținute pe piața liberă din țară | C50: ='II2.1b'!M9 -> 774.98847
B51: • Director / Responsabil grant/contract/proiect la nivel național, cu UPT funcționând ca titulară de grant/contract/proiect | C51: ='II2.1b'!R9 -> 403.67938 | D51: 60*VEURO /10000
B52: • Director / Responsabil / Coordonator grant /contract/proiect la nivel național, la nivel UPT, UPT funcționând ca parteneră la grant/contract/proiect | C52: ='II2.1b'!S9 -> 0 | D52: 40*VEURO /10000
B53: • Membru în echipa de implementare a grantului/contractului/proiectului • Echipa de cercetare formată din ≤ 5 membri • Echipa de cercetare formată din > 5 membri | C53: ='II2.1b'!T9 -> 492.41291 | D53: • 30%*PD • 20%*PD
A54: 3 | B54: Citări ale contribuțiilor originale în literatura de specialitate** (la ISI/WOS si Scopus se exclud autocitările) | C54: ='II3'!D9 -> 27484 | E54: **Se raportează numărul citărilor din ultimii 5 ani, indiferent de anul apariției lucrării citate în cazul Scopus și Google Scholar, iar în cazul ISI/WOS se raportează citările pe întreaga activitate. ***Se referă la întreaga activitate. Numărul de citări și indicii Hirsch se obțin direct de pe site-urile Web of Science, Scopus și respectiv Google Scholar. Se atașează Print Screen-urile în format .pdf, .doc, .docx, .jpg, .png etc.
A55: 3.1 | B55: Citări în reviste sau proceedings-uri indexate ISI/WOS | C55: ='II3'!D10 -> 15120 | D55: 10/citare
A56: 3.2 | B56: Citări în reviste sau proceedings-uri indexate Scopus | C56: ='II3'!D11 -> 8800 | D56: 8/citare
A57: 3.3 | B57: Citări în reviste sau proceedings-uri indexate Google Scholar | C57: ='II3'!D12 -> 3564 | D57: 3/citare
A58: 4 | B58: Indice Hirsch*** | C58: ='II4'!D14 -> 9260
A59: 4.1 | B59: Indice Hirsch ISI/WOS | C59: ='II4'!D11 -> 4200 | D59: hISI*200
A60: 4.2 | B60: Indice Hirsch Scopus | C60: ='II4'!D12 -> 3680 | D60: hSCOPUS*160
A61: 4.3 | B61: Indice Hirsch Google Scholar | C61: ='II4'!D13 -> 1380 | D61: hGS*60
A62: 5 | B62: Criterii specifice pentru facultăți/departamente din UPT | C62: =SUM(C63,C71,C76,C79) -> 0
A63: 5.1. | B63: Facultatea de Arhitectură și urbanism, activități cu afiliere UPT | C63: =SUM(C64:C70) -> 0
A64: 5.1.1. | B64: Proiecte complexe de arhitectură, restaurare, de importanță națională, regională, zonală sau locală edificat / autorizat • Internațional: autor (director, coordonator) proiect / șef proiect secțiune (componentă, studiu) / membru echipă • Național: autor (director, coordonator) proiect / șef proiect secțiune (componentă, studiu) / membru echipă • Regional: autor (director, coordonator) proiect / șef proiect secțiune (componentă, studiu) / membru echipă • Zonal: autor (director, coordonator) proiect / șef proiect secțiune (componentă, studiu) / membru echipă • Local: autor (director, coordonator) proiect / șef proiect secțiune (componentă, studiu) membru echipă | C64: =total_arh1a_5 -> 0 | D64: • 150/100/50 • 100/50/25 • 50/30/15 • 40/30/15 • 30/15/10 | E64: Conform criteriilor specifice CNATDCU.
A65: 5.1.2. | B65: Proiecte complexe de amenajare a teritoriului și peisajului la nivel macro-teritorial: național, transfrontalier, interjudețean / la nivel mezzo-teritorial: județean, periurban, metropolitan / strategii de dezvoltare, studii de fundamentare, planuri de management și mobilitate avizate; Proiecte urbanistice și peisagistice la nivelul Planurilor Generale / Zonale ale Localităților (inclusiv studii de fundamentare, de inserție, de oportunitate) avizate • PUG / PAT municipii mari: autor (director, coordonator) proiect / șef proiect secțiune (componentă, studiu) / membru echipă • PUG localități mici: autor (director, coordonator) proiect / șef proiect secțiune (componentă, studiu) / membru echipă • PUZ: autor (director, coordonator) proiect / șef proiect secțiune (componentă, studiu) / membru echipă • Studii de fundamentare: autor (director, coordonator) proiect / șef proiect secțiune (componentă, studiu) / membru echipă | C65: =II5.1.2!total_arh1a_5 -> 0 | D65: • 100/50/25 • 60/40/20 • 40/20/15 • 30/15/10 | E65: Conform criteriilor specifice CNATDCU.
A66: 5.1.3. | B66: Expoziții organizate la nivel internațional / național sau local în calitate de autor, coautor, curator • Expoziție internațională • Expoziție națională • Expoziție locală | C66: =total_arh2a_5 -> 0 | D66: • 30 • 20 • 10 | E66: Conform criteriilor specifice CNATDCU.
A67: 5.1.4. | B67: Organizator de expoziții la nivel internațional/național • Expoziție internațională • Expoziție națională | C67: =total_arh2b_5 -> 0 | D67: • 30 • 15 | E67: Conform criteriilor specifice CNATDCU.
A68: 5.1.5. | B68: Premii / nominalizări / selecționări obținute la concursuri internaționale de proiecte organizate potrivit regulamentului UNESCO-UIA (Union Internationale des Architectes), Consiliul European al Urbaniștilor ECTP, Federația Internațională a Peisagiștilor IFLS, AEEA, RIBA, Architect's Council of Europe, The Royal Town Planning Institute RTPI, UNISCAPE, etc., precum și de la altă instituție de profil de nivel mondial sau european, în breasla arhitecților, urbaniștilor, planificatorilor urbani, peisagiștilor și designerilor • Premiu • Nominalizare | C68: =total_arh3a_5 -> 0 | D68: • 100 • 50 | E68: Conform criteriilor specifice CNATDCU.
A69: 5.1.6. | B69: Premii / nominalizări / selecționări obținute pentru concursuri naționale de proiecte (organizate potrivit regulamentului UNESCO-UIA, girate de AR/UAR/RUR, Concursuri RUR - Registrul Urbaniștilor din România) • Premiu • Nominalizare • Selecționare | C69: =total_arh3b_5 -> 0 | D69: 80 40 20 | E69: Conform criteriilor specifice CNATDCU.
A70: 5.1.7. | B70: Premii / nominalizări la Bienala, Anuala de Arhitectură din București ori premii / nominalizări la alte concursuri și licitații publice câștigate la nivel național, regional și/sau local de arhitectură, urbanism, peisagistică și design • Premiu • Nominalizare | C70: =total_arh3c_5 -> 0 | D70: 50 25 | E70: Conform criteriilor specifice CNATDCU.
A71: 5.2. | B71: Facultatea de Ştiințe ale Comunicării, activități cu afiliere UPT | C71: =SUM(C72:C75) -> 0
A72: 5.2.1. | B72: Traduceri de opere științifice sau beletristice: • din limba română într-o limbă de circulație internațională, publicate la edituri sau în reviste de specialitate din străinătate • din limba română într-o limbă de circulație internațională, publicate la edituri (cu ISBN) sau în reviste de specialitate din țară (cu ISSN) • dintr-o limbă de circulație internațională în limba română, publicate la edituri (cu ISBN) sau în reviste de specialitate din țară (cu ISSN) | C72: ='II5.2.1'!I9 -> 0 | D72: • 0,75*NP/NT • 0,60*NP/NT • 0,50*NP/NT | E72: NP – numărul de pagini NT – numărul de traducători
A73: 5.2.2. | B73: Recenzii* ale unor opere științifice sau beletristice, publicate în reviste de specialitate : • Indexate ISI • Indexate BDI • Din străinătate, neindexate • Din țară, neindexate | C73: ='II5.2.2'!G9 -> 0 | D73: • 30/NA • 15/NA • 10/NA • 5/NA | E73: *) Recenzie specifică domeniului = prezentare succintă (la apariție) a unei opere literare sau științifice, cu comentarii și aprecieri critice NA – numărul autorilor Se punctează fiecare recenzie raportată.
A74: 5.2.3. | B74: Activități de cercetare și comunicare în PR (editare/redactare a materialelor de promovare, susținerea comunicațională a evenimentelor, studii sociale etc.) desfășurate în cadru instituțional, nepunctate la alte criterii | C74: ='II5.2.3'!D9 -> 0 | D74: 20 | E74: Se punctează fiecare activitate raportată.
A75: 5.2.4. | B75: Activități de cercetare și comunicare în limbi străine, desfășurate în cadru instituțional, nepunctate la alte criterii • Traducerea / revizia de documente • Activități de interpretare (simultană / consecutivă, etc) • Redactarea de texte • Adaptarea de texte | C75: ='II5.2.4'!G9 -> 0 | D75: • 0,30*NP/NT • 0,40*nr.ore/NI • 0,40*NP/NA • 0,30*NP/NA | E75: NP – număr de pagini
A76: 5.3. | B76: Departamentul de Matematică, activități cu afiliere UPT | C76: ='II5.3'!F9 -> 0
A77: 5.3.1. | B77: Reviewer pentru Mathematical Reviews (MatSciNet) sau Zentralblatt, baze de date specifice domeniului Matematică | C77: ='II5.3'!I9 -> 0 | D77: 10 | E77: Se punctează fiecare recenzie raportată.
A78: 5.3.2. | B78: Citări în Mathematical Reviews (MatSciNet) sau Zentralblatt, baze de date specifice domeniului Matematică | C78: ='II5.3'!J9 -> 0 | D78: 8 | E78: Se punctează fiecare citare raportată.
A79: 5.4. | B79: Departamentul de Educație Fizică și Sport, activități cu afiliere UPT | C79: =total_sport -> 0
A80: 5.4.1. | B80: Activități specifice domeniului (participare şi clasare a candidatului): • Campionate internaționale la jocuri sportive sau sporturi individuale. Locul 1 / Locul 2 /Locul 3 • Campionate naționale la jocuri sportive sau sporturi individuale. Locul 1 / Locul 2 /Locul 3 • Cupa României la jocuri sportive sau sporturi individuale. Locul 1 / Locul 2 /Locul 3 • Campionate naționale universitare. Faza finală. Locul 1 / Locul 2 /Locul 3 • Campionate naționale universitare. Faza pe zonă. Locul 1 / Locul 2 /Locul 3 • Campionate naționale universitare. Faza pe centru uiversitar. Locul 1 / Locul 2 /Locul 3 | C80: =total_sport -> 0 | D80: • 100/95/90 • 85/80/75 • 80/70/60 • 50/45/40 • 35/30/25 • 20/15/10
A81: 6 | B81: Doctorat | C81: ='II6'!E15 -> 10
A82: 6.0 | B82: Deținerea calității de conducător de doctorat sau deținerea certificatului de abilitare | C82: ='II6'!E11 -> 0 | D82: 200
A83: 6.1 | B83: Număr de doctoranzi în stagiu legal la momentul raportării (inclusiv cei în cotutelă) | C83: ='II6'!E12 -> 0 | D83: Nr.doct.*50
A84: 6.2 | B84: Numar de teze de doctorat susținute în perioada de raportare | C84: ='II6'!E13 -> 0 | D84: Nr.teze*100
A85: 6.3 | B85: Membru în comisiile de îndrumare doctoranzi | C85: ='II6'!E14 -> 10 | D85: 5 | E85: Se punctează fiecare comisie raportată.
A86: 7 | B86: Prezentări invitate în plenul unor manifestări științifice internaționale sau naționale. | C86: ='II7'!F11 -> 0 | E86: Se punctează fiecare prezentare raportată.
B87: • Manifestări internaționale | C87: ='II7'!H11 -> 0 | D87: 20 | E87: Se iau în considerare doar contribuţii marcate ca atare în programul manifestării şi nu prezentări orale standard la manifestări ştiinţifice de tip Proceedings
B88: • Manifestări naționale | C88: ='II7'!I11 -> 0 | D88: 5
B89: • Alte manifestări ştiintifice naționale/internaţionale, workshop-uri, etc care nu publică volume | C89: ='II7'!J11 -> 0 | D89: 2
A90: 8 | B90: Membru în colective de redacție ale revistelor, comitete științifice ale manifestărilor științifice | C90: ='II8'!E9 -> 155
B91: • Reviste indexate ISI/WOS • Reviste indexate BDI • Reviste internaționale sau naționale neindexate | C91: ='II8'!H9 -> 25 | D91: • 50 • 25 • 10 | E91: Se punctează revistă raportată.
B92: • Conferințe indexate ISI • Conferințe indexate BDI • Conferințe internaționale sau naționale neindexate | C92: ='II8'!I9 -> 130 | D92: • 20 • 10 • 5 | E92: Se punctează fiecare conferință raportată.
A93: 9 | B93: Recenzent | C93: ='II9'!F9 -> 123 | E93: Se punctează fiecare recenzie raportată.
B94: Recenzent pentru reviste :
B95: • Reviste indexate ISI/WOS | C95: ='II9'!I9 -> 0 | D95: 10 | E95: Se punctează fiecare recenzie raportată.
B96: • Reviste indexate BDI | C96: ='II9'!J9 -> 54 | D96: 6
B97: • Alte reviste neindexate | C97: ='II9'!K9 -> 0 | D97: 4
B98: Recenzent pentru :
B99: • Conferinţe indexate ISI/WOS | C99: ='II9'!L9 -> 0 | D99: 5 | E99: Se punctează fiecare recenzie raportată.
B100: • Conferinţe indexate BDI | C100: ='II9'!M9 -> 69 | D100: 3
B101: • Alte conferinţe neindexate | C101: ='II9'!N9 -> 0 | D101: 2
...

Sheet Sport-Competiții
A1: Competiții | B1: Cupa_României | C1: Campionate_naționale_universitare | D1: Campionate_naționale | E1: Campionate_internaționale | G1: Clasare
A2: Cupa României | B2: jocuri sportive | C2: Faza finală | D2: jocuri sportive | E2: jocuri sportive | G2: Locul 1
A3: Campionate naționale universitare | B3: sporturi individuale | C3: Faza pe zonă | D3: sporturi individuale | E3: sporturi individuale | G3: Locul 2
A4: Campionate naționale | C4: Faza pe centru universitar | G4: Locul 3
A5: Campionate internaționale

Sheet Coef
A1: Indicator | B1: Punctaj | E1: Autori | F1: K
A2: 3.1a | B2: 120 | E2: 1 | F2: 1
A3: 3.2a | B3: 100 | E3: 2 | F3: 0.9
A4: 3.2b | B4: 80 | E4: 3 | F4: 0.8
A5: 3.3a | B5: 80 | E5: 4 | F5: 0.7
A6: 3.3b | B6: 70 | E6: 5 | F6: 0.6
A7: 3.3c | B7: 80 | E7: 6 | F7: 0.5
A8: 3.4a | B8: 40 | E8: 7 | F8: 0.5
A9: 3.4b | B9: 30 | E9: 8 | F9: 0.5
A10: 3.5a | B10: 30 | E10: 9 | F10: 0.5
A11: 3.5b | B11: 20 | E11: 10 | F11: 0.5
A12: 3.6a | B12: 20 | E12: 11 | F12: 0.5
B13: 10 | E13: 12 | F13: 0.5
A14: 3.6b | B14: 10 | E14: 13 | F14: 0.5
A15: 3.7 | B15: 100 | E15: 14 | F15: 0.5
B16: 200 | E16: 15 | F16: 0.5
B17: 100 | E17: 16 | F17: 0.5
A18: 2.1a | B18: 4 | C18: Cărți de specialitate/capitole în cărți de specialitate, tratate/capitole în tratate, monografii/capitole în monografii publicate la edituri din străinătate de clasa A (clasificare UPT)
A19: 2.1b | B19: 2 | C19: Cărți de specialitate/capitole în cărți de specialitate, tratate/capitole în tratate, monografii/capitole în monografii publicate la edituri din străinătate de clasa B (clasificare UPT)
A20: 2.1c | B20: 1.5 | C20: Cărți de specialitate/capitole în cărți de specialitate, tratate/capitole în tratate, monografii/capitole în monografii publicate la alte edituri din străinătate
A21: 2.1d | B21: 1 | C21: Cărți de specialitate/capitole în cărți de specialitate, tratate/capitole în tratate, monografii/capitole în monografii publicate la editura POLITEHNICA, editura Academiei, editura Tehnică, editura Polirom, Iasi (pt Stiintele Comunicarii) sau editura Paideia, Bucuresti (pt Arhitectura)
A22: 2.1e | B22: 0.5 | C22: Cărți de specialitate/capitole în cărți de specialitate, tratate/capitole în tratate, monografii/capitole în monografii publicate la alte edituri din țară (cu ISBN și referențiere științifică)
A23: 2.2a | B23: 2 | C23: Cărți de specialitate publicate în calitate de editor/coordonator publicate la edituri din străinătate de clasa A (clasificare UPT)
A24: 2.2b | B24: 1 | C24: Cărți de specialitate publicate în calitate de editor/coordonator publicate la edituri din străinătate de clasa B (clasificare UPT)
A25: 2.2c | B25: =1.5/2 -> 0.75 | C25: Cărți de specialitate publicate în calitate de editor/coordonator publicate la alte edituri din străinătate
A26: 2.2d | B26: 0.5 | C26: Cărți de specialitate publicate în calitate de editor/coordonator publicate la editura POLITEHNICA, editura Academiei, editura Tehnică, editura Polirom, Iasi (pt Stiintele Comunicarii) sau editura Paideia, Bucuresti (pt Arhitectura)
A27: 2.2e | B27: =0.5/2 -> 0.25 | C27: Cărți de specialitate publicate în calitate de editor/coordonator publicate la alte edituri din țară
A28: 2.2 | B28: 0.5
A29: 2.3 | B29: 0.2
A30: 2.3a | B30: 1
A31: 2.3b | B31: 0.5
A32: 2.4 | B32: 50
A33: 2.5 | B33: 15
A34: 2.6 | B34: 0.1
A35: 2.7 | B35: 0.05
A36: 4.1a | B36: 100
B37: 80
B38: 0
B39: 20
A40: 4.1b | B40: 30
B41: 20
B42: 15
B43: 10
A44: 4.2a | B44: 60
B45: 40
B46: 0
B47: 20
A48: 4.2b | B48: 15
B49: 10
B50: 7.5
B51: 5
A52: 5.1 | B52: 30
A53: 5.2 | B53: 12
A54: 5.3a | B54: 24
A55: 5.3b | B55: 16
A56: 5.3c | B56: 12
A57: ACSPR | B57: 40
A58: ACCLSUPT | B58: 40
A59: Mat1 | B59: 100
A60: Mat2 | B60: 40
A61: Grant 2017 | B61: 1
A62: Citări 2017 | B62: 0.8
A65: NR.ED. CNCSIS | B65: 207

Sheet I.1
A1: Universitatea Politehnica Timișoara
A2: =IF(ISBLANK(facultate), IF(ISBLANK(departament),"","Departament " & departament), "Facultatea " & facultate) -> Facultatea Automatică și Calculatoare
A3: =IF(ISBLANK(departament),"","Departamentul " & departament) -> Departamentul Automatică și Informatică Aplicată
A4: I. ACTIVITĂȚI DIDACTICE ȘI PROFESIONALE
A5: 1. Teza de doctorat
L6: =CONCATENATE(functie," ",nume_candidat) -> Conferențiar Bojan-Dragos Claudia-Adina
A7: Nr. crt. | B7: Autor | C7: Conducător științific | D7: Titlul tezei de doctorat | E7: Domeniul | G7: Editura | H7: ISBN | I7: Anul | J7: Număr de pagini | K7: Teza de doctorat confirmată prin OMEdC/data | L7: Punctaj obținut | M7: candidat găsit
E8: fundamental | F8: de doctorat
L9: =SUMIF(L10:L14,">0") -> 0
A10: 1 | B10: Popescu Ion | C10: Ionescu Pop | D10: teza | E10: domeniu | F10: domeniu | G10: editura | H10: 0 | I10: 2024 | J10: 100 | K10: 10.04.2014 | L10: =IF(OR($B10="",$C10="",$D10="",$I10<an_initial,$I10>an_final,$K10="",$M10=FALSE),"",100) | M10: =IF(nume_candidat="",FALSE,ISNUMBER(SEARCH(nume_candidat,$B10))) -> FALSE
A11: 2 | L11: =IF(OR($B11="",$C11="",$D11="",$I11<an_initial,$I11>an_final,$K11="",$M11=FALSE),"",100) | M11: =IF(nume_candidat="",FALSE,ISNUMBER(SEARCH(nume_candidat,$B11))) -> FALSE
A12: 3 | L12: =IF(OR($B12="",$C12="",$D12="",$I12<an_initial,$I12>an_final,$K12="",$M12=FALSE),"",100) | M12: =IF(nume_candidat="",FALSE,ISNUMBER(SEARCH(nume_candidat,$B12))) -> FALSE
A13: 4 | L13: =IF(OR($B13="",$C13="",$D13="",$I13<an_initial,$I13>an_final,$K13="",$M13=FALSE),"",100) | M13: =IF(nume_candidat="",FALSE,ISNUMBER(SEARCH(nume_candidat,$B13))) -> FALSE
A14: 5 | L14: =IF(OR($B14="",$C14="",$D14="",$I14<an_initial,$I14>an_final,$K14="",$M14=FALSE),"",100) | M14: =IF(nume_candidat="",FALSE,ISNUMBER(SEARCH(nume_candidat,$B14))) -> FALSE

Sheet I.2.1a
A1: Universitatea Politehnica Timișoara
A2: =IF(ISBLANK(facultate), IF(ISBLANK(departament),"","Departament " & departament), "Facultatea " & facultate) -> Facultatea Automatică și Calculatoare
A3: =IF(ISBLANK(departament),"","Departamentul " & departament) -> Departamentul Automatică și Informatică Aplicată
A4: I. ACTIVITĂȚI DIDACTICE ȘI PROFESIONALE
A5: 2.1a Cărţi de specialitate, tratate, monografii publicate la edituri din străinătate de clasa A (clasificare UPT)
I6: =CONCATENATE(functie," ",nume_candidat) -> Conferențiar Bojan-Dragos Claudia-Adina | J6: =CONCATENATE(functie," ",nume_candidat) -> Conferențiar Bojan-Dragos Claudia-Adina
A7: Nr. crt. | B7: Autori | C7: Titlul cărții | D7: Editura | E7: ISBN | F7: Anul | G7: Număr total de pagini | H7: Număr de pagini contribuție proprie | I7: Punctaj obținut | K7: Număr de lucrări | M7: Nr. pag. red. pr. | O7: candidat găsit | P7: autori
I8: =CONCATENATE("ultimii ",durata_evaluare," ani") -> ultimii 5 ani | J8: întreaga activitate | K8: =CONCATENATE("ultimii ",durata_evaluare," ani") -> ultimii 5 ani | L8: întreaga activitate | M8: întreaga activitate | N8: =CONCATENATE("ultimii ",durata_evaluare," ani") -> ultimii 5 ani
I9: =SUMIF(I10:I1010,">0") -> 0 | J9: =SUMIF(J10:J108,">0") -> 0 | K9: =SUMIF(K10:K108,">0") -> 0 | L9: =SUMIF(L10:L108,">0") -> 0 | M9: =SUMIF(M10:M108,">0") -> 0 | N9: =SUMIF(N10:N108,">0") -> 0
A10: 1 | I10: =IF(OR($B10="",$C10="",$D10="",$E10="",$F10<an_initial,$F10>an_final,$O10=FALSE),"",IF($H10="",CS_STR_A*$G10/P10,CS_STR_A*$H10)) | J10: =IF(OR($B10="",$C10="",$D10="",$E10="",$F10="",$F10>an_final,$O10=FALSE),"",IF($H10="",CS_STR_A*$G10/P10,CS_STR_A*$H10)) | K10: =IF(OR($B10="",$C10="",$D10="",$E10="",$F10="",$F10>an_final,$O10=FALSE),"",IF($F10>=an_initial,1,"")) | L10: =IF(OR($B10="",$C10="",$D10="",$E10="",$F10="",$F10>an_final,$O10=FALSE),"",1) | M10: =IF(OR($B10="",$C10="",$D10="",$E10="",$F10="",$F10>an_final,$O10=FALSE),"",IF($H10="",$G10/P10,$H10)) | N10: =IF(OR($B10="",$C10="",$D10="",$E10="",$F10="",$F10<an_initial,$F10>an_final,$O10=FALSE),"",IF($H10="",$G10/P10,$H10)) | O10: =IF(nume_candidat="",FALSE,ISNUMBER(SEARCH(nume_candidat,$B10))) -> FALSE | P10: =LEN(B10)-LEN(SUBSTITUTE(B10,",",""))+1 -> 1
A11: 2 | I11: =IF(OR($B11="",$C11="",$D11="",$E11="",$F11<an_initial,$F11>an_final,$O11=FALSE),"",IF($H11="",CS_STR_A*$G11/P11,CS_STR_A*$H11)) | J11: =IF(OR($B11="",$C11="",$D11="",$E11="",$F11="",$F11>an_final,$O11=FALSE),"",IF($H11="",CS_STR_A*$G11/P11,CS_STR_A*$H11)) | K11: =IF(OR($B11="",$C11="",$D11="",$E11="",$F11="",$F11>an_final,$O11=FALSE),"",IF($F11>=an_initial,1,"")) | L11: =IF(OR($B11="",$C11="",$D11="",$E11="",$F11="",$F11>an_final,$O11=FALSE),"",1) | M11: =IF(OR($B11="",$C11="",$D11="",$E11="",$F11="",$F11>an_final,$O11=FALSE),"",IF($H11="",$G11/P11,$H11)) | N11: =IF(OR($B11="",$C11="",$D11="",$E11="",$F11="",$F11<an_initial,$F11>an_final,$O11=FALSE),"",IF($H11="",$G11/P11,$H11)) | O11: =IF(nume_candidat="",FALSE,ISNUMBER(SEARCH(nume_candidat,$B11))) -> FALSE | P11: =LEN(B11)-LEN(SUBSTITUTE(B11,",",""))+1 -> 1
A12: 3 | I12: =IF(OR($B12="",$C12="",$D12="",$E12="",$F12<an_initial,$F12>an_final,$O12=FALSE),"",IF($H12="",CS_STR_A*$G12/P12,CS_STR_A*$H12)) | J12: =IF(OR($B12="",$C12="",$D12="",$E12="",$F12="",$F12>an_final,$O12=FALSE),"",IF($H12="",CS_STR_A*$G12/P12,CS_STR_A*$H12)) | K12: =IF(OR($B12="",$C12="",$D12="",$E12="",$F12="",$F12>an_final,$O12=FALSE),"",IF($F12>=an_initial,1,"")) | L12: =IF(OR($B12="",$C12="",$D12="",$E12="",$F12="",$F12>an_final,$O12=FALSE),"",1) | M12: =IF(OR($B12="",$C12="",$D12="",$E12="",$F12="",$F12>an_final,$O12=FALSE),"",IF($H12="",$G12/P12,$H12)) | N12: =IF(OR($B12="",$C12="",$D12="",$E12="",$F12="",$F12<an_initial,$F12>an_final,$O12=FALSE),"",IF($H12="",$G12/P12,$H12)) | O12: =IF(nume_candidat="",FALSE,ISNUMBER(SEARCH(nume_candidat,$B12))) -> FALSE | P12: =LEN(B12)-LEN(SUBSTITUTE(B12,",",""))+1 -> 1
A13: 4 | I13: =IF(OR($B13="",$C13="",$D13="",$E13="",$F13<an_initial,$F13>an_final,$O13=FALSE),"",IF($H13="",CS_STR_A*$G13/P13,CS_STR_A*$H13)) | J13: =IF(OR($B13="",$C13="",$D13="",$E13="",$F13="",$F13>an_final,$O13=FALSE),"",IF($H13="",CS_STR_A*$G13/P13,CS_STR_A*$H13)) | K13: =IF(OR($B13="",$C13="",$D13="",$E13="",$F13="",$F13>an_final,$O13=FALSE),"",IF($F13>=an_initial,1,"")) | L13: =IF(OR($B13="",$C13="",$D13="",$E13="",$F13="",$F13>an_final,$O13=FALSE),"",1) | M13: =IF(OR($B13="",$C13="",$D13="",$E13="",$F13="",$F13>an_final,$O13=FALSE),"",IF($H13="",$G13/P13,$H13)) | N13: =IF(OR($B13="",$C13="",$D13="",$E13="",$F13="",$F13<an_initial,$F13>an_final,$O13=FALSE),"",IF($H13="",$G13/P13,$H13)) | O13: =IF(nume_candidat="",FALSE,ISNUMBER(SEARCH(nume_candidat,$B13))) -> FALSE | P13: =LEN(B13)-LEN(SUBSTITUTE(B13,",",""))+1 -> 1
A14: 5 | I14: =IF(OR($B14="",$C14="",$D14="",$E14="",$F14<an_initial,$F14>an_final,$O14=FALSE),"",IF($H14="",CS_STR_A*$G14/P14,CS_STR_A*$H14)) | J14: =IF(OR($B14="",$C14="",$D14="",$E14="",$F14="",$F14>an_final,$O14=FALSE),"",IF($H14="",CS_STR_A*$G14/P14,CS_STR_A*$H14)) | K14: =IF(OR($B14="",$C14="",$D14="",$E14="",$F14="",$F14>an_final,$O14=FALSE),"",IF($F14>=an_initial,1,"")) | L14: =IF(OR($B14="",$C14="",$D14="",$E14="",$F14="",$F14>an_final,$O14=FALSE),"",1) | M14: =IF(OR($B14="",$C14="",$D14="",$E14="",$F14="",$F14>an_final,$O14=FALSE),"",IF($H14="",$G14/P14,$H14)) | N14: =IF(OR($B14="",$C14="",$D14="",$E14="",$F14="",$F14<an_initial,$F14>an_final,$O14=FALSE),"",IF($H14="",$G14/P14,$H14)) | O14: =IF(nume_candidat="",FALSE,ISNUMBER(SEARCH(nume_candidat,$B14))) -> FALSE | P14: =LEN(B14)-LEN(SUBSTITUTE(B14,",",""))+1 -> 1
A15: 6 | I15: =IF(OR($B15="",$C15="",$D15="",$E15="",$F15<an_initial,$F15>an_final,$O15=FALSE),"",IF($H15="",CS_STR_A*$G15/P15,CS_STR_A*$H15)) | J15: =IF(OR($B15="",$C15="",$D15="",$E15="",$F15="",$F15>an_final,$O15=FALSE),"",IF($H15="",CS_STR_A*$G15/P15,CS_STR_A*$H15)) | K15: =IF(OR($B15="",$C15="",$D15="",$E15="",$F15="",$F15>an_final,$O15=FALSE),"",IF($F15>=an_initial,1,"")) | L15: =IF(OR($B15="",$C15="",$D15="",$E15="",$F15="",$F15>an_final,$O15=FALSE),"",1) | M15: =IF(OR($B15="",$C15="",$D15="",$E15="",$F15="",$F15>an_final,$O15=FALSE),"",IF($H15="",$G15/P15,$H15)) | N15: =IF(OR($B15="",$C15="",$D15="",$E15="",$F15="",$F15<an_initial,$F15>an_final,$O15=FALSE),"",IF($H15="",$G15/P15,$H15)) | O15: =IF(nume_candidat="",FALSE,ISNUMBER(SEARCH(nume_candidat,$B15))) -> FALSE | P15: =LEN(B15)-LEN(SUBSTITUTE(B15,",",""))+1 -> 1
A16: 7 | I16: =IF(OR($B16="",$C16="",$D16="",$E16="",$F16<an_initial,$F16>an_final,$O16=FALSE),"",IF($H16="",CS_STR_A*$G16/P16,CS_STR_A*$H16)) | J16: =IF(OR($B16="",$C16="",$D16="",$E16="",$F16="",$F16>an_final,$O16=FALSE),"",IF($H16="",CS_STR_A*$G16/P16,CS_STR_A*$H16)) | K16: =IF(OR($B16="",$C16="",$D16="",$E16="",$F16="",$F16>an_final,$O16=FALSE),"",IF($F16>=an_initial,1,"")) | L16: =IF(OR($B16="",$C16="",$D16="",$E16="",$F16="",$F16>an_final,$O16=FALSE),"",1) | M16: =IF(OR($B16="",$C16="",$D16="",$E16="",$F16="",$F16>an_final,$O16=FALSE),"",IF($H16="",$G16/P16,$H16)) | N16: =IF(OR($B16="",$C16="",$D16="",$E16="",$F16="",$F16<an_initial,$F16>an_final,$O16=FALSE),"",IF($H16="",$G16/P16,$H16)) | O16: =IF(nume_candidat="",FALSE,ISNUMBER(SEARCH(nume_candidat,$B16))) -> FALSE | P16: =LEN(B16)-LEN(SUBSTITUTE(B16,",",""))+1 -> 1
A17: 8 | I17: =IF(OR($B17="",$C17="",$D17="",$E17="",$F17<an_initial,$F17>an_final,$O17=FALSE),"",IF($H17="",CS_STR_A*$G17/P17,CS_STR_A*$H17)) | J17: =IF(OR($B17="",$C17="",$D17="",$E17="",$F17="",$F17>an_final,$O17=FALSE),"",IF($H17="",CS_STR_A*$G17/P17,CS_STR_A*$H17)) | K17: =IF(OR($B17="",$C17="",$D17="",$E17="",$F17="",$F17>an_final,$O17=FALSE),"",IF($F17>=an_initial,1,"")) | L17: =IF(OR($B17="",$C17="",$D17="",$E17="",$F17="",$F17>an_final,$O17=FALSE),"",1) | M17: =IF(OR($B17="",$C17="",$D17="",$E17="",$F17="",$F17>an_final,$O17=FALSE),"",IF($H17="",$G17/P17,$H17)) | N17: =IF(OR($B17="",$C17="",$D17="",$E17="",$F17="",$F17<an_initial,$F17>an_final,$O17=FALSE),"",IF($H17="",$G17/P17,$H17)) | O17: =IF(nume_candidat="",FALSE,ISNUMBER(SEARCH(nume_candidat,$B17))) -> FALSE | P17: =LEN(B17)-LEN(SUBSTITUTE(B17,",",""))+1 -> 1
A18: 9 | I18: =IF(OR($B18="",$C18="",$D18="",$E18="",$F18<an_initial,$F18>an_final,$O18=FALSE),"",IF($H18="",CS_STR_A*$G18/P18,CS_STR_A*$H18)) | J18: =IF(OR($B18="",$C18="",$D18="",$E18="",$F18="",$F18>an_final,$O18=FALSE),"",IF($H18="",CS_STR_A*$G18/P18,CS_STR_A*$H18)) | K18: =IF(OR($B18="",$C18="",$D18="",$E18="",$F18="",$F18>an_final,$O18=FALSE),"",IF($F18>=an_initial,1,"")) | L18: =IF(OR($B18="",$C18="",$D18="",$E18="",$F18="",$F18>an_final,$O18=FALSE),"",1) | M18: =IF(OR($B18="",$C18="",$D18="",$E18="",$F18="",$F18>an_final,$O18=FALSE),"",IF($H18="",$G18/P18,$H18)) | N18: =IF(OR($B18="",$C18="",$D18="",$E18="",$F18="",$F18<an_initial,$F18>an_final,$O18=FALSE),"",IF($H18="",$G18/P18,$H18)) | O18: =IF(nume_candidat="",FALSE,ISNUMBER(SEARCH(nume_candidat,$B18))) -> FALSE | P18: =LEN(B18)-LEN(SUBSTITUTE(B18,",",""))+1 -> 1
A19: 10 | I19: =IF(OR($B19="",$C19="",$D19="",$E19="",$F19<an_initial,$F19>an_final,$O19=FALSE),"",IF($H19="",CS_STR_A*$G19/P19,CS_STR_A*$H19)) | J19: =IF(OR($B19="",$C19="",$D19="",$E19="",$F19="",$F19>an_final,$O19=FALSE),"",IF($H19="",CS_STR_A*$G19/P19,CS_STR_A*$H19)) | K19: =IF(OR($B19="",$C19="",$D19="",$E19="",$F19="",$F19>an_final,$O19=FALSE),"",IF($F19>=an_initial,1,"")) | L19: =IF(OR($B19="",$C19="",$D19="",$E19="",$F19="",$F19>an_final,$O19=FALSE),"",1) | M19: =IF(OR($B19="",$C19="",$D19="",$E19="",$F19="",$F19>an_final,$O19=FALSE),"",IF($H19="",$G19/P19,$H19)) | N19: =IF(OR($B19="",$C19="",$D19="",$E19="",$F19="",$F19<an_initial,$F19>an_final,$O19=FALSE),"",IF($H19="",$G19/P19,$H19)) | O19: =IF(nume_candidat="",FALSE,ISNUMBER(SEARCH(nume_candidat,$B19))) -> FALSE | P19: =LEN(B19)-LEN(SUBSTITUTE(B19,",",""))+1 -> 1
A20: 11 | I20: =IF(OR($B20="",$C20="",$D20="",$E20="",$F20<an_initial,$F20>an_final,$O20=FALSE),"",IF($H20="",CS_STR_A*$G20/P20,CS_STR_A*$H20)) | J20: =IF(OR($B20="",$C20="",$D20="",$E20="",$F20="",$F20>an_final,$O20=FALSE),"",IF($H20="",CS_STR_A*$G20/P20,CS_STR_A*$H20)) | K20: =IF(OR($B20="",$C20="",$D20="",$E20="",$F20="",$F20>an_final,$O20=FALSE),"",IF($F20>=an_initial,1,"")) | L20: =IF(OR($B20="",$C20="",$D20="",$E20="",$F20="",$F20>an_final,$O20=FALSE),"",1) | M20: =IF(OR($B20="",$C20="",$D20="",$E20="",$F20="",$F20>an_final,$O20=FALSE),"",IF($H20="",$G20/P20,$H20)) | N20: =IF(OR($B20="",$C20="",$D20="",$E20="",$F20="",$F20<an_initial,$F20>an_final,$O20=FALSE),"",IF($H20="",$G20/P20,$H20)) | O20: =IF(nume_candidat="",FALSE,ISNUMBER(SEARCH(nume_candidat,$B20))) -> FALSE | P20: =LEN(B20)-LEN(SUBSTITUTE(B20,",",""))+1 -> 1
A21: 12 | I21: =IF(OR($B21="",$C21="",$D21="",$E21="",$F21<an_initial,$F21>an_final,$O21=FALSE),"",IF($H21="",CS_STR_A*$G21/P21,CS_STR_A*$H21)) | J21: =IF(OR($B21="",$C21="",$D21="",$E21="",$F21="",$F21>an_final,$O21=FALSE),"",IF($H21="",CS_STR_A*$G21/P21,CS_STR_A*$H21)) | K21: =IF(OR($B21="",$C21="",$D21="",$E21="",$F21="",$F21>an_final,$O21=FALSE),"",IF($F21>=an_initial,1,"")) | L21: =IF(OR($B21="",$C21="",$D21="",$E21="",$F21="",$F21>an_final,$O21=FALSE),"",1) | M21: =IF(OR($B21="",$C21="",$D21="",$E21="",$F21="",$F21>an_final,$O21=FALSE),"",IF($H21="",$G21/P21,$H21)) | N21: =IF(OR($B21="",$C21="",$D21="",$E21="",$F21="",$F21<an_initial,$F21>an_final,$O21=FALSE),"",IF($H21="",$G21/P21,$H21)) | O21: =IF(nume_candidat="",FALSE,ISNUMBER(SEARCH(nume_candidat,$B21))) -> FALSE | P21: =LEN(B21)-LEN(SUBSTITUTE(B21,",",""))+1 -> 1
... A259: 250 | I259: =IF(OR($B259="",$C259="",$D259="",$E259="",$F259<an_initial,$F259>an_final,$O259=FALSE),"",IF($H259="",CS_STR_A*$G259/P259,CS_STR_A*$H259)) | J259: =IF(OR($B259="",$C259="",$D259="",$E259="",$F259="",$F259>an_final,$O259=FALSE),"",IF($H259="",CS_STR_A*$G259/P259,CS_STR_A*$H259)) | K259: =IF(OR($B259="",$C259="",$D259="",$E259="",$F259="",$F259>an_final,$O259=FALSE),"",IF($F259>=an_initial,1,"")) | L259: =IF(OR($B259="",$C259="",$D259="",$E259="",$F259="",$F259>an_final,$O259=FALSE),"",1) | M259: =IF(OR($B259="",$C259="",$D259="",$E259="",$F259="",$F259>an_final,$O259=FALSE),"",IF($H259="",$G259/P259,$H259)) | N259: =IF(OR($B259="",$C259="",$D259="",$E259="",$F259="",$F259<an_initial,$F259>an_final,$O259=FALSE),"",IF($H259="",$G259/P259,$H259)) | O259: =IF(nume_candidat="",FALSE,ISNUMBER(SEARCH(nume_candidat,$B259))) -> FALSE | P259: =LEN(B259)-LEN(SUBSTITUTE(B259,",",""))+1 -> 1

Sheet I.2.1b
A1: Universitatea Politehnica Timișoara
A2: =IF(ISBLANK(facultate), IF(ISBLANK(departament),"","Departament " & departament), "Facultatea " & facultate) -> Facultatea Automatică și Calculatoare
A3: =IF(ISBLANK(departament),"","Departamentul " & departament) -> Departamentul Automatică și Informatică Aplicată
A4: I. ACTIVITĂȚI DIDACTICE ȘI PROFESIONALE
A5: 2.1b Cărţi de specialitate, tratate, monografii publicate la edituri din străinătate de clasa B (clasificare UPT)
I6: =CONCATENATE(functie," ",nume_candidat) -> Conferențiar Bojan-Dragos Claudia-Adina | J6: =CONCATENATE(functie," ",nume_candidat) -> Conferențiar Bojan-Dragos Claudia-Adina
A7: Nr. crt. | B7: Autori | C7: Titlul cărții | D7: Editura | E7: ISBN | F7: Anul | G7: Număr total de pagini | H7: Număr de pagini contribuție proprie | I7: Punctaj obținut | K7: Număr de lucrări | M7: Nr. pag. red. pr. | O7: candidat găsit | P7: autori
I8: =CONCATENATE("ultimii ",durata_evaluare," ani") -> ultimii 5 ani | J8: întreaga activitate | K8: =CONCATENATE("ultimii ",durata_evaluare," ani") -> ultimii 5 ani | L8: întreaga activitate | M8: întreaga activitate | N8: =CONCATENATE("ultimii ",durata_evaluare," ani") -> ultimii 5 ani
I9: =SUMIF(I10:I1010,">0") -> 0 | J9: =SUMIF(J10:J108,">0") -> 0 | K9: =SUMIF(K10:K108,">0") -> 0 | L9: =SUMIF(L10:L108,">0") -> 0 | M9: =SUMIF(M10:M108,">0") -> 0 | N9: =SUMIF(N10:N108,">0") -> 0
A10: 1 | I10: =IF(OR($B10="",$C10="",$D10="",$E10="",$F10<an_initial,$F10>an_final,$O10=FALSE),"",IF($H10="",CS_STR_B*$G10/P10,CS_STR_B*$H10)) | J10: =IF(OR($B10="",$C10="",$D10="",$E10="",$F10="",$F10>an_final,$O10=FALSE),"",IF($H10="",CS_STR_B*$G10/P10,CS_STR_B*$H10)) | K10: =IF(OR($B10="",$C10="",$D10="",$E10="",$F10="",$F10>an_final,$O10=FALSE),"",IF($F10>=an_initial,1,"")) | L10: =IF(OR($B10="",$C10="",$D10="",$E10="",$F10="",$F10>an_final,$O10=FALSE),"",1) | M10: =IF(OR($B10="",$C10="",$D10="",$E10="",$F10="",$F10>an_final,$O10=FALSE),"",IF($H10="",$G10/P10,$H10)) | N10: =IF(OR($B10="",$C10="",$D10="",$E10="",$F10="",$F10<an_initial,$F10>an_final,$O10=FALSE),"",IF($H10="",$G10/P10,$H10)) | O10: =IF(nume_candidat="",FALSE,ISNUMBER(SEARCH(nume_candidat,$B10))) -> FALSE | P10: =LEN(B10)-LEN(SUBSTITUTE(B10,",",""))+1 -> 1
A11: 2 | I11: =IF(OR($B11="",$C11="",$D11="",$E11="",$F11<an_initial,$F11>an_final,$O11=FALSE),"",IF($H11="",CS_STR_B*$G11/P11,CS_STR_B*$H11)) | J11: =IF(OR($B11="",$C11="",$D11="",$E11="",$F11="",$F11>an_final,$O11=FALSE),"",IF($H11="",CS_STR_B*$G11/P11,CS_STR_B*$H11)) | K11: =IF(OR($B11="",$C11="",$D11="",$E11="",$F11="",$F11>an_final,$O11=FALSE),"",IF($F11>=an_initial,1,"")) | L11: =IF(OR($B11="",$C11="",$D11="",$E11="",$F11="",$F11>an_final,$O11=FALSE),"",1) | M11: =IF(OR($B11="",$C11="",$D11="",$E11="",$F11="",$F11>an_final,$O11=FALSE),"",IF($H11="",$G11/P11,$H11)) | N11: =IF(OR($B11="",$C11="",$D11="",$E11="",$F11="",$F11<an_initial,$F11>an_final,$O11=FALSE),"",IF($H11="",$G11/P11,$H11)) | O11: =IF(nume_candidat="",FALSE,ISNUMBER(SEARCH(nume_candidat,$B11))) -> FALSE | P11: =LEN(B11)-LEN(SUBSTITUTE(B11,",",""))+1 -> 1
A12: 3 | I12: =IF(OR($B12="",$C12="",$D12="",$E12="",$F12<an_initial,$F12>an_final,$O12=FALSE),"",IF($H12="",CS_STR_B*$G12/P12,CS_STR_B*$H12)) | J12: =IF(OR($B12="",$C12="",$D12="",$E12="",$F12="",$F12>an_final,$O12=FALSE),"",IF($H12="",CS_STR_B*$G12/P12,CS_STR_B*$H12)) | K12: =IF(OR($B12="",$C12="",$D12="",$E12="",$F12="",$F12>an_final,$O12=FALSE),"",IF($F12>=an_initial,1,"")) | L12: =IF(OR($B12="",$C12="",$D12="",$E12="",$F12="",$F12>an_final,$O12=FALSE),"",1) | M12: =IF(OR($B12="",$C12="",$D12="",$E12="",$F12="",$F12>an_final,$O12=FALSE),"",IF($H12="",$G12/P12,$H12)) | N12: =IF(OR($B12="",$C12="",$D12="",$E12="",$F12="",$F12<an_initial,$F12>an_final,$O12=FALSE),"",IF($H12="",$G12/P12,$H12)) | O12: =IF(nume_candidat="",FALSE,ISNUMBER(SEARCH(nume_candidat,$B12))) -> FALSE | P12: =LEN(B12)-LEN(SUBSTITUTE(B12,",",""))+1 -> 1
A13: 4 | I13: =IF(OR($B13="",$C13="",$D13="",$E13="",$F13<an_initial,$F13>an_final,$O13=FALSE),"",IF($H13="",CS_STR_B*$G13/P13,CS_STR_B*$H13)) | J13: =IF(OR($B13="",$C13="",$D13="",$E13="",$F13="",$F13>an_final,$O13=FALSE),"",IF($H13="",CS_STR_B*$G13/P13,CS_STR_B*$H13)) | K13: =IF(OR($B13="",$C13="",$D13="",$E13="",$F13="",$F13>an_final,$O13=FALSE),"",IF($F13>=an_initial,1,"")) | L13: =IF(OR($B13="",$C13="",$D13="",$E13="",$F13="",$F13>an_final,$O13=FALSE),"",1) | M13: =IF(OR($B13="",$C13="",$D13="",$E13="",$F13="",$F13>an_final,$O13=FALSE),"",IF($H13="",$G13/P13,$H13)) | N13: =IF(OR($B13="",$C13="",$D13="",$E13="",$F13="",$F13<an_initial,$F13>an_final,$O13=FALSE),"",IF($H13="",$G13/P13,$H13)) | O13: =IF(nume_candidat="",FALSE,ISNUMBER(SEARCH(nume_candidat,$B13))) -> FALSE | P13: =LEN(B13)-LEN(SUBSTITUTE(B13,",",""))+1 -> 1
A14: 5 | I14: =IF(OR($B14="",$C14="",$D14="",$E14="",$F14<an_initial,$F14>an_final,$O14=FALSE),"",IF($H14="",CS_STR_B*$G14/P14,CS_STR_B*$H14)) | J14: =IF(OR($B14="",$C14="",$D14="",$E14="",$F14="",$F14>an_final,$O14=FALSE),"",IF($H14="",CS_STR_B*$G14/P14,CS_STR_B*$H14)) | K14: =IF(OR($B14="",$C14="",$D14="",$E14="",$F14="",$F14>an_final,$O14=FALSE),"",IF($F14>=an_initial,1,"")) | L14: =IF(OR($B14="",$C14="",$D14="",$E14="",$F14="",$F14>an_final,$O14=FALSE),"",1) | M14: =IF(OR($B14="",$C14="",$D14="",$E14="",$F14="",$F14>an_final,$O14=FALSE),"",IF($H14="",$G14/P14,$H14)) | N14: =IF(OR($B14="",$C14="",$D14="",$E14="",$F14="",$F14<an_initial,$F14>an_final,$O14=FALSE),"",IF($H14="",$G14/P14,$H14)) | O14: =IF(nume_candidat="",FALSE,ISNUMBER(SEARCH(nume_candidat,$B14))) -> FALSE | P14: =LEN(B14)-LEN(SUBSTITUTE(B14,",",""))+1 -> 1
A15: 6 | I15: =IF(OR($B15="",$C15="",$D15="",$E15="",$F15<an_initial,$F15>an_final,$O15=FALSE),"",IF($H15="",CS_STR_B*$G15/P15,CS_STR_B*$H15)) | J15: =IF(OR($B15="",$C15="",$D15="",$E15="",$F15="",$F15>an_final,$O15=FALSE),"",IF($H15="",CS_STR_B*$G15/P15,CS_STR_B*$H15)) | K15: =IF(OR($B15="",$C15="",$D15="",$E15="",$F15="",$F15>an_final,$O15=FALSE),"",IF($F15>=an_initial,1,"")) | L15: =IF(OR($B15="",$C15="",$D15="",$E15="",$F15="",$F15>an_final,$O15=FALSE),"",1) | M15: =IF(OR($B15="",$C15="",$D15="",$E15="",$F15="",$F15>an_final,$O15=FALSE),"",IF($H15="",$G15/P15,$H15)) | N15: =IF(OR($B15="",$C15="",$D15="",$E15="",$F15="",$F15<an_initial,$F15>an_final,$O15=FALSE),"",IF($H15="",$G15/P15,$H15)) | O15: =IF(nume_candidat="",FALSE,ISNUMBER(SEARCH(nume_candidat,$B15))) -> FALSE | P15: =LEN(B15)-LEN(SUBSTITUTE(B15,",",""))+1 -> 1
A16: 7 | I16: =IF(OR($B16="",$C16="",$D16="",$E16="",$F16<an_initial,$F16>an_final,$O16=FALSE),"",IF($H16="",CS_STR_B*$G16/P16,CS_STR_B*$H16)) | J16: =IF(OR($B16="",$C16="",$D16="",$E16="",$F16="",$F16>an_final,$O16=FALSE),"",IF($H16="",CS_STR_B*$G16/P16,CS_STR_B*$H16)) | K16: =IF(OR($B16="",$C16="",$D16="",$E16="",$F16="",$F16>an_final,$O16=FALSE),"",IF($F16>=an_initial,1,"")) | L16: =IF(OR($B16="",$C16="",$D16="",$E16="",$F16="",$F16>an_final,$O16=FALSE),"",1) | M16: =IF(OR($B16="",$C16="",$D16="",$E16="",$F16="",$F16>an_final,$O16=FALSE),"",IF($H16="",$G16/P16,$H16)) | N16: =IF(OR($B16="",$C16="",$D16="",$E16="",$F16="",$F16<an_initial,$F16>an_final,$O16=FALSE),"",IF($H16="",$G16/P16,$H16)) | O16: =IF(nume_candidat="",FALSE,ISNUMBER(SEARCH(nume_candidat,$B16))) -> FALSE | P16: =LEN(B16)-LEN(SUBSTITUTE(B16,",",""))+1 -> 1
A17: 8 | I17: =IF(OR($B17="",$C17="",$D17="",$E17="",$F17<an_initial,$F17>an_final,$O17=FALSE),"",IF($H17="",CS_STR_B*$G17/P17,CS_STR_B*$H17)) | J17: =IF(OR($B17="",$C17="",$D17="",$E17="",$F17="",$F17>an_final,$O17=FALSE),"",IF($H17="",CS_STR_B*$G17/P17,CS_STR_B*$H17)) | K17: =IF(OR($B17="",$C17="",$D17="",$E17="",$F17="",$F17>an_final,$O17=FALSE),"",IF($F17>=an_initial,1,"")) | L17: =IF(OR($B17="",$C17="",$D17="",$E17="",$F17="",$F17>an_final,$O17=FALSE),"",1) | M17: =IF(OR($B17="",$C17="",$D17="",$E17="",$F17="",$F17>an_final,$O17=FALSE),"",IF($H17="",$G17/P17,$H17)) | N17: =IF(OR($B17="",$C17="",$D17="",$E17="",$F17="",$F17<an_initial,$F17>an_final,$O17=FALSE),"",IF($H17="",$G17/P17,$H17)) | O17: =IF(nume_candidat="",FALSE,ISNUMBER(SEARCH(nume_candidat,$B17))) -> FALSE | P17: =LEN(B17)-LEN(SUBSTITUTE(B17,",",""))+1 -> 1
A18: 9 | I18: =IF(OR($B18="",$C18="",$D18="",$E18="",$F18<an_initial,$F18>an_final,$O18=FALSE),"",IF($H18="",CS_STR_B*$G18/P18,CS_STR_B*$H18)) | J18: =IF(OR($B18="",$C18="",$D18="",$E18="",$F18="",$F18>an_final,$O18=FALSE),"",IF($H18="",CS_STR_B*$G18/P18,CS_STR_B*$H18)) | K18: =IF(OR($B18="",$C18="",$D18="",$E18="",$F18="",$F18>an_final,$O18=FALSE),"",IF($F18>=an_initial,1,"")) | L18: =IF(OR($B18="",$C18="",$D18="",$E18="",$F18="",$F18>an_final,$O18=FALSE),"",1) | M18: =IF(OR($B18="",$C18="",$D18="",$E18="",$F18="",$F18>an_final,$O18=FALSE),"",IF($H18="",$G18/P18,$H18)) | N18: =IF(OR($B18="",$C18="",$D18="",$E18="",$F18="",$F18<an_initial,$F18>an_final,$O18=FALSE),"",IF($H18="",$G18/P18,$H18)) | O18: =IF(nume_candidat="",FALSE,ISNUMBER(SEARCH(nume_candidat,$B18))) -> FALSE | P18: =LEN(B18)-LEN(SUBSTITUTE(B18,",",""))+1 -> 1
A19: 10 | I19: =IF(OR($B19="",$C19="",$D19="",$E19="",$F19<an_initial,$F19>an_final,$O19=FALSE),"",IF($H19="",CS_STR_B*$G19/P19,CS_STR_B*$H19)) | J19: =IF(OR($B19="",$C19="",$D19="",$E19="",$F19="",$F19>an_final,$O19=FALSE),"",IF($H19="",CS_STR_B*$G19/P19,CS_STR_B*$H19)) | K19: =IF(OR($B19="",$C19="",$D19="",$E19="",$F19="",$F19>an_final,$O19=FALSE),"",IF($F19>=an_initial,1,"")) | L19: =IF(OR($B19="",$C19="",$D19="",$E19="",$F19="",$F19>an_final,$O19=FALSE),"",1) | M19: =IF(OR($B19="",$C19="",$D19="",$E19="",$F19="",$F19>an_final,$O19=FALSE),"",IF($H19="",$G19/P19,$H19)) | N19: =IF(OR($B19="",$C19="",$D19="",$E19="",$F19="",$F19<an_initial,$F19>an_final,$O19=FALSE),"",IF($H19="",$G19/P19,$H19)) | O19: =IF(nume_candidat="",FALSE,ISNUMBER(SEARCH(nume_candidat,$B19))) -> FALSE | P19: =LEN(B19)-LEN(SUBSTITUTE(B19,",",""))+1 -> 1
A20: 11 | I20: =IF(OR($B20="",$C20="",$D20="",$E20="",$F20<an_initial,$F20>an_final,$O20=FALSE),"",IF($H20="",CS_STR_B*$G20/P20,CS_STR_B*$H20)) | J20: =IF(OR($B20="",$C20="",$D20="",$E20="",$F20="",$F20>an_final,$O20=FALSE),"",IF($H20="",CS_STR_B*$G20/P20,CS_STR_B*$H20)) | K20: =IF(OR($B20="",$C20="",$D20="",$E20="",$F20="",$F20>an_final,$O20=FALSE),"",IF($F20>=an_initial,1,"")) | L20: =IF(OR($B20="",$C20="",$D20="",$E20="",$F20="",$F20>an_final,$O20=FALSE),"",1) | M20: =IF(OR($B20="",$C20="",$D20="",$E20="",$F20="",$F20>an_final,$O20=FALSE),"",IF($H20="",$G20/P20,$H20)) | N20: =IF(OR($B20="",$C20="",$D20="",$E20="",$F20="",$F20<an_initial,$F20>an_final,$O20=FALSE),"",IF($H20="",$G20/P20,$H20)) | O20: =IF(nume_candidat="",FALSE,ISNUMBER(SEARCH(nume_candidat,$B20))) -> FALSE | P20: =LEN(B20)-LEN(SUBSTITUTE(B20,",",""))+1 -> 1
A21: 12 | I21: =IF(OR($B21="",$C21="",$D21="",$E21="",$F21<an_initial,$F21>an_final,$O21=FALSE),"",IF($H21="",CS_STR_B*$G21/P21,CS_STR_B*$H21)) | J21: =IF(OR($B21="",$C21="",$D21="",$E21="",$F21="",$F21>an_final,$O21=FALSE),"",IF($H21="",CS_STR_B*$G21/P21,CS_STR_B*$H21)) | K21: =IF(OR($B21="",$C21="",$D21="",$E21="",$F21="",$F21>an_final,$O21=FALSE),"",IF($F21>=an_initial,1,"")) | L21: =IF(OR($B21="",$C21="",$D21="",$E21="",$F21="",$F21>an_final,$O21=FALSE),"",1) | M21: =IF(OR($B21="",$C21="",$D21="",$E21="",$F21="",$F21>an_final,$O21=FALSE),"",IF($H21="",$G21/P21,$H21)) | N21: =IF(OR($B21="",$C21="",$D21="",$E21="",$F21="",$F21<an_initial,$F21>an_final,$O21=FALSE),"",IF($H21="",$G21/P21,$H21)) | O21: =IF(nume_candidat="",FALSE,ISNUMBER(SEARCH(nume_candidat,$B21))) -> FALSE | P21: =LEN(B21)-LEN(SUBSTITUTE(B21,",",""))+1 -> 1
... A259: 250 | I259: =IF(OR($B259="",$C259="",$D259="",$E259="",$F259<an_initial,$F259>an_final,$O259=FALSE),"",IF($H259="",CS_STR_B*$G259/P259,CS_STR_B*$H259)) | J259: =IF(OR($B259="",$C259="",$D259="",$E259="",$F259="",$F259>an_final,$O259=FALSE),"",IF($H259="",CS_STR_B*$G259/P259,CS_STR_B*$H259)) | K259: =IF(OR($B259="",$C259="",$D259="",$E259="",$F259="",$F259>an_final,$O259=FALSE),"",IF($F259>=an_initial,1,"")) | L259: =IF(OR($B259="",$C259="",$D259="",$E259="",$F259="",$F259>an_final,$O259=FALSE),"",1) | M259: =IF(OR($B259="",$C259="",$D259="",$E259="",$F259="",$F259>an_final,$O259=FALSE),"",IF($H259="",$G259/P259,$H259)) | N259: =IF(OR($B259="",$C259="",$D259="",$E259="",$F259="",$F259<an_initial,$F259>an_final,$O259=FALSE),"",IF($H259="",$G259/P259,$H259)) | O259: =IF(nume_candidat="",FALSE,ISNUMBER(SEARCH(nume_candidat,$B259))) -> FALSE | P259: =LEN(B259)-LEN(SUBSTITUTE(B259,",",""))+1 -> 1

Sheet I.2.1c
A1: Universitatea Politehnica Timișoara
A2: =IF(ISBLANK(facultate), IF(ISBLANK(departament),"","Departament " & departament), "Facultatea " & facultate) -> Facultatea Automatică și Calculatoare
A3: =IF(ISBLANK(departament),"","Departamentul " & departament) -> Departamentul Automatică și Informatică Aplicată
A4: I. ACTIVITĂȚI DIDACTICE ȘI PROFESIONALE
A5: 2.1c Cărţi de specialitate, tratate, monografii publicate la alte edituri din străinătate
I6: =CONCATENATE(functie," ",nume_candidat) -> Conferențiar Bojan-Dragos Claudia-Adina | J6: =CONCATENATE(functie," ",nume_candidat) -> Conferențiar Bojan-Dragos Claudia-Adina
A7: Nr. crt. | B7: Autori | C7: Titlul cărții | D7: Editura | E7: ISBN | F7: Anul | G7: Număr total de pagini | H7: Număr de pagini contribuție proprie | I7: Punctaj obținut | K7: Număr de lucrări | M7: Nr. pag. red. pr. | O7: candidat găsit | P7: autori
I8: =CONCATENATE("ultimii ",durata_evaluare," ani") -> ultimii 5 ani | J8: întreaga activitate | K8: =CONCATENATE("ultimii ",durata_evaluare," ani") -> ultimii 5 ani | L8: întreaga activitate | M8: întreaga activitate | N8: =CONCATENATE("ultimii ",durata_evaluare," ani") -> ultimii 5 ani
I9: =SUMIF(I10:I1010,">0") -> 0 | J9: =SUMIF(J10:J214,">0") -> 0 | K9: =SUMIF(K10:K214,">0") -> 0 | L9: =SUMIF(L10:L214,">0") -> 0 | M9: =SUMIF(M10:M214,">0") -> 0 | N9: =SUMIF(N10:N214,">0") -> 0
A10: 1 | I10: =IF(OR($B10="",$C10="",$D10="",$E10="",$F10<an_initial,$F10>an_final,$O10=FALSE),"",IF($H10="",CS_STR_ALTE*$G10/P10,CS_STR_ALTE*$H10)) | J10: =IF(OR($B10="",$C10="",$D10="",$E10="",$F10="",$F10>an_final,$O10=FALSE),"",IF($H10="",CS_STR_ALTE*$G10/P10,CS_STR_ALTE*$H10)) | K10: =IF(OR($B10="",$C10="",$D10="",$E10="",$F10="",$F10>an_final,$O10=FALSE),"",IF($F10>=an_initial,1,"")) | L10: =IF(OR($B10="",$C10="",$D10="",$E10="",$F10="",$F10>an_final,$O10=FALSE),"",1) | M10: =IF(OR($B10="",$C10="",$D10="",$E10="",$F10="",$F10>an_final,$O10=FALSE),"",IF($H10="",$G10/P10,$H10)) | N10: =IF(OR($B10="",$C10="",$D10="",$E10="",$F10="",$F10<an_initial,$F10>an_final,$O10=FALSE),"",IF($H10="",$G10/P10,$H10)) | O10: =IF(nume_candidat="",FALSE,ISNUMBER(SEARCH(nume_candidat,$B10))) -> FALSE | P10: =LEN(B10)-LEN(SUBSTITUTE(B10,",",""))+1 -> 1
A11: 2 | I11: =IF(OR($B11="",$C11="",$D11="",$E11="",$F11<an_initial,$F11>an_final,$O11=FALSE),"",IF($H11="",CS_STR_ALTE*$G11/P11,CS_STR_ALTE*$H11)) | J11: =IF(OR($B11="",$C11="",$D11="",$E11="",$F11="",$F11>an_final,$O11=FALSE),"",IF($H11="",CS_STR_ALTE*$G11/P11,CS_STR_ALTE*$H11)) | K11: =IF(OR($B11="",$C11="",$D11="",$E11="",$F11="",$F11>an_final,$O11=FALSE),"",IF($F11>=an_initial,1,"")) | L11: =IF(OR($B11="",$C11="",$D11="",$E11="",$F11="",$F11>an_final,$O11=FALSE),"",1) | M11: =IF(OR($B11="",$C11="",$D11="",$E11="",$F11="",$F11>an_final,$O11=FALSE),"",IF($H11="",$G11/P11,$H11)) | N11: =IF(OR($B11="",$C11="",$D11="",$E11="",$F11="",$F11<an_initial,$F11>an_final,$O11=FALSE),"",IF($H11="",$G11/P11,$H11)) | O11: =IF(nume_candidat="",FALSE,ISNUMBER(SEARCH(nume_candidat,$B11))) -> FALSE | P11: =LEN(B11)-LEN(SUBSTITUTE(B11,",",""))+1 -> 1
A12: 3 | I12: =IF(OR($B12="",$C12="",$D12="",$E12="",$F12<an_initial,$F12>an_final,$O12=FALSE),"",IF($H12="",CS_STR_ALTE*$G12/P12,CS_STR_ALTE*$H12)) | J12: =IF(OR($B12="",$C12="",$D12="",$E12="",$F12="",$F12>an_final,$O12=FALSE),"",IF($H12="",CS_STR_ALTE*$G12/P12,CS_STR_ALTE*$H12)) | K12: =IF(OR($B12="",$C12="",$D12="",$E12="",$F12="",$F12>an_final,$O12=FALSE),"",IF($F12>=an_initial,1,"")) | L12: =IF(OR($B12="",$C12="",$D12="",$E12="",$F12="",$F12>an_final,$O12=FALSE),"",1) | M12: =IF(OR($B12="",$C12="",$D12="",$E12="",$F12="",$F12>an_final,$O12=FALSE),"",IF($H12="",$G12/P12,$H12)) | N12: =IF(OR($B12="",$C12="",$D12="",$E12="",$F12="",$F12<an_initial,$F12>an_final,$O12=FALSE),"",IF($H12="",$G12/P12,$H12)) | O12: =IF(nume_candidat="",FALSE,ISNUMBER(SEARCH(nume_candidat,$B12))) -> FALSE | P12: =LEN(B12)-LEN(SUBSTITUTE(B12,",",""))+1 -> 1
A13: 4 | I13: =IF(OR($B13="",$C13="",$D13="",$E13="",$F13<an_initial,$F13>an_final,$O13=FALSE),"",IF($H13="",CS_STR_ALTE*$G13/P13,CS_STR_ALTE*$H13)) | J13: =IF(OR($B13="",$C13="",$D13="",$E13="",$F13="",$F13>an_final,$O13=FALSE),"",IF($H13="",CS_STR_ALTE*$G13/P13,CS_STR_ALTE*$H13)) | K13: =IF(OR($B13="",$C13="",$D13="",$E13="",$F13="",$F13>an_final,$O13=FALSE),"",IF($F13>=an_initial,1,"")) | L13: =IF(OR($B13="",$C13="",$D13="",$E13="",$F13="",$F13>an_final,$O13=FALSE),"",1) | M13: =IF(OR($B13="",$C13="",$D13="",$E13="",$F13="",$F13>an_final,$O13=FALSE),"",IF($H13="",$G13/P13,$H13)) | N13: =IF(OR($B13="",$C13="",$D13="",$E13="",$F13="",$F13<an_initial,$F13>an_final,$O13=FALSE),"",IF($H13="",$G13/P13,$H13)) | O13: =IF(nume_candidat="",FALSE,ISNUMBER(SEARCH(nume_candidat,$B13))) -> FALSE | P13: =LEN(B13)-LEN(SUBSTITUTE(B13,",",""))+1 -> 1
A14: 5 | I14: =IF(OR($B14="",$C14="",$D14="",$E14="",$F14<an_initial,$F14>an_final,$O14=FALSE),"",IF($H14="",CS_STR_ALTE*$G14/P14,CS_STR_ALTE*$H14)) | J14: =IF(OR($B14="",$C14="",$D14="",$E14="",$F14="",$F14>an_final,$O14=FALSE),"",IF($H14="",CS_STR_ALTE*$G14/P14,CS_STR_ALTE*$H14)) | K14: =IF(OR($B14="",$C14="",$D14="",$E14="",$F14="",$F14>an_final,$O14=FALSE),"",IF($F14>=an_initial,1,"")) | L14: =IF(OR($B14="",$C14="",$D14="",$E14="",$F14="",$F14>an_final,$O14=FALSE),"",1) | M14: =IF(OR($B14="",$C14="",$D14="",$E14="",$F14="",$F14>an_final,$O14=FALSE),"",IF($H14="",$G14/P14,$H14)) | N14: =IF(OR($B14="",$C14="",$D14="",$E14="",$F14="",$F14<an_initial,$F14>an_final,$O14=FALSE),"",IF($H14="",$G14/P14,$H14)) | O14: =IF(nume_candidat="",FALSE,ISNUMBER(SEARCH(nume_candidat,$B14))) -> FALSE | P14: =LEN(B14)-LEN(SUBSTITUTE(B14,",",""))+1 -> 1
A15: 6 | I15: =IF(OR($B15="",$C15="",$D15="",$E15="",$F15<an_initial,$F15>an_final,$O15=FALSE),"",IF($H15="",CS_STR_ALTE*$G15/P15,CS_STR_ALTE*$H15)) | J15: =IF(OR($B15="",$C15="",$D15="",$E15="",$F15="",$F15>an_final,$O15=FALSE),"",IF($H15="",CS_STR_ALTE*$G15/P15,CS_STR_ALTE*$H15)) | K15: =IF(OR($B15="",$C15="",$D15="",$E15="",$F15="",$F15>an_final,$O15=FALSE),"",IF($F15>=an_initial,1,"")) | L15: =IF(OR($B15="",$C15="",$D15="",$E15="",$F15="",$F15>an_final,$O15=FALSE),"",1) | M15: =IF(OR($B15="",$C15="",$D15="",$E15="",$F15="",$F15>an_final,$O15=FALSE),"",IF($H15="",$G15/P15,$H15)) | N15: =IF(OR($B15="",$C15="",$D15="",$E15="",$F15="",$F15<an_initial,$F15>an_final,$O15=FALSE),"",IF($H15="",$G15/P15,$H15)) | O15: =IF(nume_candidat="",FALSE,ISNUMBER(SEARCH(nume_candidat,$B15))) -> FALSE | P15: =LEN(B15)-LEN(SUBSTITUTE(B15,",",""))+1 -> 1
A16: 7 | I16: =IF(OR($B16="",$C16="",$D16="",$E16="",$F16<an_initial,$F16>an_final,$O16=FALSE),"",IF($H16="",CS_STR_ALTE*$G16/P16,CS_STR_ALTE*$H16)) | J16: =IF(OR($B16="",$C16="",$D16="",$E16="",$F16="",$F16>an_final,$O16=FALSE),"",IF($H16="",CS_STR_ALTE*$G16/P16,CS_STR_ALTE*$H16)) | K16: =IF(OR($B16="",$C16="",$D16="",$E16="",$F16="",$F16>an_final,$O16=FALSE),"",IF($F16>=an_initial,1,"")) | L16: =IF(OR($B16="",$C16="",$D16="",$E16="",$F16="",$F16>an_final,$O16=FALSE),"",1) | M16: =IF(OR($B16="",$C16="",$D16="",$E16="",$F16="",$F16>an_final,$O16=FALSE),"",IF($H16="",$G16/P16,$H16)) | N16: =IF(OR($B16="",$C16="",$D16="",$E16="",$F16="",$F16<an_initial,$F16>an_final,$O16=FALSE),"",IF($H16="",$G16/P16,$H16)) | O16: =IF(nume_candidat="",FALSE,ISNUMBER(SEARCH(nume_candidat,$B16))) -> FALSE | P16: =LEN(B16)-LEN(SUBSTITUTE(B16,",",""))+1 -> 1
A17: 8 | I17: =IF(OR($B17="",$C17="",$D17="",$E17="",$F17<an_initial,$F17>an_final,$O17=FALSE),"",IF($H17="",CS_STR_ALTE*$G17/P17,CS_STR_ALTE*$H17)) | J17: =IF(OR($B17="",$C17="",$D17="",$E17="",$F17="",$F17>an_final,$O17=FALSE),"",IF($H17="",CS_STR_ALTE*$G17/P17,CS_STR_ALTE*$H17)) | K17: =IF(OR($B17="",$C17="",$D17="",$E17="",$F17="",$F17>an_final,$O17=FALSE),"",IF($F17>=an_initial,1,"")) | L17: =IF(OR($B17="",$C17="",$D17="",$E17="",$F17="",$F17>an_final,$O17=FALSE),"",1) | M17: =IF(OR($B17="",$C17="",$D17="",$E17="",$F17="",$F17>an_final,$O17=FALSE),"",IF($H17="",$G17/P17,$H17)) | N17: =IF(OR($B17="",$C17="",$D17="",$E17="",$F17="",$F17<an_initial,$F17>an_final,$O17=FALSE),"",IF($H17="",$G17/P17,$H17)) | O17: =IF(nume_candidat="",FALSE,ISNUMBER(SEARCH(nume_candidat,$B17))) -> FALSE | P17: =LEN(B17)-LEN(SUBSTITUTE(B17,",",""))+1 -> 1
A18: 9 | I18: =IF(OR($B18="",$C18="",$D18="",$E18="",$F18<an_initial,$F18>an_final,$O18=FALSE),"",IF($H18="",CS_STR_ALTE*$G18/P18,CS_STR_ALTE*$H18)) | J18: =IF(OR($B18="",$C18="",$D18="",$E18="",$F18="",$F18>an_final,$O18=FALSE),"",IF($H18="",CS_STR_ALTE*$G18/P18,CS_STR_ALTE*$H18)) | K18: =IF(OR($B18="",$C18="",$D18="",$E18="",$F18="",$F18>an_final,$O18=FALSE),"",IF($F18>=an_initial,1,"")) | L18: =IF(OR($B18="",$C18="",$D18="",$E18="",$F18="",$F18>an_final,$O18=FALSE),"",1) | M18: =IF(OR($B18="",$C18="",$D18="",$E18="",$F18="",$F18>an_final,$O18=FALSE),"",IF($H18="",$G18/P18,$H18)) | N18: =IF(OR($B18="",$C18="",$D18="",$E18="",$F18="",$F18<an_initial,$F18>an_final,$O18=FALSE),"",IF($H18="",$G18/P18,$H18)) | O18: =IF(nume_candidat="",FALSE,ISNUMBER(SEARCH(nume_candidat,$B18))) -> FALSE | P18: =LEN(B18)-LEN(SUBSTITUTE(B18,",",""))+1 -> 1
A19: 10 | I19: =IF(OR($B19="",$C19="",$D19="",$E19="",$F19<an_initial,$F19>an_final,$O19=FALSE),"",IF($H19="",CS_STR_ALTE*$G19/P19,CS_STR_ALTE*$H19)) | J19: =IF(OR($B19="",$C19="",$D19="",$E19="",$F19="",$F19>an_final,$O19=FALSE),"",IF($H19="",CS_STR_ALTE*$G19/P19,CS_STR_ALTE*$H19)) | K19: =IF(OR($B19="",$C19="",$D19="",$E19="",$F19="",$F19>an_final,$O19=FALSE),"",IF($F19>=an_initial,1,"")) | L19: =IF(OR($B19="",$C19="",$D19="",$E19="",$F19="",$F19>an_final,$O19=FALSE),"",1) | M19: =IF(OR($B19="",$C19="",$D19="",$E19="",$F19="",$F19>an_final,$O19=FALSE),"",IF($H19="",$G19/P19,$H19)) | N19: =IF(OR($B19="",$C19="",$D19="",$E19="",$F19="",$F19<an_initial,$F19>an_final,$O19=FALSE),"",IF($H19="",$G19/P19,$H19)) | O19: =IF(nume_candidat="",FALSE,ISNUMBER(SEARCH(nume_candidat,$B19))) -> FALSE | P19: =LEN(B19)-LEN(SUBSTITUTE(B19,",",""))+1 -> 1
A20: 11 | I20: =IF(OR($B20="",$C20="",$D20="",$E20="",$F20<an_initial,$F20>an_final,$O20=FALSE),"",IF($H20="",CS_STR_ALTE*$G20/P20,CS_STR_ALTE*$H20)) | J20: =IF(OR($B20="",$C20="",$D20="",$E20="",$F20="",$F20>an_final,$O20=FALSE),"",IF($H20="",CS_STR_ALTE*$G20/P20,CS_STR_ALTE*$H20)) | K20: =IF(OR($B20="",$C20="",$D20="",$E20="",$F20="",$F20>an_final,$O20=FALSE),"",IF($F20>=an_initial,1,"")) | L20: =IF(OR($B20="",$C20="",$D20="",$E20="",$F20="",$F20>an_final,$O20=FALSE),"",1) | M20: =IF(OR($B20="",$C20="",$D20="",$E20="",$F20="",$F20>an_final,$O20=FALSE),"",IF($H20="",$G20/P20,$H20)) | N20: =IF(OR($B20="",$C20="",$D20="",$E20="",$F20="",$F20<an_initial,$F20>an_final,$O20=FALSE),"",IF($H20="",$G20/P20,$H20)) | O20: =IF(nume_candidat="",FALSE,ISNUMBER(SEARCH(nume_candidat,$B20))) -> FALSE | P20: =LEN(B20)-LEN(SUBSTITUTE(B20,",",""))+1 -> 1
A21: 12 | I21: =IF(OR($B21="",$C21="",$D21="",$E21="",$F21<an_initial,$F21>an_final,$O21=FALSE),"",IF($H21="",CS_STR_ALTE*$G21/P21,CS_STR_ALTE*$H21)) | J21: =IF(OR($B21="",$C21="",$D21="",$E21="",$F21="",$F21>an_final,$O21=FALSE),"",IF($H21="",CS_STR_ALTE*$G21/P21,CS_STR_ALTE*$H21)) | K21: =IF(OR($B21="",$C21="",$D21="",$E21="",$F21="",$F21>an_final,$O21=FALSE),"",IF($F21>=an_initial,1,"")) | L21: =IF(OR($B21="",$C21="",$D21="",$E21="",$F21="",$F21>an_final,$O21=FALSE),"",1) | M21: =IF(OR($B21="",$C21="",$D21="",$E21="",$F21="",$F21>an_final,$O21=FALSE),"",IF($H21="",$G21/P21,$H21)) | N21: =IF(OR($B21="",$C21="",$D21="",$E21="",$F21="",$F21<an_initial,$F21>an_final,$O21=FALSE),"",IF($H21="",$G21/P21,$H21)) | O21: =IF(nume_candidat="",FALSE,ISNUMBER(SEARCH(nume_candidat,$B21))) -> FALSE | P21: =LEN(B21)-LEN(SUBSTITUTE(B21,",",""))+1 -> 1
... A214: 205 | I214: =IF(OR($B214="",$C214="",$D214="",$E214="",$F214<an_initial,$F214>an_final,$O214=FALSE),"",IF($H214="",CS_STR_ALTE*$G214/P214,CS_STR_ALTE*$H214)) | J214: =IF(OR($B214="",$C214="",$D214="",$E214="",$F214="",$F214>an_final,$O214=FALSE),"",IF($H214="",CS_STR_ALTE*$G214/P214,CS_STR_ALTE*$H214)) | K214: =IF(OR($B214="",$C214="",$D214="",$E214="",$F214="",$F214>an_final,$O214=FALSE),"",IF($F214>=an_initial,1,"")) | L214: =IF(OR($B214="",$C214="",$D214="",$E214="",$F214="",$F214>an_final,$O214=FALSE),"",1) | M214: =IF(OR($B214="",$C214="",$D214="",$E214="",$F214="",$F214>an_final,$O214=FALSE),"",IF($H214="",$G214/P214,$H214)) | N214: =IF(OR($B214="",$C214="",$D214="",$E214="",$F214="",$F214<an_initial,$F214>an_final,$O214=FALSE),"",IF($H214="",$G214/P214,$H214)) | O214: =IF(nume_candidat="",FALSE,ISNUMBER(SEARCH(nume_candidat,$B214))) -> FALSE | P214: =LEN(B214)-LEN(SUBSTITUTE(B214,",",""))+1 -> 1

Sheet I.2.1d
A1: Universitatea Politehnica Timișoara
A2: =IF(ISBLANK(facultate), IF(ISBLANK(departament),"","Departament " & departament), "Facultatea " & facultate) -> Facultatea Automatică și Calculatoare
A3: =IF(ISBLANK(departament),"","Departamentul " & departament) -> Departamentul Automatică și Informatică Aplicată
A4: I. ACTIVITĂȚI DIDACTICE ȘI PROFESIONALE
A5: 2.1d Cărţi de specialitate, tratate, monografii publicate la editura POLITEHNICA, editura Academiei, editura Tehnică, editura Polirom, Iasi (pt Stiintele Comunicarii) sau editura Paideia, Bucuresti (pt Arhitectura)
I6: =CONCATENATE(functie," ",nume_candidat) -> Conferențiar Bojan-Dragos Claudia-Adina | J6: =CONCATENATE(functie," ",nume_candidat) -> Conferențiar Bojan-Dragos Claudia-Adina
A7: Nr. crt. | B7: Autori | C7: Titlul cărții | D7: Editura | E7: ISBN | F7: Anul | G7: Număr total de pagini | H7: Număr de pagini contribuție proprie | I7: Punctaj obținut | K7: Număr de lucrări | M7: Nr. pag. red. pr. | O7: candidat găsit | P7: autori
I8: =CONCATENATE("ultimii ",durata_evaluare," ani") -> ultimii 5 ani | J8: întreaga activitate | K8: =CONCATENATE("ultimii ",durata_evaluare," ani") -> ultimii 5 ani | L8: întreaga activitate | M8: întreaga activitate | N8: =CONCATENATE("ultimii ",durata_evaluare," ani") -> ultimii 5 ani
I9: =SUMIF(I10:I1010,">0") -> 54 | J9: =SUMIF(J10:J108,">0") -> 54 | K9: =SUMIF(K10:K108,">0") -> 1 | L9: =SUMIF(L10:L108,">0") -> 1 | M9: =SUMIF(M10:M108,">0") -> 54 | N9: =SUMIF(N10:N108,">0") -> 54
A10: 1 | B10: Bojan-Dragos Claudia-Adina, Precup Radu-Emil, Hedrea Elena-Lorena | C10: Sisteme de reglare fuzzy cu aplicatii mecatronice | D10: POLITEHNICA | E10: 978-606-35-0472-3 | F10: 2022 | G10: 164 | H10: 54 | I10: =IF(OR($B10="",$C10="",$D10="",$E10="",$F10<an_initial,$F10>an_final,$O10=FALSE),"",IF($H10="",CS_STR_RO*$G10/P10,CS_STR_RO*$H10)) -> 54 | J10: =IF(OR($B10="",$C10="",$D10="",$E10="",$F10="",$F10>an_final,$O10=FALSE),"",IF($H10="",CS_STR_RO*$G10/P10,CS_STR_RO*$H10)) -> 54 | K10: =IF(OR($B10="",$C10="",$D10="",$E10="",$F10="",$F10>an_final,$O10=FALSE),"",IF($F10>=an_initial,1,"")) -> 1 | L10: =IF(OR($B10="",$C10="",$D10="",$E10="",$F10="",$F10>an_final,$O10=FALSE),"",1) -> 1 | M10: =IF(OR($B10="",$C10="",$D10="",$E10="",$F10="",$F10>an_final,$O10=FALSE),"",IF($H10="",$G10/P10,$H10)) -> 54 | N10: =IF(OR($B10="",$C10="",$D10="",$E10="",$F10="",$F10<an_initial,$F10>an_final,$O10=FALSE),"",IF($H10="",$G10/P10,$H10)) -> 54 | O10: =IF(nume_candidat="",FALSE,ISNUMBER(SEARCH(nume_candidat,$B10))) -> TRUE | P10: =LEN(B10)-LEN(SUBSTITUTE(B10,",",""))+1 -> 3
I11: =IF(OR($B11="",$C11="",$D11="",$E11="",$F11<an_initial,$F11>an_final,$O11=FALSE),"",IF($H11="",CS_STR_RO*$G11/P11,CS_STR_RO*$H11)) | J11: =IF(OR($B11="",$C11="",$D11="",$E11="",$F11="",$F11>an_final,$O11=FALSE),"",IF($H11="",CS_STR_RO*$G11/P11,CS_STR_RO*$H11)) | K11: =IF(OR($B11="",$C11="",$D11="",$E11="",$F11="",$F11>an_final,$O11=FALSE),"",IF($F11>=an_initial,1,"")) | L11: =IF(OR($B11="",$C11="",$D11="",$E11="",$F11="",$F11>an_final,$O11=FALSE),"",1) | M11: =IF(OR($B11="",$C11="",$D11="",$E11="",$F11="",$F11>an_final,$O11=FALSE),"",IF($H11="",$G11/P11,$H11)) | N11: =IF(OR($B11="",$C11="",$D11="",$E11="",$F11="",$F11<an_initial,$F11>an_final,$O11=FALSE),"",IF($H11="",$G11/P11,$H11)) | O11: =IF(nume_candidat="",FALSE,ISNUMBER(SEARCH(nume_candidat,$B11))) -> FALSE | P11: =LEN(B11)-LEN(SUBSTITUTE(B11,",",""))+1 -> 1
I12: =IF(OR($B12="",$C12="",$D12="",$E12="",$F12<an_initial,$F12>an_final,$O12=FALSE),"",IF($H12="",CS_STR_RO*$G12/P12,CS_STR_RO*$H12)) | J12: =IF(OR($B12="",$C12="",$D12="",$E12="",$F12="",$F12>an_final,$O12=FALSE),"",IF($H12="",CS_STR_RO*$G12/P12,CS_STR_RO*$H12)) | K12: =IF(OR($B12="",$C12="",$D12="",$E12="",$F12="",$F12>an_final,$O12=FALSE),"",IF($F12>=an_initial,1,"")) | L12: =IF(OR($B12="",$C12="",$D12="",$E12="",$F12="",$F12>an_final,$O12=FALSE),"",1) | M12: =IF(OR($B12="",$C12="",$D12="",$E12="",$F12="",$F12>an_final,$O12=FALSE),"",IF($H12="",$G12/P12,$H12)) | N12: =IF(OR($B12="",$C12="",$D12="",$E12="",$F12="",$F12<an_initial,$F12>an_final,$O12=FALSE),"",IF($H12="",$G12/P12,$H12)) | O12: =IF(nume_candidat="",FALSE,ISNUMBER(SEARCH(nume_candidat,$B12))) -> FALSE | P12: =LEN(B12)-LEN(SUBSTITUTE(B12,",",""))+1 -> 1
I13: =IF(OR($B13="",$C13="",$D13="",$E13="",$F13<an_initial,$F13>an_final,$O13=FALSE),"",IF($H13="",CS_STR_RO*$G13/P13,CS_STR_RO*$H13)) | J13: =IF(OR($B13="",$C13="",$D13="",$E13="",$F13="",$F13>an_final,$O13=FALSE),"",IF($H13="",CS_STR_RO*$G13/P13,CS_STR_RO*$H13)) | K13: =IF(OR($B13="",$C13="",$D13="",$E13="",$F13="",$F13>an_final,$O13=FALSE),"",IF($F13>=an_initial,1,"")) | L13: =IF(OR($B13="",$C13="",$D13="",$E13="",$F13="",$F13>an_final,$O13=FALSE),"",1) | M13: =IF(OR($B13="",$C13="",$D13="",$E13="",$F13="",$F13>an_final,$O13=FALSE),"",IF($H13="",$G13/P13,$H13)) | N13: =IF(OR($B13="",$C13="",$D13="",$E13="",$F13="",$F13<an_initial,$F13>an_final,$O13=FALSE),"",IF($H13="",$G13/P13,$H13)) | O13: =IF(nume_candidat="",FALSE,ISNUMBER(SEARCH(nume_candidat,$B13))) -> FALSE | P13: =LEN(B13)-LEN(SUBSTITUTE(B13,",",""))+1 -> 1
I14: =IF(OR($B14="",$C14="",$D14="",$E14="",$F14<an_initial,$F14>an_final,$O14=FALSE),"",IF($H14="",CS_STR_RO*$G14/P14,CS_STR_RO*$H14)) | J14: =IF(OR($B14="",$C14="",$D14="",$E14="",$F14="",$F14>an_final,$O14=FALSE),"",IF($H14="",CS_STR_RO*$G14/P14,CS_STR_RO*$H14)) | K14: =IF(OR($B14="",$C14="",$D14="",$E14="",$F14="",$F14>an_final,$O14=FALSE),"",IF($F14>=an_initial,1,"")) | L14: =IF(OR($B14="",$C14="",$D14="",$E14="",$F14="",$F14>an_final,$O14=FALSE),"",1) | M14: =IF(OR($B14="",$C14="",$D14="",$E14="",$F14="",$F14>an_final,$O14=FALSE),"",IF($H14="",$G14/P14,$H14)) | N14: =IF(OR($B14="",$C14="",$D14="",$E14="",$F14="",$F14<an_initial,$F14>an_final,$O14=FALSE),"",IF($H14="",$G14/P14,$H14)) | O14: =IF(nume_candidat="",FALSE,ISNUMBER(SEARCH(nume_candidat,$B14))) -> FALSE | P14: =LEN(B14)-LEN(SUBSTITUTE(B14,",",""))+1 -> 1
I15: =IF(OR($B15="",$C15="",$D15="",$E15="",$F15<an_initial,$F15>an_final,$O15=FALSE),"",IF($H15="",CS_STR_RO*$G15/P15,CS_STR_RO*$H15)) | J15: =IF(OR($B15="",$C15="",$D15="",$E15="",$F15="",$F15>an_final,$O15=FALSE),"",IF($H15="",CS_STR_RO*$G15/P15,CS_STR_RO*$H15)) | K15: =IF(OR($B15="",$C15="",$D15="",$E15="",$F15="",$F15>an_final,$O15=FALSE),"",IF($F15>=an_initial,1,"")) | L15: =IF(OR($B15="",$C15="",$D15="",$E15="",$F15="",$F15>an_final,$O15=FALSE),"",1) | M15: =IF(OR($B15="",$C15="",$D15="",$E15="",$F15="",$F15>an_final,$O15=FALSE),"",IF($H15="",$G15/P15,$H15)) | N15: =IF(OR($B15="",$C15="",$D15="",$E15="",$F15="",$F15<an_initial,$F15>an_final,$O15=FALSE),"",IF($H15="",$G15/P15,$H15)) | O15: =IF(nume_candidat="",FALSE,ISNUMBER(SEARCH(nume_candidat,$B15))) -> FALSE | P15: =LEN(B15)-LEN(SUBSTITUTE(B15,",",""))+1 -> 1
I16: =IF(OR($B16="",$C16="",$D16="",$E16="",$F16<an_initial,$F16>an_final,$O16=FALSE),"",IF($H16="",CS_STR_RO*$G16/P16,CS_STR_RO*$H16)) | J16: =IF(OR($B16="",$C16="",$D16="",$E16="",$F16="",$F16>an_final,$O16=FALSE),"",IF($H16="",CS_STR_RO*$G16/P16,CS_STR_RO*$H16)) | K16: =IF(OR($B16="",$C16="",$D16="",$E16="",$F16="",$F16>an_final,$O16=FALSE),"",IF($F16>=an_initial,1,"")) | L16: =IF(OR($B16="",$C16="",$D16="",$E16="",$F16="",$F16>an_final,$O16=FALSE),"",1) | M16: =IF(OR($B16="",$C16="",$D16="",$E16="",$F16="",$F16>an_final,$O16=FALSE),"",IF($H16="",$G16/P16,$H16)) | N16: =IF(OR($B16="",$C16="",$D16="",$E16="",$F16="",$F16<an_initial,$F16>an_final,$O16=FALSE),"",IF($H16="",$G16/P16,$H16)) | O16: =IF(nume_candidat="",FALSE,ISNUMBER(SEARCH(nume_candidat,$B16))) -> FALSE | P16: =LEN(B16)-LEN(SUBSTITUTE(B16,",",""))+1 -> 1
I17: =IF(OR($B17="",$C17="",$D17="",$E17="",$F17<an_initial,$F17>an_final,$O17=FALSE),"",IF($H17="",CS_STR_RO*$G17/P17,CS_STR_RO*$H17)) | J17: =IF(OR($B17="",$C17="",$D17="",$E17="",$F17="",$F17>an_final,$O17=FALSE),"",IF($H17="",CS_STR_RO*$G17/P17,CS_STR_RO*$H17)) | K17: =IF(OR($B17="",$C17="",$D17="",$E17="",$F17="",$F17>an_final,$O17=FALSE),"",IF($F17>=an_initial,1,"")) | L17: =IF(OR($B17="",$C17="",$D17="",$E17="",$F17="",$F17>an_final,$O17=FALSE),"",1) | M17: =IF(OR($B17="",$C17="",$D17="",$E17="",$F17="",$F17>an_final,$O17=FALSE),"",IF($H17="",$G17/P17,$H17)) | N17: =IF(OR($B17="",$C17="",$D17="",$E17="",$F17="",$F17<an_initial,$F17>an_final,$O17=FALSE),"",IF($H17="",$G17/P17,$H17)) | O17: =IF(nume_candidat="",FALSE,ISNUMBER(SEARCH(nume_candidat,$B17))) -> FALSE | P17: =LEN(B17)-LEN(SUBSTITUTE(B17,",",""))+1 -> 1
I18: =IF(OR($B18="",$C18="",$D18="",$E18="",$F18<an_initial,$F18>an_final,$O18=FALSE),"",IF($H18="",CS_STR_RO*$G18/P18,CS_STR_RO*$H18)) | J18: =IF(OR($B18="",$C18="",$D18="",$E18="",$F18="",$F18>an_final,$O18=FALSE),"",IF($H18="",CS_STR_RO*$G18/P18,CS_STR_RO*$H18)) | K18: =IF(OR($B18="",$C18="",$D18="",$E18="",$F18="",$F18>an_final,$O18=FALSE),"",IF($F18>=an_initial,1,"")) | L18: =IF(OR($B18="",$C18="",$D18="",$E18="",$F18="",$F18>an_final,$O18=FALSE),"",1) | M18: =IF(OR($B18="",$C18="",$D18="",$E18="",$F18="",$F18>an_final,$O18=FALSE),"",IF($H18="",$G18/P18,$H18)) | N18: =IF(OR($B18="",$C18="",$D18="",$E18="",$F18="",$F18<an_initial,$F18>an_final,$O18=FALSE),"",IF($H18="",$G18/P18,$H18)) | O18: =IF(nume_candidat="",FALSE,ISNUMBER(SEARCH(nume_candidat,$B18))) -> FALSE | P18: =LEN(B18)-LEN(SUBSTITUTE(B18,",",""))+1 -> 1
I19: =IF(OR($B19="",$C19="",$D19="",$E19="",$F19<an_initial,$F19>an_final,$O19=FALSE),"",IF($H19="",CS_STR_RO*$G19/P19,CS_STR_RO*$H19)) | J19: =IF(OR($B19="",$C19="",$D19="",$E19="",$F19="",$F19>an_final,$O19=FALSE),"",IF($H19="",CS_STR_RO*$G19/P19,CS_STR_RO*$H19)) | K19: =IF(OR($B19="",$C19="",$D19="",$E19="",$F19="",$F19>an_final,$O19=FALSE),"",IF($F19>=an_initial,1,"")) | L19: =IF(OR($B19="",$C19="",$D19="",$E19="",$F19="",$F19>an_final,$O19=FALSE),"",1) | M19: =IF(OR($B19="",$C19="",$D19="",$E19="",$F19="",$F19>an_final,$O19=FALSE),"",IF($H19="",$G19/P19,$H19)) | N19: =IF(OR($B19="",$C19="",$D19="",$E19="",$F19="",$F19<an_initial,$F19>an_final,$O19=FALSE),"",IF($H19="",$G19/P19,$H19)) | O19: =IF(nume_candidat="",FALSE,ISNUMBER(SEARCH(nume_candidat,$B19))) -> FALSE | P19: =LEN(B19)-LEN(SUBSTITUTE(B19,",",""))+1 -> 1
I20: =IF(OR($B20="",$C20="",$D20="",$E20="",$F20<an_initial,$F20>an_final,$O20=FALSE),"",IF($H20="",CS_STR_RO*$G20/P20,CS_STR_RO*$H20)) | J20: =IF(OR($B20="",$C20="",$D20="",$E20="",$F20="",$F20>an_final,$O20=FALSE),"",IF($H20="",CS_STR_RO*$G20/P20,CS_STR_RO*$H20)) | K20: =IF(OR($B20="",$C20="",$D20="",$E20="",$F20="",$F20>an_final,$O20=FALSE),"",IF($F20>=an_initial,1,"")) | L20: =IF(OR($B20="",$C20="",$D20="",$E20="",$F20="",$F20>an_final,$O20=FALSE),"",1) | M20: =IF(OR($B20="",$C20="",$D20="",$E20="",$F20="",$F20>an_final,$O20=FALSE),"",IF($H20="",$G20/P20,$H20)) | N20: =IF(OR($B20="",$C20="",$D20="",$E20="",$F20="",$F20<an_initial,$F20>an_final,$O20=FALSE),"",IF($H20="",$G20/P20,$H20)) | O20: =IF(nume_candidat="",FALSE,ISNUMBER(SEARCH(nume_candidat,$B20))) -> FALSE | P20: =LEN(B20)-LEN(SUBSTITUTE(B20,",",""))+1 -> 1
I21: =IF(OR($B21="",$C21="",$D21="",$E21="",$F21<an_initial,$F21>an_final,$O21=FALSE),"",IF($H21="",CS_STR_RO*$G21/P21,CS_STR_RO*$H21)) | J21: =IF(OR($B21="",$C21="",$D21="",$E21="",$F21="",$F21>an_final,$O21=FALSE),"",IF($H21="",CS_STR_RO*$G21/P21,CS_STR_RO*$H21)) | K21: =IF(OR($B21="",$C21="",$D21="",$E21="",$F21="",$F21>an_final,$O21=FALSE),"",IF($F21>=an_initial,1,"")) | L21: =IF(OR($B21="",$C21="",$D21="",$E21="",$F21="",$F21>an_final,$O21=FALSE),"",1) | M21: =IF(OR($B21="",$C21="",$D21="",$E21="",$F21="",$F21>an_final,$O21=FALSE),"",IF($H21="",$G21/P21,$H21)) | N21: =IF(OR($B21="",$C21="",$D21="",$E21="",$F21="",$F21<an_initial,$F21>an_final,$O21=FALSE),"",IF($H21="",$G21/P21,$H21)) | O21: =IF(nume_candidat="",FALSE,ISNUMBER(SEARCH(nume_candidat,$B21))) -> FALSE | P21: =LEN(B21)-LEN(SUBSTITUTE(B21,",",""))+1 -> 1
I22: =IF(OR($B22="",$C22="",$D22="",$E22="",$F22<an_initial,$F22>an_final,$O22=FALSE),"",IF($H22="",CS_STR_RO*$G22/P22,CS_STR_RO*$H22)) | J22: =IF(OR($B22="",$C22="",$D22="",$E22="",$F22="",$F22>an_final,$O22=FALSE),"",IF($H22="",CS_STR_RO*$G22/P22,CS_STR_RO*$H22)) | K22: =IF(OR($B22="",$C22="",$D22="",$E22="",$F22="",$F22>an_final,$O22=FALSE),"",IF($F22>=an_initial,1,"")) | L22: =IF(OR($B22="",$C22="",$D22="",$E22="",$F22="",$F22>an_final,$O22=FALSE),"",1) | M22: =IF(OR($B22="",$C22="",$D22="",$E22="",$F22="",$F22>an_final,$O22=FALSE),"",IF($H22="",$G22/P22,$H22)) | N22: =IF(OR($B22="",$C22="",$D22="",$E22="",$F22="",$F22<an_initial,$F22>an_final,$O22=FALSE),"",IF($H22="",$G22/P22,$H22)) | O22: =IF(nume_candidat="",FALSE,ISNUMBER(SEARCH(nume_candidat,$B22))) -> FALSE | P22: =LEN(B22)-LEN(SUBSTITUTE(B22,",",""))+1 -> 1
... I259: =IF(OR($B259="",$C259="",$D259="",$E259="",$F259<an_initial,$F259>an_final,$O259=FALSE),"",IF($H259="",CS_STR_RO*$G259/P259,CS_STR_RO*$H259)) | J259: =IF(OR($B259="",$C259="",$D259="",$E259="",$F259="",$F259>an_final,$O259=FALSE),"",IF($H259="",CS_STR_RO*$G259/P259,CS_STR_RO*$H259)) | K259: =IF(OR($B259="",$C259="",$D259="",$E259="",$F259="",$F259>an_final,$O259=FALSE),"",IF($F259>=an_initial,1,"")) | L259: =IF(OR($B259="",$C259="",$D259="",$E259="",$F259="",$F259>an_final,$O259=FALSE),"",1) | M259: =IF(OR($B259="",$C259="",$D259="",$E259="",$F259="",$F259>an_final,$O259=FALSE),"",IF($H259="",$G259/P259,$H259)) | N259: =IF(OR($B259="",$C259="",$D259="",$E259="",$F259="",$F259<an_initial,$F259>an_final,$O259=FALSE),"",IF($H259="",$G259/P259,$H259)) | O259: =IF(nume_candidat="",FALSE,ISNUMBER(SEARCH(nume_candidat,$B259))) -> FALSE | P259: =LEN(B259)-LEN(SUBSTITUTE(B259,",",""))+1 -> 1

Sheet I.2.1e
A1: Universitatea Politehnica Timișoara
A2: =IF(ISBLANK(facultate), IF(ISBLANK(departament),"","Departament " & departament), "Facultatea " & facultate) -> Facultatea Automatică și Calculatoare
A3: =IF(ISBLANK(departament),"","Departamentul " & departament) -> Departamentul Automatică și Informatică Aplicată
A4: I. ACTIVITĂȚI DIDACTICE ȘI PROFESIONALE
A5: 2.1e Cărţi de specialitate, tratate, monografii publicate la alte edituri din ţară (cu ISBN şi referenţiere ştiinţifică)
I6: =CONCATENATE(functie," ",nume_candidat) -> Conferențiar Bojan-Dragos Claudia-Adina | J6: =CONCATENATE(functie," ",nume_candidat) -> Conferențiar Bojan-Dragos Claudia-Adina
A7: Nr. crt. | B7: Autori | C7: Titlul cărții | D7: Editura | E7: ISBN | F7: Anul | G7: Număr total de pagini | H7: Număr de pagini contribuție proprie | I7: Punctaj obținut | K7: Număr de lucrări | M7: Nr. pag. red. pr. | O7: candidat găsit | P7: autori
I8: =CONCATENATE("ultimii ",durata_evaluare," ani") -> ultimii 5 ani | J8: întreaga activitate | K8: =CONCATENATE("ultimii ",durata_evaluare," ani") -> ultimii 5 ani | L8: întreaga activitate | M8: întreaga activitate | N8: =CONCATENATE("ultimii ",durata_evaluare," ani") -> ultimii 5 ani
I9: =SUMIF(I10:I1010,">0") -> 0 | J9: =SUMIF(J10:J108,">0") -> 0 | K9: =SUMIF(K10:K108,">0") -> 0 | L9: =SUMIF(L10:L108,">0") -> 0 | M9: =SUMIF(M10:M108,">0") -> 0 | N9: =SUMIF(N10:N108,">0") -> 0
A10: 1 | I10: =IF(OR($B10="",$C10="",$D10="",$E10="",$F10<an_initial,$F10>an_final,$O10=FALSE),"",IF($H10="",CS_STR_RO_ALT*$G10/P10,CS_STR_RO_ALT*$H10)) | J10: =IF(OR($B10="",$C10="",$D10="",$E10="",$F10="",$F10>an_final,$O10=FALSE),"",IF($H10="",CS_STR_RO_ALT*$G10/P10,CS_STR_RO_ALT*$H10)) | K10: =IF(OR($B10="",$C10="",$D10="",$E10="",$F10="",$F10>an_final,$O10=FALSE),"",IF($F10>=an_initial,1,"")) | L10: =IF(OR($B10="",$C10="",$D10="",$E10="",$F10="",$F10>an_final,$O10=FALSE),"",1) | M10: =IF(OR($B10="",$C10="",$D10="",$E10="",$F10="",$F10>an_final,$O10=FALSE),"",IF($H10="",$G10/P10,$H10)) | N10: =IF(OR($B10="",$C10="",$D10="",$E10="",$F10="",$F10<an_initial,$F10>an_final,$O10=FALSE),"",IF($H10="",$G10/P10,$H10)) | O10: =IF(nume_candidat="",FALSE,ISNUMBER(SEARCH(nume_candidat,$B10))) -> FALSE | P10: =LEN(B10)-LEN(SUBSTITUTE(B10,",",""))+1 -> 1
A11: 2 | I11: =IF(OR($B11="",$C11="",$D11="",$E11="",$F11<an_initial,$F11>an_final,$O11=FALSE),"",IF($H11="",CS_STR_RO_ALT*$G11/P11,CS_STR_RO_ALT*$H11)) | J11: =IF(OR($B11="",$C11="",$D11="",$E11="",$F11="",$F11>an_final,$O11=FALSE),"",IF($H11="",CS_STR_RO_ALT*$G11/P11,CS_STR_RO_ALT*$H11)) | K11: =IF(OR($B11="",$C11="",$D11="",$E11="",$F11="",$F11>an_final,$O11=FALSE),"",IF($F11>=an_initial,1,"")) | L11: =IF(OR($B11="",$C11="",$D11="",$E11="",$F11="",$F11>an_final,$O11=FALSE),"",1) | M11: =IF(OR($B11="",$C11="",$D11="",$E11="",$F11="",$F11>an_final,$O11=FALSE),"",IF($H11="",$G11/P11,$H11)) | N11: =IF(OR($B11="",$C11="",$D11="",$E11="",$F11="",$F11<an_initial,$F11>an_final,$O11=FALSE),"",IF($H11="",$G11/P11,$H11)) | O11: =IF(nume_candidat="",FALSE,ISNUMBER(SEARCH(nume_candidat,$B11))) -> FALSE | P11: =LEN(B11)-LEN(SUBSTITUTE(B11,",",""))+1 -> 1
A12: 3 | I12: =IF(OR($B12="",$C12="",$D12="",$E12="",$F12<an_initial,$F12>an_final,$O12=FALSE),"",IF($H12="",CS_STR_RO_ALT*$G12/P12,CS_STR_RO_ALT*$H12)) | J12: =IF(OR($B12="",$C12="",$D12="",$E12="",$F12="",$F12>an_final,$O12=FALSE),"",IF($H12="",CS_STR_RO_ALT*$G12/P12,CS_STR_RO_ALT*$H12)) | K12: =IF(OR($B12="",$C12="",$D12="",$E12="",$F12="",$F12>an_final,$O12=FALSE),"",IF($F12>=an_initial,1,"")) | L12: =IF(OR($B12="",$C12="",$D12="",$E12="",$F12="",$F12>an_final,$O12=FALSE),"",1) | M12: =IF(OR($B12="",$C12="",$D12="",$E12="",$F12="",$F12>an_final,$O12=FALSE),"",IF($H12="",$G12/P12,$H12)) | N12: =IF(OR($B12="",$C12="",$D12="",$E12="",$F12="",$F12<an_initial,$F12>an_final,$O12=FALSE),"",IF($H12="",$G12/P12,$H12)) | O12: =IF(nume_candidat="",FALSE,ISNUMBER(SEARCH(nume_candidat,$B12))) -> FALSE | P12: =LEN(B12)-LEN(SUBSTITUTE(B12,",",""))+1 -> 1
A13: 4 | I13: =IF(OR($B13="",$C13="",$D13="",$E13="",$F13<an_initial,$F13>an_final,$O13=FALSE),"",IF($H13="",CS_STR_RO_ALT*$G13/P13,CS_STR_RO_ALT*$H13)) | J13: =IF(OR($B13="",$C13="",$D13="",$E13="",$F13="",$F13>an_final,$O13=FALSE),"",IF($H13="",CS_STR_RO_ALT*$G13/P13,CS_STR_RO_ALT*$H13)) | K13: =IF(OR($B13="",$C13="",$D13="",$E13="",$F13="",$F13>an_final,$O13=FALSE),"",IF($F13>=an_initial,1,"")) | L13: =IF(OR($B13="",$C13="",$D13="",$E13="",$F13="",$F13>an_final,$O13=FALSE),"",1) | M13: =IF(OR($B13="",$C13="",$D13="",$E13="",$F13="",$F13>an_final,$O13=FALSE),"",IF($H13="",$G13/P13,$H13)) | N13: =IF(OR($B13="",$C13="",$D13="",$E13="",$F13="",$F13<an_initial,$F13>an_final,$O13=FALSE),"",IF($H13="",$G13/P13,$H13)) | O13: =IF(nume_candidat="",FALSE,ISNUMBER(SEARCH(nume_candidat,$B13))) -> FALSE | P13: =LEN(B13)-LEN(SUBSTITUTE(B13,",",""))+1 -> 1
A14: 5 | I14: =IF(OR($B14="",$C14="",$D14="",$E14="",$F14<an_initial,$F14>an_final,$O14=FALSE),"",IF($H14="",CS_STR_RO_ALT*$G14/P14,CS_STR_RO_ALT*$H14)) | J14: =IF(OR($B14="",$C14="",$D14="",$E14="",$F14="",$F14>an_final,$O14=FALSE),"",IF($H14="",CS_STR_RO_ALT*$G14/P14,CS_STR_RO_ALT*$H14)) | K14: =IF(OR($B14="",$C14="",$D14="",$E14="",$F14="",$F14>an_final,$O14=FALSE),"",IF($F14>=an_initial,1,"")) | L14: =IF(OR($B14="",$C14="",$D14="",$E14="",$F14="",$F14>an_final,$O14=FALSE),"",1) | M14: =IF(OR($B14="",$C14="",$D14="",$E14="",$F14="",$F14>an_final,$O14=FALSE),"",IF($H14="",$G14/P14,$H14)) | N14: =IF(OR($B14="",$C14="",$D14="",$E14="",$F14="",$F14<an_initial,$F14>an_final,$O14=FALSE),"",IF($H14="",$G14/P14,$H14)) | O14: =IF(nume_candidat="",FALSE,ISNUMBER(SEARCH(nume_candidat,$B14))) -> FALSE | P14: =LEN(B14)-LEN(SUBSTITUTE(B14,",",""))+1 -> 1
A15: 6 | I15: =IF(OR($B15="",$C15="",$D15="",$E15="",$F15<an_initial,$F15>an_final,$O15=FALSE),"",IF($H15="",CS_STR_RO_ALT*$G15/P15,CS_STR_RO_ALT*$H15)) | J15: =IF(OR($B15="",$C15="",$D15="",$E15="",$F15="",$F15>an_final,$O15=FALSE),"",IF($H15="",CS_STR_RO_ALT*$G15/P15,CS_STR_RO_ALT*$H15)) | K15: =IF(OR($B15="",$C15="",$D15="",$E15="",$F15="",$F15>an_final,$O15=FALSE),"",IF($F15>=an_initial,1,"")) | L15: =IF(OR($B15="",$C15="",$D15="",$E15="",$F15="",$F15>an_final,$O15=FALSE),"",1) | M15: =IF(OR($B15="",$C15="",$D15="",$E15="",$F15="",$F15>an_final,$O15=FALSE),"",IF($H15="",$G15/P15,$H15)) | N15: =IF(OR($B15="",$C15="",$D15="",$E15="",$F15="",$F15<an_initial,$F15>an_final,$O15=FALSE),"",IF($H15="",$G15/P15,$H15)) | O15: =IF(nume_candidat="",FALSE,ISNUMBER(SEARCH(nume_candidat,$B15))) -> FALSE | P15: =LEN(B15)-LEN(SUBSTITUTE(B15,",",""))+1 -> 1
A16: 7 | I16: =IF(OR($B16="",$C16="",$D16="",$E16="",$F16<an_initial,$F16>an_final,$O16=FALSE),"",IF($H16="",CS_STR_RO_ALT*$G16/P16,CS_STR_RO_ALT*$H16)) | J16: =IF(OR($B16="",$C16="",$D16="",$E16="",$F16="",$F16>an_final,$O16=FALSE),"",IF($H16="",CS_STR_RO_ALT*$G16/P16,CS_STR_RO_ALT*$H16)) | K16: =IF(OR($B16="",$C16="",$D16="",$E16="",$F16="",$F16>an_final,$O16=FALSE),"",IF($F16>=an_initial,1,"")) | L16: =IF(OR($B16="",$C16="",$D16="",$E16="",$F16="",$F16>an_final,$O16=FALSE),"",1) | M16: =IF(OR($B16="",$C16="",$D16="",$E16="",$F16="",$F16>an_final,$O16=FALSE),"",IF($H16="",$G16/P16,$H16)) | N16: =IF(OR($B16="",$C16="",$D16="",$E16="",$F16="",$F16<an_initial,$F16>an_final,$O16=FALSE),"",IF($H16="",$G16/P16,$H16)) | O16: =IF(nume_candidat="",FALSE,ISNUMBER(SEARCH(nume_candidat,$B16))) -> FALSE | P16: =LEN(B16)-LEN(SUBSTITUTE(B16,",",""))+1 -> 1
A17: 8 | I17: =IF(OR($B17="",$C17="",$D17="",$E17="",$F17<an_initial,$F17>an_final,$O17=FALSE),"",IF($H17="",CS_STR_RO_ALT*$G17/P17,CS_STR_RO_ALT*$H17)) | J17: =IF(OR($B17="",$C17="",$D17="",$E17="",$F17="",$F17>an_final,$O17=FALSE),"",IF($H17="",CS_STR_RO_ALT*$G17/P17,CS_STR_RO_ALT*$H17)) | K17: =IF(OR($B17="",$C17="",$D17="",$E17="",$F17="",$F17>an_final,$O17=FALSE),"",IF($F17>=an_initial,1,"")) | L17: =IF(OR($B17="",$C17="",$D17="",$E17="",$F17="",$F17>an_final,$O17=FALSE),"",1) | M17: =IF(OR($B17="",$C17="",$D17="",$E17="",$F17="",$F17>an_final,$O17=FALSE),"",IF($H17="",$G17/P17,$H17)) | N17: =IF(OR($B17="",$C17="",$D17="",$E17="",$F17="",$F17<an_initial,$F17>an_final,$O17=FALSE),"",IF($H17="",$G17/P17,$H17)) | O17: =IF(nume_candidat="",FALSE,ISNUMBER(SEARCH(nume_candidat,$B17))) -> FALSE | P17: =LEN(B17)-LEN(SUBSTITUTE(B17,",",""))+1 -> 1
A18: 9 | I18: =IF(OR($B18="",$C18="",$D18="",$E18="",$F18<an_initial,$F18>an_final,$O18=FALSE),"",IF($H18="",CS_STR_RO_ALT*$G18/P18,CS_STR_RO_ALT*$H18)) | J18: =IF(OR($B18="",$C18="",$D18="",$E18="",$F18="",$F18>an_final,$O18=FALSE),"",IF($H18="",CS_STR_RO_ALT*$G18/P18,CS_STR_RO_ALT*$H18)) | K18: =IF(OR($B18="",$C18="",$D18="",$E18="",$F18="",$F18>an_final,$O18=FALSE),"",IF($F18>=an_initial,1,"")) | L18: =IF(OR($B18="",$C18="",$D18="",$E18="",$F18="",$F18>an_final,$O18=FALSE),"",1) | M18: =IF(OR($B18="",$C18="",$D18="",$E18="",$F18="",$F18>an_final,$O18=FALSE),"",IF($H18="",$G18/P18,$H18)) | N18: =IF(OR($B18="",$C18="",$D18="",$E18="",$F18="",$F18<an_initial,$F18>an_final,$O18=FALSE),"",IF($H18="",$G18/P18,$H18)) | O18: =IF(nume_candidat="",FALSE,ISNUMBER(SEARCH(nume_candidat,$B18))) -> FALSE | P18: =LEN(B18)-LEN(SUBSTITUTE(B18,",",""))+1 -> 1
A19: 10 | I19: =IF(OR($B19="",$C19="",$D19="",$E19="",$F19<an_initial,$F19>an_final,$O19=FALSE),"",IF($H19="",CS_STR_RO_ALT*$G19/P19,CS_STR_RO_ALT*$H19)) | J19: =IF(OR($B19="",$C19="",$D19="",$E19="",$F19="",$F19>an_final,$O19=FALSE),"",IF($H19="",CS_STR_RO_ALT*$G19/P19,CS_STR_RO_ALT*$H19)) | K19: =IF(OR($B19="",$C19="",$D19="",$E19="",$F19="",$F19>an_final,$O19=FALSE),"",IF($F19>=an_initial,1,"")) | L19: =IF(OR($B19="",$C19="",$D19="",$E19="",$F19="",$F19>an_final,$O19=FALSE),"",1) | M19: =IF(OR($B19="",$C19="",$D19="",$E19="",$F19="",$F19>an_final,$O19=FALSE),"",IF($H19="",$G19/P19,$H19)) | N19: =IF(OR($B19="",$C19="",$D19="",$E19="",$F19="",$F19<an_initial,$F19>an_final,$O19=FALSE),"",IF($H19="",$G19/P19,$H19)) | O19: =IF(nume_candidat="",FALSE,ISNUMBER(SEARCH(nume_candidat,$B19))) -> FALSE | P19: =LEN(B19)-LEN(SUBSTITUTE(B19,",",""))+1 -> 1
A20: 11 | I20: =IF(OR($B20="",$C20="",$D20="",$E20="",$F20<an_initial,$F20>an_final,$O20=FALSE),"",IF($H20="",CS_STR_RO_ALT*$G20/P20,CS_STR_RO_ALT*$H20)) | J20: =IF(OR($B20="",$C20="",$D20="",$E20="",$F20="",$F20>an_final,$O20=FALSE),"",IF($H20="",CS_STR_RO_ALT*$G20/P20,CS_STR_RO_ALT*$H20)) | K20: =IF(OR($B20="",$C20="",$D20="",$E20="",$F20="",$F20>an_final,$O20=FALSE),"",IF($F20>=an_initial,1,"")) | L20: =IF(OR($B20="",$C20="",$D20="",$E20="",$F20="",$F20>an_final,$O20=FALSE),"",1) | M20: =IF(OR($B20="",$C20="",$D20="",$E20="",$F20="",$F20>an_final,$O20=FALSE),"",IF($H20="",$G20/P20,$H20)) | N20: =IF(OR($B20="",$C20="",$D20="",$E20="",$F20="",$F20<an_initial,$F20>an_final,$O20=FALSE),"",IF($H20="",$G20/P20,$H20)) | O20: =IF(nume_candidat="",FALSE,ISNUMBER(SEARCH(nume_candidat,$B20))) -> FALSE | P20: =LEN(B20)-LEN(SUBSTITUTE(B20,",",""))+1 -> 1
A21: 12 | I21: =IF(OR($B21="",$C21="",$D21="",$E21="",$F21<an_initial,$F21>an_final,$O21=FALSE),"",IF($H21="",CS_STR_RO_ALT*$G21/P21,CS_STR_RO_ALT*$H21)) | J21: =IF(OR($B21="",$C21="",$D21="",$E21="",$F21="",$F21>an_final,$O21=FALSE),"",IF($H21="",CS_STR_RO_ALT*$G21/P21,CS_STR_RO_ALT*$H21)) | K21: =IF(OR($B21="",$C21="",$D21="",$E21="",$F21="",$F21>an_final,$O21=FALSE),"",IF($F21>=an_initial,1,"")) | L21: =IF(OR($B21="",$C21="",$D21="",$E21="",$F21="",$F21>an_final,$O21=FALSE),"",1) | M21: =IF(OR($B21="",$C21="",$D21="",$E21="",$F21="",$F21>an_final,$O21=FALSE),"",IF($H21="",$G21/P21,$H21)) | N21: =IF(OR($B21="",$C21="",$D21="",$E21="",$F21="",$F21<an_initial,$F21>an_final,$O21=FALSE),"",IF($H21="",$G21/P21,$H21)) | O21: =IF(nume_candidat="",FALSE,ISNUMBER(SEARCH(nume_candidat,$B21))) -> FALSE | P21: =LEN(B21)-LEN(SUBSTITUTE(B21,",",""))+1 -> 1
... A259: 250 | I259: =IF(OR($B259="",$C259="",$D259="",$E259="",$F259<an_initial,$F259>an_final,$O259=FALSE),"",IF($H259="",CS_STR_RO_ALT*$G259/P259,CS_STR_RO_ALT*$H259)) | J259: =IF(OR($B259="",$C259="",$D259="",$E259="",$F259="",$F259>an_final,$O259=FALSE),"",IF($H259="",CS_STR_RO_ALT*$G259/P259,CS_STR_RO_ALT*$H259)) | K259: =IF(OR($B259="",$C259="",$D259="",$E259="",$F259="",$F259>an_final,$O259=FALSE),"",IF($F259>=an_initial,1,"")) | L259: =IF(OR($B259="",$C259="",$D259="",$E259="",$F259="",$F259>an_final,$O259=FALSE),"",1) | M259: =IF(OR($B259="",$C259="",$D259="",$E259="",$F259="",$F259>an_final,$O259=FALSE),"",IF($H259="",$G259/P259,$H259)) | N259: =IF(OR($B259="",$C259="",$D259="",$E259="",$F259="",$F259<an_initial,$F259>an_final,$O259=FALSE),"",IF($H259="",$G259/P259,$H259)) | O259: =IF(nume_candidat="",FALSE,ISNUMBER(SEARCH(nume_candidat,$B259))) -> FALSE | P259: =LEN(B259)-LEN(SUBSTITUTE(B259,",",""))+1 -> 1

Sheet I.2.2a
A1: Universitatea Politehnica Timișoara
A2: =IF(ISBLANK(facultate), IF(ISBLANK(departament),"","Departament " & departament), "Facultatea " & facultate) -> Facultatea Automatică și Calculatoare
A3: =IF(ISBLANK(departament),"","Departamentul " & departament) -> Departamentul Automatică și Informatică Aplicată
A4: I. ACTIVITĂȚI DIDACTICE ȘI PROFESIONALE
A5: 2.2a Cărți de specialitate publicate în calitate de editor/coordonator la edituri din străinătate de clasa A (clasificare UPT)
I6: =CONCATENATE(functie," ",nume_candidat) -> Conferențiar Bojan-Dragos Claudia-Adina | J6: =CONCATENATE(functie," ",nume_candidat) -> Conferențiar Bojan-Dragos Claudia-Adina
A7: Nr. crt. | B7: Autori | C7: Titlul cărții | D7: Editura | E7: ISBN | F7: Anul | G7: Număr total de pagini | H7: Număr de pagini contribuție proprie | I7: Punctaj obținut | K7: Număr de lucrări | M7: Nr. pag. red. pr. | O7: candidat găsit | P7: autori
I8: =CONCATENATE("ultimii ",durata_evaluare," ani") -> ultimii 5 ani | J8: întreaga activitate | K8: =CONCATENATE("ultimii ",durata_evaluare," ani") -> ultimii 5 ani | L8: întreaga activitate | M8: întreaga activitate | N8: =CONCATENATE("ultimii ",durata_evaluare," ani") -> ultimii 5 ani
I9: =SUMIF(I10:I1010,">0") -> 0 | J9: =SUMIF(J10:J108,">0") -> 0 | K9: =SUMIF(K10:K108,">0") -> 0 | L9: =SUMIF(L10:L108,">0") -> 0 | M9: =SUMIF(M10:M108,">0") -> 0 | N9: =SUMIF(N10:N108,">0") -> 0
A10: 1 | I10: =IF(OR($B10="",$C10="",$D10="",$E10="",$F10<an_initial,$F10>an_final,$O10=FALSE),"",IF($H10="",CS_STR_A2*$G10/P10,CS_STR_A2*$H10)) | J10: =IF(OR($B10="",$C10="",$D10="",$E10="",$F10="",$F10>an_final,$O10=FALSE),"",IF($H10="",CS_STR_A2*$G10/P10,CS_STR_A2*$H10)) | K10: =IF(OR($B10="",$C10="",$D10="",$E10="",$F10="",$F10>an_final,$O10=FALSE),"",IF($F10>=an_initial,1,"")) | L10: =IF(OR($B10="",$C10="",$D10="",$E10="",$F10="",$F10>an_final,$O10=FALSE),"",1) | M10: =IF(OR($B10="",$C10="",$D10="",$E10="",$F10="",$F10>an_final,$O10=FALSE),"",IF($H10="",$G10/P10,$H10)) | N10: =IF(OR($B10="",$C10="",$D10="",$E10="",$F10="",$F10<an_initial,$F10>an_final,$O10=FALSE),"",IF($H10="",$G10/P10,$H10)) | O10: =IF(nume_candidat="",FALSE,ISNUMBER(SEARCH(nume_candidat,$B10))) -> FALSE | P10: =LEN(B10)-LEN(SUBSTITUTE(B10,",",""))+1 -> 1
A11: 2 | I11: =IF(OR($B11="",$C11="",$D11="",$E11="",$F11<an_initial,$F11>an_final,$O11=FALSE),"",IF($H11="",CS_STR_A2*$G11/P11,CS_STR_A2*$H11)) | J11: =IF(OR($B11="",$C11="",$D11="",$E11="",$F11="",$F11>an_final,$O11=FALSE),"",IF($H11="",CS_STR_A2*$G11/P11,CS_STR_A2*$H11)) | K11: =IF(OR($B11="",$C11="",$D11="",$E11="",$F11="",$F11>an_final,$O11=FALSE),"",IF($F11>=an_initial,1,"")) | L11: =IF(OR($B11="",$C11="",$D11="",$E11="",$F11="",$F11>an_final,$O11=FALSE),"",1) | M11: =IF(OR($B11="",$C11="",$D11="",$E11="",$F11="",$F11>an_final,$O11=FALSE),"",IF($H11="",$G11/P11,$H11)) | N11: =IF(OR($B11="",$C11="",$D11="",$E11="",$F11="",$F11<an_initial,$F11>an_final,$O11=FALSE),"",IF($H11="",$G11/P11,$H11)) | O11: =IF(nume_candidat="",FALSE,ISNUMBER(SEARCH(nume_candidat,$B11))) -> FALSE | P11: =LEN(B11)-LEN(SUBSTITUTE(B11,",",""))+1 -> 1
A12: 3 | I12: =IF(OR($B12="",$C12="",$D12="",$E12="",$F12<an_initial,$F12>an_final,$O12=FALSE),"",IF($H12="",CS_STR_A2*$G12/P12,CS_STR_A2*$H12)) | J12: =IF(OR($B12="",$C12="",$D12="",$E12="",$F12="",$F12>an_final,$O12=FALSE),"",IF($H12="",CS_STR_A2*$G12/P12,CS_STR_A2*$H12)) | K12: =IF(OR($B12="",$C12="",$D12="",$E12="",$F12="",$F12>an_final,$O12=FALSE),"",IF($F12>=an_initial,1,"")) | L12: =IF(OR($B12="",$C12="",$D12="",$E12="",$F12="",$F12>an_final,$O12=FALSE),"",1) | M12: =IF(OR($B12="",$C12="",$D12="",$E12="",$F12="",$F12>an_final,$O12=FALSE),"",IF($H12="",$G12/P12,$H12)) | N12: =IF(OR($B12="",$C12="",$D12="",$E12="",$F12="",$F12<an_initial,$F12>an_final,$O12=FALSE),"",IF($H12="",$G12/P12,$H12)) | O12: =IF(nume_candidat="",FALSE,ISNUMBER(SEARCH(nume_candidat,$B12))) -> FALSE | P12: =LEN(B12)-LEN(SUBSTITUTE(B12,",",""))+1 -> 1
A13: 4 | I13: =IF(OR($B13="",$C13="",$D13="",$E13="",$F13<an_initial,$F13>an_final,$O13=FALSE),"",IF($H13="",CS_STR_A2*$G13/P13,CS_STR_A2*$H13)) | J13: =IF(OR($B13="",$C13="",$D13="",$E13="",$F13="",$F13>an_final,$O13=FALSE),"",IF($H13="",CS_STR_A2*$G13/P13,CS_STR_A2*$H13)) | K13: =IF(OR($B13="",$C13="",$D13="",$E13="",$F13="",$F13>an_final,$O13=FALSE),"",IF($F13>=an_initial,1,"")) | L13: =IF(OR($B13="",$C13="",$D13="",$E13="",$F13="",$F13>an_final,$O13=FALSE),"",1) | M13: =IF(OR($B13="",$C13="",$D13="",$E13="",$F13="",$F13>an_final,$O13=FALSE),"",IF($H13="",$G13/P13,$H13)) | N13: =IF(OR($B13="",$C13="",$D13="",$E13="",$F13="",$F13<an_initial,$F13>an_final,$O13=FALSE),"",IF($H13="",$G13/P13,$H13)) | O13: =IF(nume_candidat="",FALSE,ISNUMBER(SEARCH(nume_candidat,$B13))) -> FALSE | P13: =LEN(B13)-LEN(SUBSTITUTE(B13,",",""))+1 -> 1
A14: 5 | I14: =IF(OR($B14="",$C14="",$D14="",$E14="",$F14<an_initial,$F14>an_final,$O14=FALSE),"",IF($H14="",CS_STR_A2*$G14/P14,CS_STR_A2*$H14)) | J14: =IF(OR($B14="",$C14="",$D14="",$E14="",$F14="",$F14>an_final,$O14=FALSE),"",IF($H14="",CS_STR_A2*$G14/P14,CS_STR_A2*$H14)) | K14: =IF(OR($B14="",$C14="",$D14="",$E14="",$F14="",$F14>an_final,$O14=FALSE),"",IF($F14>=an_initial,1,"")) | L14: =IF(OR($B14="",$C14="",$D14="",$E14="",$F14="",$F14>an_final,$O14=FALSE),"",1) | M14: =IF(OR($B14="",$C14="",$D14="",$E14="",$F14="",$F14>an_final,$O14=FALSE),"",IF($H14="",$G14/P14,$H14)) | N14: =IF(OR($B14="",$C14="",$D14="",$E14="",$F14="",$F14<an_initial,$F14>an_final,$O14=FALSE),"",IF($H14="",$G14/P14,$H14)) | O14: =IF(nume_candidat="",FALSE,ISNUMBER(SEARCH(nume_candidat,$B14))) -> FALSE | P14: =LEN(B14)-LEN(SUBSTITUTE(B14,",",""))+1 -> 1
A15: 6 | I15: =IF(OR($B15="",$C15="",$D15="",$E15="",$F15<an_initial,$F15>an_final,$O15=FALSE),"",IF($H15="",CS_STR_A2*$G15/P15,CS_STR_A2*$H15)) | J15: =IF(OR($B15="",$C15="",$D15="",$E15="",$F15="",$F15>an_final,$O15=FALSE),"",IF($H15="",CS_STR_A2*$G15/P15,CS_STR_A2*$H15)) | K15: =IF(OR($B15="",$C15="",$D15="",$E15="",$F15="",$F15>an_final,$O15=FALSE),"",IF($F15>=an_initial,1,"")) | L15: =IF(OR($B15="",$C15="",$D15="",$E15="",$F15="",$F15>an_final,$O15=FALSE),"",1) | M15: =IF(OR($B15="",$C15="",$D15="",$E15="",$F15="",$F15>an_final,$O15=FALSE),"",IF($H15="",$G15/P15,$H15)) | N15: =IF(OR($B15="",$C15="",$D15="",$E15="",$F15="",$F15<an_initial,$F15>an_final,$O15=FALSE),"",IF($H15="",$G15/P15,$H15)) | O15: =IF(nume_candidat="",FALSE,ISNUMBER(SEARCH(nume_candidat,$B15))) -> FALSE | P15: =LEN(B15)-LEN(SUBSTITUTE(B15,",",""))+1 -> 1
A16: 7 | I16: =IF(OR($B16="",$C16="",$D16="",$E16="",$F16<an_initial,$F16>an_final,$O16=FALSE),"",IF($H16="",CS_STR_A2*$G16/P16,CS_STR_A2*$H16)) | J16: =IF(OR($B16="",$C16="",$D16="",$E16="",$F16="",$F16>an_final,$O16=FALSE),"",IF($H16="",CS_STR_A2*$G16/P16,CS_STR_A2*$H16)) | K16: =IF(OR($B16="",$C16="",$D16="",$E16="",$F16="",$F16>an_final,$O16=FALSE),"",IF($F16>=an_initial,1,"")) | L16: =IF(OR($B16="",$C16="",$D16="",$E16="",$F16="",$F16>an_final,$O16=FALSE),"",1) | M16: =IF(OR($B16="",$C16="",$D16="",$E16="",$F16="",$F16>an_final,$O16=FALSE),"",IF($H16="",$G16/P16,$H16)) | N16: =IF(OR($B16="",$C16="",$D16="",$E16="",$F16="",$F16<an_initial,$F16>an_final,$O16=FALSE),"",IF($H16="",$G16/P16,$H16)) | O16: =IF(nume_candidat="",FALSE,ISNUMBER(SEARCH(nume_candidat,$B16))) -> FALSE | P16: =LEN(B16)-LEN(SUBSTITUTE(B16,",",""))+1 -> 1
A17: 8 | I17: =IF(OR($B17="",$C17="",$D17="",$E17="",$F17<an_initial,$F17>an_final,$O17=FALSE),"",IF($H17="",CS_STR_A2*$G17/P17,CS_STR_A2*$H17)) | J17: =IF(OR($B17="",$C17="",$D17="",$E17="",$F17="",$F17>an_final,$O17=FALSE),"",IF($H17="",CS_STR_A2*$G17/P17,CS_STR_A2*$H17)) | K17: =IF(OR($B17="",$C17="",$D17="",$E17="",$F17="",$F17>an_final,$O17=FALSE),"",IF($F17>=an_initial,1,"")) | L17: =IF(OR($B17="",$C17="",$D17="",$E17="",$F17="",$F17>an_final,$O17=FALSE),"",1) | M17: =IF(OR($B17="",$C17="",$D17="",$E17="",$F17="",$F17>an_final,$O17=FALSE),"",IF($H17="",$G17/P17,$H17)) | N17: =IF(OR($B17="",$C17="",$D17="",$E17="",$F17="",$F17<an_initial,$F17>an_final,$O17=FALSE),"",IF($H17="",$G17/P17,$H17)) | O17: =IF(nume_candidat="",FALSE,ISNUMBER(SEARCH(nume_candidat,$B17))) -> FALSE | P17: =LEN(B17)-LEN(SUBSTITUTE(B17,",",""))+1 -> 1
A18: 9 | I18: =IF(OR($B18="",$C18="",$D18="",$E18="",$F18<an_initial,$F18>an_final,$O18=FALSE),"",IF($H18="",CS_STR_A2*$G18/P18,CS_STR_A2*$H18)) | J18: =IF(OR($B18="",$C18="",$D18="",$E18="",$F18="",$F18>an_final,$O18=FALSE),"",IF($H18="",CS_STR_A2*$G18/P18,CS_STR_A2*$H18)) | K18: =IF(OR($B18="",$C18="",$D18="",$E18="",$F18="",$F18>an_final,$O18=FALSE),"",IF($F18>=an_initial,1,"")) | L18: =IF(OR($B18="",$C18="",$D18="",$E18="",$F18="",$F18>an_final,$O18=FALSE),"",1) | M18: =IF(OR($B18="",$C18="",$D18="",$E18="",$F18="",$F18>an_final,$O18=FALSE),"",IF($H18="",$G18/P18,$H18)) | N18: =IF(OR($B18="",$C18="",$D18="",$E18="",$F18="",$F18<an_initial,$F18>an_final,$O18=FALSE),"",IF($H18="",$G18/P18,$H18)) | O18: =IF(nume_candidat="",FALSE,ISNUMBER(SEARCH(nume_candidat,$B18))) -> FALSE | P18: =LEN(B18)-LEN(SUBSTITUTE(B18,",",""))+1 -> 1
A19: 10 | I19: =IF(OR($B19="",$C19="",$D19="",$E19="",$F19<an_initial,$F19>an_final,$O19=FALSE),"",IF($H19="",CS_STR_A2*$G19/P19,CS_STR_A2*$H19)) | J19: =IF(OR($B19="",$C19="",$D19="",$E19="",$F19="",$F19>an_final,$O19=FALSE),"",IF($H19="",CS_STR_A2*$G19/P19,CS_STR_A2*$H19)) | K19: =IF(OR($B19="",$C19="",$D19="",$E19="",$F19="",$F19>an_final,$O19=FALSE),"",IF($F19>=an_initial,1,"")) | L19: =IF(OR($B19="",$C19="",$D19="",$E19="",$F19="",$F19>an_final,$O19=FALSE),"",1) | M19: =IF(OR($B19="",$C19="",$D19="",$E19="",$F19="",$F19>an_final,$O19=FALSE),"",IF($H19="",$G19/P19,$H19)) | N19: =IF(OR($B19="",$C19="",$D19="",$E19="",$F19="",$F19<an_initial,$F19>an_final,$O19=FALSE),"",IF($H19="",$G19/P19,$H19)) | O19: =IF(nume_candidat="",FALSE,ISNUMBER(SEARCH(nume_candidat,$B19))) -> FALSE | P19: =LEN(B19)-LEN(SUBSTITUTE(B19,",",""))+1 -> 1
A20: 11 | I20: =IF(OR($B20="",$C20="",$D20="",$E20="",$F20<an_initial,$F20>an_final,$O20=FALSE),"",IF($H20="",CS_STR_A2*$G20/P20,CS_STR_A2*$H20)) | J20: =IF(OR($B20="",$C20="",$D20="",$E20="",$F20="",$F20>an_final,$O20=FALSE),"",IF($H20="",CS_STR_A2*$G20/P20,CS_STR_A2*$H20)) | K20: =IF(OR($B20="",$C20="",$D20="",$E20="",$F20="",$F20>an_final,$O20=FALSE),"",IF($F20>=an_initial,1,"")) | L20: =IF(OR($B20="",$C20="",$D20="",$E20="",$F20="",$F20>an_final,$O20=FALSE),"",1) | M20: =IF(OR($B20="",$C20="",$D20="",$E20="",$F20="",$F20>an_final,$O20=FALSE),"",IF($H20="",$G20/P20,$H20)) | N20: =IF(OR($B20="",$C20="",$D20="",$E20="",$F20="",$F20<an_initial,$F20>an_final,$O20=FALSE),"",IF($H20="",$G20/P20,$H20)) | O20: =IF(nume_candidat="",FALSE,ISNUMBER(SEARCH(nume_candidat,$B20))) -> FALSE | P20: =LEN(B20)-LEN(SUBSTITUTE(B20,",",""))+1 -> 1
A21: 12 | I21: =IF(OR($B21="",$C21="",$D21="",$E21="",$F21<an_initial,$F21>an_final,$O21=FALSE),"",IF($H21="",CS_STR_A2*$G21/P21,CS_STR_A2*$H21)) | J21: =IF(OR($B21="",$C21="",$D21="",$E21="",$F21="",$F21>an_final,$O21=FALSE),"",IF($H21="",CS_STR_A2*$G21/P21,CS_STR_A2*$H21)) | K21: =IF(OR($B21="",$C21="",$D21="",$E21="",$F21="",$F21>an_final,$O21=FALSE),"",IF($F21>=an_initial,1,"")) | L21: =IF(OR($B21="",$C21="",$D21="",$E21="",$F21="",$F21>an_final,$O21=FALSE),"",1) | M21: =IF(OR($B21="",$C21="",$D21="",$E21="",$F21="",$F21>an_final,$O21=FALSE),"",IF($H21="",$G21/P21,$H21)) | N21: =IF(OR($B21="",$C21="",$D21="",$E21="",$F21="",$F21<an_initial,$F21>an_final,$O21=FALSE),"",IF($H21="",$G21/P21,$H21)) | O21: =IF(nume_candidat="",FALSE,ISNUMBER(SEARCH(nume_candidat,$B21))) -> FALSE | P21: =LEN(B21)-LEN(SUBSTITUTE(B21,",",""))+1 -> 1
... A259: 250 | I259: =IF(OR($B259="",$C259="",$D259="",$E259="",$F259<an_initial,$F259>an_final,$O259=FALSE),"",IF($H259="",CS_STR_A2*$G259/P259,CS_STR_A2*$H259)) | J259: =IF(OR($B259="",$C259="",$D259="",$E259="",$F259="",$F259>an_final,$O259=FALSE),"",IF($H259="",CS_STR_A2*$G259/P259,CS_STR_A2*$H259)) | K259: =IF(OR($B259="",$C259="",$D259="",$E259="",$F259="",$F259>an_final,$O259=FALSE),"",IF($F259>=an_initial,1,"")) | L259: =IF(OR($B259="",$C259="",$D259="",$E259="",$F259="",$F259>an_final,$O259=FALSE),"",1) | M259: =IF(OR($B259="",$C259="",$D259="",$E259="",$F259="",$F259>an_final,$O259=FALSE),"",IF($H259="",$G259/P259,$H259)) | N259: =IF(OR($B259="",$C259="",$D259="",$E259="",$F259="",$F259<an_initial,$F259>an_final,$O259=FALSE),"",IF($H259="",$G259/P259,$H259)) | O259: =IF(nume_candidat="",FALSE,ISNUMBER(SEARCH(nume_candidat,$B259))) -> FALSE | P259: =LEN(B259)-LEN(SUBSTITUTE(B259,",",""))+1 -> 1

Sheet I.2.2b
A1: Universitatea Politehnica Timișoara
A2: =IF(ISBLANK(facultate), IF(ISBLANK(departament),"","Departament " & departament), "Facultatea " & facultate) -> Facultatea Automatică și Calculatoare
A3: =IF(ISBLANK(departament),"","Departamentul " & departament) -> Departamentul Automatică și Informatică Aplicată
A4: I. ACTIVITĂȚI DIDACTICE ȘI PROFESIONALE
A5: 2.2b Cărți de specialitate publicate în calitate de editor/coordonator la edituri din străinătate de clasa B (clasificare UPT)
I6: =CONCATENATE(functie," ",nume_candidat) -> Conferențiar Bojan-Dragos Claudia-Adina | J6: =CONCATENATE(functie," ",nume_candidat) -> Conferențiar Bojan-Dragos Claudia-Adina
A7: Nr. crt. | B7: Autori | C7: Titlul cărții | D7: Editura | E7: ISBN | F7: Anul | G7: Număr total de pagini | H7: Număr de pagini contribuție proprie | I7: Punctaj obținut | K7: Număr de lucrări | M7: Nr. pag. red. pr. | O7: candidat găsit | P7: autori
I8: =CONCATENATE("ultimii ",durata_evaluare," ani") -> ultimii 5 ani | J8: întreaga activitate | K8: =CONCATENATE("ultimii ",durata_evaluare," ani") -> ultimii 5 ani | L8: întreaga activitate | M8: întreaga activitate | N8: =CONCATENATE("ultimii ",durata_evaluare," ani") -> ultimii 5 ani
I9: =SUMIF(I10:I1010,">0") -> 0 | J9: =SUMIF(J10:J108,">0") -> 0 | K9: =SUMIF(K10:K108,">0") -> 0 | L9: =SUMIF(L10:L108,">0") -> 0 | M9: =SUMIF(M10:M108,">0") -> 0 | N9: =SUMIF(N10:N108,">0") -> 0
A10: 1 | I10: =IF(OR($B10="",$C10="",$D10="",$E10="",$F10<an_initial,$F10>an_final,$O10=FALSE),"",IF($H10="",CS_STR_B2*$G10/P10,CS_STR_B2*$H10)) | J10: =IF(OR($B10="",$C10="",$D10="",$E10="",$F10="",$F10>an_final,$O10=FALSE),"",IF($H10="",CS_STR_B2*$G10/P10,CS_STR_B2*$H10)) | K10: =IF(OR($B10="",$C10="",$D10="",$E10="",$F10="",$F10>an_final,$O10=FALSE),"",IF($F10>=an_initial,1,"")) | L10: =IF(OR($B10="",$C10="",$D10="",$E10="",$F10="",$F10>an_final,$O10=FALSE),"",1) | M10: =IF(OR($B10="",$C10="",$D10="",$E10="",$F10="",$F10>an_final,$O10=FALSE),"",IF($H10="",$G10/P10,$H10)) | N10: =IF(OR($B10="",$C10="",$D10="",$E10="",$F10="",$F10<an_initial,$F10>an_final,$O10=FALSE),"",IF($H10="",$G10/P10,$H10)) | O10: =IF(nume_candidat="",FALSE,ISNUMBER(SEARCH(nume_candidat,$B10))) -> FALSE | P10: =LEN(B10)-LEN(SUBSTITUTE(B10,",",""))+1 -> 1
A11: 2 | I11: =IF(OR($B11="",$C11="",$D11="",$E11="",$F11<an_initial,$F11>an_final,$O11=FALSE),"",IF($H11="",CS_STR_B2*$G11/P11,CS_STR_B2*$H11)) | J11: =IF(OR($B11="",$C11="",$D11="",$E11="",$F11="",$F11>an_final,$O11=FALSE),"",IF($H11="",CS_STR_B2*$G11/P11,CS_STR_B2*$H11)) | K11: =IF(OR($B11="",$C11="",$D11="",$E11="",$F11="",$F11>an_final,$O11=FALSE),"",IF($F11>=an_initial,1,"")) | L11: =IF(OR($B11="",$C11="",$D11="",$E11="",$F11="",$F11>an_final,$O11=FALSE),"",1) | M11: =IF(OR($B11="",$C11="",$D11="",$E11="",$F11="",$F11>an_final,$O11=FALSE),"",IF($H11="",$G11/P11,$H11)) | N11: =IF(OR($B11="",$C11="",$D11="",$E11="",$F11="",$F11<an_initial,$F11>an_final,$O11=FALSE),"",IF($H11="",$G11/P11,$H11)) | O11: =IF(nume_candidat="",FALSE,ISNUMBER(SEARCH(nume_candidat,$B11))) -> FALSE | P11: =LEN(B11)-LEN(SUBSTITUTE(B11,",",""))+1 -> 1
A12: 3 | I12: =IF(OR($B12="",$C12="",$D12="",$E12="",$F12<an_initial,$F12>an_final,$O12=FALSE),"",IF($H12="",CS_STR_B2*$G12/P12,CS_STR_B2*$H12)) | J12: =IF(OR($B12="",$C12="",$D12="",$E12="",$F12="",$F12>an_final,$O12=FALSE),"",IF($H12="",CS_STR_B2*$G12/P12,CS_STR_B2*$H12)) | K12: =IF(OR($B12="",$C12="",$D12="",$E12="",$F12="",$F12>an_final,$O12=FALSE),"",IF($F12>=an_initial,1,"")) | L12: =IF(OR($B12="",$C12="",$D12="",$E12="",$F12="",$F12>an_final,$O12=FALSE),"",1) | M12: =IF(OR($B12="",$C12="",$D12="",$E12="",$F12="",$F12>an_final,$O12=FALSE),"",IF($H12="",$G12/P12,$H12)) | N12: =IF(OR($B12="",$C12="",$D12="",$E12="",$F12="",$F12<an_initial,$F12>an_final,$O12=FALSE),"",IF($H12="",$G12/P12,$H12)) | O12: =IF(nume_candidat="",FALSE,ISNUMBER(SEARCH(nume_candidat,$B12))) -> FALSE | P12: =LEN(B12)-LEN(SUBSTITUTE(B12,",",""))+1 -> 1
A13: 4 | I13: =IF(OR($B13="",$C13="",$D13="",$E13="",$F13<an_initial,$F13>an_final,$O13=FALSE),"",IF($H13="",CS_STR_B2*$G13/P13,CS_STR_B2*$H13)) | J13: =IF(OR($B13="",$C13="",$D13="",$E13="",$F13="",$F13>an_final,$O13=FALSE),"",IF($H13="",CS_STR_B2*$G13/P13,CS_STR_B2*$H13)) | K13: =IF(OR($B13="",$C13="",$D13="",$E13="",$F13="",$F13>an_final,$O13=FALSE),"",IF($F13>=an_initial,1,"")) | L13: =IF(OR($B13="",$C13="",$D13="",$E13="",$F13="",$F13>an_final,$O13=FALSE),"",1) | M13: =IF(OR($B13="",$C13="",$D13="",$E13="",$F13="",$F13>an_final,$O13=FALSE),"",IF($H13="",$G13/P13,$H13)) | N13: =IF(OR($B13="",$C13="",$D13="",$E13="",$F13="",$F13<an_initial,$F13>an_final,$O13=FALSE),"",IF($H13="",$G13/P13,$H13)) | O13: =IF(nume_candidat="",FALSE,ISNUMBER(SEARCH(nume_candidat,$B13))) -> FALSE | P13: =LEN(B13)-LEN(SUBSTITUTE(B13,",",""))+1 -> 1
A14: 5 | I14: =IF(OR($B14="",$C14="",$D14="",$E14="",$F14<an_initial,$F14>an_final,$O14=FALSE),"",IF($H14="",CS_STR_B2*$G14/P14,CS_STR_B2*$H14)) | J14: =IF(OR($B14="",$C14="",$D14="",$E14="",$F14="",$F14>an_final,$O14=FALSE),"",IF($H14="",CS_STR_B2*$G14/P14,CS_STR_B2*$H14)) | K14: =IF(OR($B14="",$C14="",$D14="",$E14="",$F14="",$F14>an_final,$O14=FALSE),"",IF($F14>=an_initial,1,"")) | L14: =IF(OR($B14="",$C14="",$D14="",$E14="",$F14="",$F14>an_final,$O14=FALSE),"",1) | M14: =IF(OR($B14="",$C14="",$D14="",$E14="",$F14="",$F14>an_final,$O14=FALSE),"",IF($H14="",$G14/P14,$H14)) | N14: =IF(OR($B14="",$C14="",$D14="",$E14="",$F14="",$F14<an_initial,$F14>an_final,$O14=FALSE),"",IF($H14="",$G14/P14,$H14)) | O14: =IF(nume_candidat="",FALSE,ISNUMBER(SEARCH(nume_candidat,$B14))) -> FALSE | P14: =LEN(B14)-LEN(SUBSTITUTE(B14,",",""))+1 -> 1
A15: 6 | I15: =IF(OR($B15="",$C15="",$D15="",$E15="",$F15<an_initial,$F15>an_final,$O15=FALSE),"",IF($H15="",CS_STR_B2*$G15/P15,CS_STR_B2*$H15)) | J15: =IF(OR($B15="",$C15="",$D15="",$E15="",$F15="",$F15>an_final,$O15=FALSE),"",IF($H15="",CS_STR_B2*$G15/P15,CS_STR_B2*$H15)) | K15: =IF(OR($B15="",$C15="",$D15="",$E15="",$F15="",$F15>an_final,$O15=FALSE),"",IF($F15>=an_initial,1,"")) | L15: =IF(OR($B15="",$C15="",$D15="",$E15="",$F15="",$F15>an_final,$O15=FALSE),"",1) | M15: =IF(OR($B15="",$C15="",$D15="",$E15="",$F15="",$F15>an_final,$O15=FALSE),"",IF($H15="",$G15/P15,$H15)) | N15: =IF(OR($B15="",$C15="",$D15="",$E15="",$F15="",$F15<an_initial,$F15>an_final,$O15=FALSE),"",IF($H15="",$G15/P15,$H15)) | O15: =IF(nume_candidat="",FALSE,ISNUMBER(SEARCH(nume_candidat,$B15))) -> FALSE | P15: =LEN(B15)-LEN(SUBSTITUTE(B15,",",""))+1 -> 1
A16: 7 | I16: =IF(OR($B16="",$C16="",$D16="",$E16="",$F16<an_initial,$F16>an_final,$O16=FALSE),"",IF($H16="",CS_STR_B2*$G16/P16,CS_STR_B2*$H16)) | J16: =IF(OR($B16="",$C16="",$D16="",$E16="",$F16="",$F16>an_final,$O16=FALSE),"",IF($H16="",CS_STR_B2*$G16/P16,CS_STR_B2*$H16)) | K16: =IF(OR($B16="",$C16="",$D16="",$E16="",$F16="",$F16>an_final,$O16=FALSE),"",IF($F16>=an_initial,1,"")) | L16: =IF(OR($B16="",$C16="",$D16="",$E16="",$F16="",$F16>an_final,$O16=FALSE),"",1) | M16: =IF(OR($B16="",$C16="",$D16="",$E16="",$F16="",$F16>an_final,$O16=FALSE),"",IF($H16="",$G16/P16,$H16)) | N16: =IF(OR($B16="",$C16="",$D16="",$E16="",$F16="",$F16<an_initial,$F16>an_final,$O16=FALSE),"",IF($H16="",$G16/P16,$H16)) | O16: =IF(nume_candidat="",FALSE,ISNUMBER(SEARCH(nume_candidat,$B16))) -> FALSE | P16: =LEN(B16)-LEN(SUBSTITUTE(B16,",",""))+1 -> 1
A17: 8 | I17: =IF(OR($B17="",$C17="",$D17="",$E17="",$F17<an_initial,$F17>an_final,$O17=FALSE),"",IF($H17="",CS_STR_B2*$G17/P17,CS_STR_B2*$H17)) | J17: =IF(OR($B17="",$C17="",$D17="",$E17="",$F17="",$F17>an_final,$O17=FALSE),"",IF($H17="",CS_STR_B2*$G17/P17,CS_STR_B2*$H17)) | K17: =IF(OR($B17="",$C17="",$D17="",$E17="",$F17="",$F17>an_final,$O17=FALSE),"",IF($F17>=an_initial,1,"")) | L17: =IF(OR($B17="",$C17="",$D17="",$E17="",$F17="",$F17>an_final,$O17=FALSE),"",1) | M17: =IF(OR($B17="",$C17="",$D17="",$E17="",$F17="",$F17>an_final,$O17=FALSE),"",IF($H17="",$G17/P17,$H17)) | N17: =IF(OR($B17="",$C17="",$D17="",$E17="",$F17="",$F17<an_initial,$F17>an_final,$O17=FALSE),"",IF($H17="",$G17/P17,$H17)) | O17: =IF(nume_candidat="",FALSE,ISNUMBER(SEARCH(nume_candidat,$B17))) -> FALSE | P17: =LEN(B17)-LEN(SUBSTITUTE(B17,",",""))+1 -> 1
A18: 9 | I18: =IF(OR($B18="",$C18="",$D18="",$E18="",$F18<an_initial,$F18>an_final,$O18=FALSE),"",IF($H18="",CS_STR_B2*$G18/P18,CS_STR_B2*$H18)) | J18: =IF(OR($B18="",$C18="",$D18="",$E18="",$F18="",$F18>an_final,$O18=FALSE),"",IF($H18="",CS_STR_B2*$G18/P18,CS_STR_B2*$H18)) | K18: =IF(OR($B18="",$C18="",$D18="",$E18="",$F18="",$F18>an_final,$O18=FALSE),"",IF($F18>=an_initial,1,"")) | L18: =IF(OR($B18="",$C18="",$D18="",$E18="",$F18="",$F18>an_final,$O18=FALSE),"",1) | M18: =IF(OR($B18="",$C18="",$D18="",$E18="",$F18="",$F18>an_final,$O18=FALSE),"",IF($H18="",$G18/P18,$H18)) | N18: =IF(OR($B18="",$C18="",$D18="",$E18="",$F18="",$F18<an_initial,$F18>an_final,$O18=FALSE),"",IF($H18="",$G18/P18,$H18)) | O18: =IF(nume_candidat="",FALSE,ISNUMBER(SEARCH(nume_candidat,$B18))) -> FALSE | P18: =LEN(B18)-LEN(SUBSTITUTE(B18,",",""))+1 -> 1
A19: 10 | I19: =IF(OR($B19="",$C19="",$D19="",$E19="",$F19<an_initial,$F19>an_final,$O19=FALSE),"",IF($H19="",CS_STR_B2*$G19/P19,CS_STR_B2*$H19)) | J19: =IF(OR($B19="",$C19="",$D19="",$E19="",$F19="",$F19>an_final,$O19=FALSE),"",IF($H19="",CS_STR_B2*$G19/P19,CS_STR_B2*$H19)) | K19: =IF(OR($B19="",$C19="",$D19="",$E19="",$F19="",$F19>an_final,$O19=FALSE),"",IF($F19>=an_initial,1,"")) | L19: =IF(OR($B19="",$C19="",$D19="",$E19="",$F19="",$F19>an_final,$O19=FALSE),"",1) | M19: =IF(OR($B19="",$C19="",$D19="",$E19="",$F19="",$F19>an_final,$O19=FALSE),"",IF($H19="",$G19/P19,$H19)) | N19: =IF(OR($B19="",$C19="",$D19="",$E19="",$F19="",$F19<an_initial,$F19>an_final,$O19=FALSE),"",IF($H19="",$G19/P19,$H19)) | O19: =IF(nume_candidat="",FALSE,ISNUMBER(SEARCH(nume_candidat,$B19))) -> FALSE | P19: =LEN(B19)-LEN(SUBSTITUTE(B19,",",""))+1 -> 1
A20: 11 | I20: =IF(OR($B20="",$C20="",$D20="",$E20="",$F20<an_initial,$F20>an_final,$O20=FALSE),"",IF($H20="",CS_STR_B2*$G20/P20,CS_STR_B2*$H20)) | J20: =IF(OR($B20="",$C20="",$D20="",$E20="",$F20="",$F20>an_final,$O20=FALSE),"",IF($H20="",CS_STR_B2*$G20/P20,CS_STR_B2*$H20)) | K20: =IF(OR($B20="",$C20="",$D20="",$E20="",$F20="",$F20>an_final,$O20=FALSE),"",IF($F20>=an_initial,1,"")) | L20: =IF(OR($B20="",$C20="",$D20="",$E20="",$F20="",$F20>an_final,$O20=FALSE),"",1) | M20: =IF(OR($B20="",$C20="",$D20="",$E20="",$F20="",$F20>an_final,$O20=FALSE),"",IF($H20="",$G20/P20,$H20)) | N20: =IF(OR($B20="",$C20="",$D20="",$E20="",$F20="",$F20<an_initial,$F20>an_final,$O20=FALSE),"",IF($H20="",$G20/P20,$H20)) | O20: =IF(nume_candidat="",FALSE,ISNUMBER(SEARCH(nume_candidat,$B20))) -> FALSE | P20: =LEN(B20)-LEN(SUBSTITUTE(B20,",",""))+1 -> 1
A21: 12 | I21: =IF(OR($B21="",$C21="",$D21="",$E21="",$F21<an_initial,$F21>an_final,$O21=FALSE),"",IF($H21="",CS_STR_B2*$G21/P21,CS_STR_B2*$H21)) | J21: =IF(OR($B21="",$C21="",$D21="",$E21="",$F21="",$F21>an_final,$O21=FALSE),"",IF($H21="",CS_STR_B2*$G21/P21,CS_STR_B2*$H21)) | K21: =IF(OR($B21="",$C21="",$D21="",$E21="",$F21="",$F21>an_final,$O21=FALSE),"",IF($F21>=an_initial,1,"")) | L21: =IF(OR($B21="",$C21="",$D21="",$E21="",$F21="",$F21>an_final,$O21=FALSE),"",1) | M21: =IF(OR($B21="",$C21="",$D21="",$E21="",$F21="",$F21>an_final,$O21=FALSE),"",IF($H21="",$G21/P21,$H21)) | N21: =IF(OR($B21="",$C21="",$D21="",$E21="",$F21="",$F21<an_initial,$F21>an_final,$O21=FALSE),"",IF($H21="",$G21/P21,$H21)) | O21: =IF(nume_candidat="",FALSE,ISNUMBER(SEARCH(nume_candidat,$B21))) -> FALSE | P21: =LEN(B21)-LEN(SUBSTITUTE(B21,",",""))+1 -> 1
... A259: 250 | I259: =IF(OR($B259="",$C259="",$D259="",$E259="",$F259<an_initial,$F259>an_final,$O259=FALSE),"",IF($H259="",CS_STR_B2*$G259/P259,CS_STR_B2*$H259)) | J259: =IF(OR($B259="",$C259="",$D259="",$E259="",$F259="",$F259>an_final,$O259=FALSE),"",IF($H259="",CS_STR_B2*$G259/P259,CS_STR_B2*$H259)) | K259: =IF(OR($B259="",$C259="",$D259="",$E259="",$F259="",$F259>an_final,$O259=FALSE),"",IF($F259>=an_initial,1,"")) | L259: =IF(OR($B259="",$C259="",$D259="",$E259="",$F259="",$F259>an_final,$O259=FALSE),"",1) | M259: =IF(OR($B259="",$C259="",$D259="",$E259="",$F259="",$F259>an_final,$O259=FALSE),"",IF($H259="",$G259/P259,$H259)) | N259: =IF(OR($B259="",$C259="",$D259="",$E259="",$F259="",$F259<an_initial,$F259>an_final,$O259=FALSE),"",IF($H259="",$G259/P259,$H259)) | O259: =IF(nume_candidat="",FALSE,ISNUMBER(SEARCH(nume_candidat,$B259))) -> FALSE | P259: =LEN(B259)-LEN(SUBSTITUTE(B259,",",""))+1 -> 1

Sheet I.2.2c
A1: Universitatea Politehnica Timișoara
A2: =IF(ISBLANK(facultate), IF(ISBLANK(departament),"","Departament " & departament), "Facultatea " & facultate) -> Facultatea Automatică și Calculatoare
A3: =IF(ISBLANK(departament),"","Departamentul " & departament) -> Departamentul Automatică și Informatică Aplicată
A4: I. ACTIVITĂȚI DIDACTICE ȘI PROFESIONALE
A5: 2.2c Cărți de specialitate publicate în calitate de editor/coordonator la alte edituri din străinătate
I6: =CONCATENATE(functie," ",nume_candidat) -> Conferențiar Bojan-Dragos Claudia-Adina | J6: =CONCATENATE(functie," ",nume_candidat) -> Conferențiar Bojan-Dragos Claudia-Adina
A7: Nr. crt. | B7: Autori | C7: Titlul cărții | D7: Editura | E7: ISBN | F7: Anul | G7: Număr total de pagini | H7: Număr de pagini contribuție proprie | I7: Punctaj obținut | K7: Număr de lucrări | M7: Nr. pag. red. pr. | O7: candidat găsit | P7: autori
I8: =CONCATENATE("ultimii ",durata_evaluare," ani") -> ultimii 5 ani | J8: întreaga activitate | K8: =CONCATENATE("ultimii ",durata_evaluare," ani") -> ultimii 5 ani | L8: întreaga activitate | M8: întreaga activitate | N8: =CONCATENATE("ultimii ",durata_evaluare," ani") -> ultimii 5 ani
I9: =SUMIF(I10:I1010,">0") -> 0 | J9: =SUMIF(J10:J214,">0") -> 0 | K9: =SUMIF(K10:K214,">0") -> 0 | L9: =SUMIF(L10:L214,">0") -> 0 | M9: =SUMIF(M10:M214,">0") -> 0 | N9: =SUMIF(N10:N214,">0") -> 0
A10: 1 | I10: =IF(OR($B10="",$C10="",$D10="",$E10="",$F10<an_initial,$F10>an_final,$O10=FALSE),"",IF($H10="",CS_STR_ALTE2*$G10/P10,CS_STR_ALTE2*$H10)) | J10: =IF(OR($B10="",$C10="",$D10="",$E10="",$F10="",$F10>an_final,$O10=FALSE),"",IF($H10="",CS_STR_ALTE2*$G10/P10,CS_STR_ALTE2*$H10)) | K10: =IF(OR($B10="",$C10="",$D10="",$E10="",$F10="",$F10>an_final,$O10=FALSE),"",IF($F10>=an_initial,1,"")) | L10: =IF(OR($B10="",$C10="",$D10="",$E10="",$F10="",$F10>an_final,$O10=FALSE),"",1) | M10: =IF(OR($B10="",$C10="",$D10="",$E10="",$F10="",$F10>an_final,$O10=FALSE),"",IF($H10="",$G10/P10,$H10)) | N10: =IF(OR($B10="",$C10="",$D10="",$E10="",$F10="",$F10<an_initial,$F10>an_final,$O10=FALSE),"",IF($H10="",$G10/P10,$H10)) | O10: =IF(nume_candidat="",FALSE,ISNUMBER(SEARCH(nume_candidat,$B10))) -> FALSE | P10: =LEN(B10)-LEN(SUBSTITUTE(B10,",",""))+1 -> 1
A11: 2 | I11: =IF(OR($B11="",$C11="",$D11="",$E11="",$F11<an_initial,$F11>an_final,$O11=FALSE),"",IF($H11="",CS_STR_ALTE2*$G11/P11,CS_STR_ALTE2*$H11)) | J11: =IF(OR($B11="",$C11="",$D11="",$E11="",$F11="",$F11>an_final,$O11=FALSE),"",IF($H11="",CS_STR_ALTE2*$G11/P11,CS_STR_ALTE2*$H11)) | K11: =IF(OR($B11="",$C11="",$D11="",$E11="",$F11="",$F11>an_final,$O11=FALSE),"",IF($F11>=an_initial,1,"")) | L11: =IF(OR($B11="",$C11="",$D11="",$E11="",$F11="",$F11>an_final,$O11=FALSE),"",1) | M11: =IF(OR($B11="",$C11="",$D11="",$E11="",$F11="",$F11>an_final,$O11=FALSE),"",IF($H11="",$G11/P11,$H11)) | N11: =IF(OR($B11="",$C11="",$D11="",$E11="",$F11="",$F11<an_initial,$F11>an_final,$O11=FALSE),"",IF($H11="",$G11/P11,$H11)) | O11: =IF(nume_candidat="",FALSE,ISNUMBER(SEARCH(nume_candidat,$B11))) -> FALSE | P11: =LEN(B11)-LEN(SUBSTITUTE(B11,",",""))+1 -> 1
A12: 3 | I12: =IF(OR($B12="",$C12="",$D12="",$E12="",$F12<an_initial,$F12>an_final,$O12=FALSE),"",IF($H12="",CS_STR_ALTE2*$G12/P12,CS_STR_ALTE2*$H12)) | J12: =IF(OR($B12="",$C12="",$D12="",$E12="",$F12="",$F12>an_final,$O12=FALSE),"",IF($H12="",CS_STR_ALTE2*$G12/P12,CS_STR_ALTE2*$H12)) | K12: =IF(OR($B12="",$C12="",$D12="",$E12="",$F12="",$F12>an_final,$O12=FALSE),"",IF($F12>=an_initial,1,"")) | L12: =IF(OR($B12="",$C12="",$D12="",$E12="",$F12="",$F12>an_final,$O12=FALSE),"",1) | M12: =IF(OR($B12="",$C12="",$D12="",$E12="",$F12="",$F12>an_final,$O12=FALSE),"",IF($H12="",$G12/P12,$H12)) | N12: =IF(OR($B12="",$C12="",$D12="",$E12="",$F12="",$F12<an_initial,$F12>an_final,$O12=FALSE),"",IF($H12="",$G12/P12,$H12)) | O12: =IF(nume_candidat="",FALSE,ISNUMBER(SEARCH(nume_candidat,$B12))) -> FALSE | P12: =LEN(B12)-LEN(SUBSTITUTE(B12,",",""))+1 -> 1
A13: 4 | I13: =IF(OR($B13="",$C13="",$D13="",$E13="",$F13<an_initial,$F13>an_final,$O13=FALSE),"",IF($H13="",CS_STR_ALTE2*$G13/P13,CS_STR_ALTE2*$H13)) | J13: =IF(OR($B13="",$C13="",$D13="",$E13="",$F13="",$F13>an_final,$O13=FALSE),"",IF($H13="",CS_STR_ALTE2*$G13/P13,CS_STR_ALTE2*$H13)) | K13: =IF(OR($B13="",$C13="",$D13="",$E13="",$F13="",$F13>an_final,$O13=FALSE),"",IF($F13>=an_initial,1,"")) | L13: =IF(OR($B13="",$C13="",$D13="",$E13="",$F13="",$F13>an_final,$O13=FALSE),"",1) | M13: =IF(OR($B13="",$C13="",$D13="",$E13="",$F13="",$F13>an_final,$O13=FALSE),"",IF($H13="",$G13/P13,$H13)) | N13: =IF(OR($B13="",$C13="",$D13="",$E13="",$F13="",$F13<an_initial,$F13>an_final,$O13=FALSE),"",IF($H13="",$G13/P13,$H13)) | O13: =IF(nume_candidat="",FALSE,ISNUMBER(SEARCH(nume_candidat,$B13))) -> FALSE | P13: =LEN(B13)-LEN(SUBSTITUTE(B13,",",""))+1 -> 1
A14: 5 | I14: =IF(OR($B14="",$C14="",$D14="",$E14="",$F14<an_initial,$F14>an_final,$O14=FALSE),"",IF($H14="",CS_STR_ALTE2*$G14/P14,CS_STR_ALTE2*$H14)) | J14: =IF(OR($B14="",$C14="",$D14="",$E14="",$F14="",$F14>an_final,$O14=FALSE),"",IF($H14="",CS_STR_ALTE2*$G14/P14,CS_STR_ALTE2*$H14)) | K14: =IF(OR($B14="",$C14="",$D14="",$E14="",$F14="",$F14>an_final,$O14=FALSE),"",IF($F14>=an_initial,1,"")) | L14: =IF(OR($B14="",$C14="",$D14="",$E14="",$F14="",$F14>an_final,$O14=FALSE),"",1) | M14: =IF(OR($B14="",$C14="",$D14="",$E14="",$F14="",$F14>an_final,$O14=FALSE),"",IF($H14="",$G14/P14,$H14)) | N14: =IF(OR($B14="",$C14="",$D14="",$E14="",$F14="",$F14<an_initial,$F14>an_final,$O14=FALSE),"",IF($H14="",$G14/P14,$H14)) | O14: =IF(nume_candidat="",FALSE,ISNUMBER(SEARCH(nume_candidat,$B14))) -> FALSE | P14: =LEN(B14)-LEN(SUBSTITUTE(B14,",",""))+1 -> 1
A15: 6 | I15: =IF(OR($B15="",$C15="",$D15="",$E15="",$F15<an_initial,$F15>an_final,$O15=FALSE),"",IF($H15="",CS_STR_ALTE2*$G15/P15,CS_STR_ALTE2*$H15)) | J15: =IF(OR($B15="",$C15="",$D15="",$E15="",$F15="",$F15>an_final,$O15=FALSE),"",IF($H15="",CS_STR_ALTE2*$G15/P15,CS_STR_ALTE2*$H15)) | K15: =IF(OR($B15="",$C15="",$D15="",$E15="",$F15="",$F15>an_final,$O15=FALSE),"",IF($F15>=an_initial,1,"")) | L15: =IF(OR($B15="",$C15="",$D15="",$E15="",$F15="",$F15>an_final,$O15=FALSE),"",1) | M15: =IF(OR($B15="",$C15="",$D15="",$E15="",$F15="",$F15>an_final,$O15=FALSE),"",IF($H15="",$G15/P15,$H15)) | N15: =IF(OR($B15="",$C15="",$D15="",$E15="",$F15="",$F15<an_initial,$F15>an_final,$O15=FALSE),"",IF($H15="",$G15/P15,$H15)) | O15: =IF(nume_candidat="",FALSE,ISNUMBER(SEARCH(nume_candidat,$B15))) -> FALSE | P15: =LEN(B15)-LEN(SUBSTITUTE(B15,",",""))+1 -> 1
A16: 7 | I16: =IF(OR($B16="",$C16="",$D16="",$E16="",$F16<an_initial,$F16>an_final,$O16=FALSE),"",IF($H16="",CS_STR_ALTE2*$G16/P16,CS_STR_ALTE2*$H16)) | J16: =IF(OR($B16="",$C16="",$D16="",$E16="",$F16="",$F16>an_final,$O16=FALSE),"",IF($H16="",CS_STR_ALTE2*$G16/P16,CS_STR_ALTE2*$H16)) | K16: =IF(OR($B16="",$C16="",$D16="",$E16="",$F16="",$F16>an_final,$O16=FALSE),"",IF($F16>=an_initial,1,"")) | L16: =IF(OR($B16="",$C16="",$D16="",$E16="",$F16="",$F16>an_final,$O16=FALSE),"",1) | M16: =IF(OR($B16="",$C16="",$D16="",$E16="",$F16="",$F16>an_final,$O16=FALSE),"",IF($H16="",$G16/P16,$H16)) | N16: =IF(OR($B16="",$C16="",$D16="",$E16="",$F16="",$F16<an_initial,$F16>an_final,$O16=FALSE),"",IF($H16="",$G16/P16,$H16)) | O16: =IF(nume_candidat="",FALSE,ISNUMBER(SEARCH(nume_candidat,$B16))) -> FALSE | P16: =LEN(B16)-LEN(SUBSTITUTE(B16,",",""))+1 -> 1
A17: 8 | I17: =IF(OR($B17="",$C17="",$D17="",$E17="",$F17<an_initial,$F17>an_final,$O17=FALSE),"",IF($H17="",CS_STR_ALTE2*$G17/P17,CS_STR_ALTE2*$H17)) | J17: =IF(OR($B17="",$C17="",$D17="",$E17="",$F17="",$F17>an_final,$O17=FALSE),"",IF($H17="",CS_STR_ALTE2*$G17/P17,CS_STR_ALTE2*$H17)) | K17: =IF(OR($B17="",$C17="",$D17="",$E17="",$F17="",$F17>an_final,$O17=FALSE),"",IF($F17>=an_initial,1,"")) | L17: =IF(OR($B17="",$C17="",$D17="",$E17="",$F17="",$F17>an_final,$O17=FALSE),"",1) | M17: =IF(OR($B17="",$C17="",$D17="",$E17="",$F17="",$F17>an_final,$O17=FALSE),"",IF($H17="",$G17/P17,$H17)) | N17: =IF(OR($B17="",$C17="",$D17="",$E17="",$F17="",$F17<an_initial,$F17>an_final,$O17=FALSE),"",IF($H17="",$G17/P17,$H17)) | O17: =IF(nume_candidat="",FALSE,ISNUMBER(SEARCH(nume_candidat,$B17))) -> FALSE | P17: =LEN(B17)-LEN(SUBSTITUTE(B17,",",""))+1 -> 1
A18: 9 | I18: =IF(OR($B18="",$C18="",$D18="",$E18="",$F18<an_initial,$F18>an_final,$O18=FALSE),"",IF($H18="",CS_STR_ALTE2*$G18/P18,CS_STR_ALTE2*$H18)) | J18: =IF(OR($B18="",$C18="",$D18="",$E18="",$F18="",$F18>an_final,$O18=FALSE),"",IF($H18="",CS_STR_ALTE2*$G18/P18,CS_STR_ALTE2*$H18)) | K18: =IF(OR($B18="",$C18="",$D18="",$E18="",$F18="",$F18>an_final,$O18=FALSE),"",IF($F18>=an_initial,1,"")) | L18: =IF(OR($B18="",$C18="",$D18="",$E18="",$F18="",$F18>an_final,$O18=FALSE),"",1) | M18: =IF(OR($B18="",$C18="",$D18="",$E18="",$F18="",$F18>an_final,$O18=FALSE),"",IF($H18="",$G18/P18,$H18)) | N18: =IF(OR($B18="",$C18="",$D18="",$E18="",$F18="",$F18<an_initial,$F18>an_final,$O18=FALSE),"",IF($H18="",$G18/P18,$H18)) | O18: =IF(nume_candidat="",FALSE,ISNUMBER(SEARCH(nume_candidat,$B18))) -> FALSE | P18: =LEN(B18)-LEN(SUBSTITUTE(B18,",",""))+1 -> 1
A19: 10 | I19: =IF(OR($B19="",$C19="",$D19="",$E19="",$F19<an_initial,$F19>an_final,$O19=FALSE),"",IF($H19="",CS_STR_ALTE2*$G19/P19,CS_STR_ALTE2*$H19)) | J19: =IF(OR($B19="",$C19="",$D19="",$E19="",$F19="",$F19>an_final,$O19=FALSE),"",IF($H19="",CS_STR_ALTE2*$G19/P19,CS_STR_ALTE2*$H19)) | K19: =IF(OR($B19="",$C19="",$D19="",$E19="",$F19="",$F19>an_final,$O19=FALSE),"",IF($F19>=an_initial,1,"")) | L19: =IF(OR($B19="",$C19="",$D19="",$E19="",$F19="",$F19>an_final,$O19=FALSE),"",1) | M19: =IF(OR($B19="",$C19="",$D19="",$E19="",$F19="",$F19>an_final,$O19=FALSE),"",IF($H19="",$G19/P19,$H19)) | N19: =IF(OR($B19="",$C19="",$D19="",$E19="",$F19="",$F19<an_initial,$F19>an_final,$O19=FALSE),"",IF($H19="",$G19/P19,$H19)) | O19: =IF(nume_candidat="",FALSE,ISNUMBER(SEARCH(nume_candidat,$B19))) -> FALSE | P19: =LEN(B19)-LEN(SUBSTITUTE(B19,",",""))+1 -> 1
A20: 11 | I20: =IF(OR($B20="",$C20="",$D20="",$E20="",$F20<an_initial,$F20>an_final,$O20=FALSE),"",IF($H20="",CS_STR_ALTE2*$G20/P20,CS_STR_ALTE2*$H20)) | J20: =IF(OR($B20="",$C20="",$D20="",$E20="",$F20="",$F20>an_final,$O20=FALSE),"",IF($H20="",CS_STR_ALTE2*$G20/P20,CS_STR_ALTE2*$H20)) | K20: =IF(OR($B20="",$C20="",$D20="",$E20="",$F20="",$F20>an_final,$O20=FALSE),"",IF($F20>=an_initial,1,"")) | L20: =IF(OR($B20="",$C20="",$D20="",$E20="",$F20="",$F20>an_final,$O20=FALSE),"",1) | M20: =IF(OR($B20="",$C20="",$D20="",$E20="",$F20="",$F20>an_final,$O20=FALSE),"",IF($H20="",$G20/P20,$H20)) | N20: =IF(OR($B20="",$C20="",$D20="",$E20="",$F20="",$F20<an_initial,$F20>an_final,$O20=FALSE),"",IF($H20="",$G20/P20,$H20)) | O20: =IF(nume_candidat="",FALSE,ISNUMBER(SEARCH(nume_candidat,$B20))) -> FALSE | P20: =LEN(B20)-LEN(SUBSTITUTE(B20,",",""))+1 -> 1
A21: 12 | I21: =IF(OR($B21="",$C21="",$D21="",$E21="",$F21<an_initial,$F21>an_final,$O21=FALSE),"",IF($H21="",CS_STR_ALTE2*$G21/P21,CS_STR_ALTE2*$H21)) | J21: =IF(OR($B21="",$C21="",$D21="",$E21="",$F21="",$F21>an_final,$O21=FALSE),"",IF($H21="",CS_STR_ALTE2*$G21/P21,CS_STR_ALTE2*$H21)) | K21: =IF(OR($B21="",$C21="",$D21="",$E21="",$F21="",$F21>an_final,$O21=FALSE),"",IF($F21>=an_initial,1,"")) | L21: =IF(OR($B21="",$C21="",$D21="",$E21="",$F21="",$F21>an_final,$O21=FALSE),"",1) | M21: =IF(OR($B21="",$C21="",$D21="",$E21="",$F21="",$F21>an_final,$O21=FALSE),"",IF($H21="",$G21/P21,$H21)) | N21: =IF(OR($B21="",$C21="",$D21="",$E21="",$F21="",$F21<an_initial,$F21>an_final,$O21=FALSE),"",IF($H21="",$G21/P21,$H21)) | O21: =IF(nume_candidat="",FALSE,ISNUMBER(SEARCH(nume_candidat,$B21))) -> FALSE | P21: =LEN(B21)-LEN(SUBSTITUTE(B21,",",""))+1 -> 1
... A214: 205 | I214: =IF(OR($B214="",$C214="",$D214="",$E214="",$F214<an_initial,$F214>an_final,$O214=FALSE),"",IF($H214="",CS_STR_ALTE2*$G214/P214,CS_STR_ALTE2*$H214)) | J214: =IF(OR($B214="",$C214="",$D214="",$E214="",$F214="",$F214>an_final,$O214=FALSE),"",IF($H214="",CS_STR_ALTE2*$G214/P214,CS_STR_ALTE2*$H214)) | K214: =IF(OR($B214="",$C214="",$D214="",$E214="",$F214="",$F214>an_final,$O214=FALSE),"",IF($F214>=an_initial,1,"")) | L214: =IF(OR($B214="",$C214="",$D214="",$E214="",$F214="",$F214>an_final,$O214=FALSE),"",1) | M214: =IF(OR($B214="",$C214="",$D214="",$E214="",$F214="",$F214>an_final,$O214=FALSE),"",IF($H214="",$G214/P214,$H214)) | N214: =IF(OR($B214="",$C214="",$D214="",$E214="",$F214="",$F214<an_initial,$F214>an_final,$O214=FALSE),"",IF($H214="",$G214/P214,$H214)) | O214: =IF(nume_candidat="",FALSE,ISNUMBER(SEARCH(nume_candidat,$B214))) -> FALSE | P214: =LEN(B214)-LEN(SUBSTITUTE(B214,",",""))+1 -> 1

Sheet I.2.2d
A1: Universitatea Politehnica Timișoara
A2: =IF(ISBLANK(facultate), IF(ISBLANK(departament),"","Departament " & departament), "Facultatea " & facultate) -> Facultatea Automatică și Calculatoare
A3: =IF(ISBLANK(departament),"","Departamentul " & departament) -> Departamentul Automatică și Informatică Aplicată
A4: I. ACTIVITĂȚI DIDACTICE ȘI PROFESIONALE
A5: 2.2d Cărți de specialitate publicate în calitate de editor/coordonator la editura POLITEHNICA, editura Academiei, editura Tehnică, editura Polirom, Iasi (pt Stiintele Comunicarii) sau editura Paideia, Bucuresti (pt Arhitectura)
I6: =CONCATENATE(functie," ",nume_candidat) -> Conferențiar Bojan-Dragos Claudia-Adina | J6: =CONCATENATE(functie," ",nume_candidat) -> Conferențiar Bojan-Dragos Claudia-Adina
A7: Nr. crt. | B7: Autori | C7: Titlul cărții | D7: Editura | E7: ISBN | F7: Anul | G7: Număr total de pagini | H7: Număr de pagini contribuție proprie | I7: Punctaj obținut | K7: Număr de lucrări | M7: Nr. pag. red. pr. | O7: candidat găsit | P7: autori
I8: =CONCATENATE("ultimii ",durata_evaluare," ani") -> ultimii 5 ani | J8: întreaga activitate | K8: =CONCATENATE("ultimii ",durata_evaluare," ani") -> ultimii 5 ani | L8: întreaga activitate | M8: întreaga activitate | N8: =CONCATENATE("ultimii ",durata_evaluare," ani") -> ultimii 5 ani
I9: =SUMIF(I10:I1010,">0") -> 0 | J9: =SUMIF(J10:J108,">0") -> 0 | K9: =SUMIF(K10:K108,">0") -> 0 | L9: =SUMIF(L10:L108,">0") -> 0 | M9: =SUMIF(M10:M108,">0") -> 0 | N9: =SUMIF(N10:N108,">0") -> 0
A10: 1 | I10: =IF(OR($B10="",$C10="",$D10="",$E10="",$F10<an_initial,$F10>an_final,$O10=FALSE),"",IF($H10="",CS_STR_RO2*$G10/P10,CS_STR_RO2*$H10)) | J10: =IF(OR($B10="",$C10="",$D10="",$E10="",$F10="",$F10>an_final,$O10=FALSE),"",IF($H10="",CS_STR_RO2*$G10/P10,CS_STR_RO2*$H10)) | K10: =IF(OR($B10="",$C10="",$D10="",$E10="",$F10="",$F10>an_final,$O10=FALSE),"",IF($F10>=an_initial,1,"")) | L10: =IF(OR($B10="",$C10="",$D10="",$E10="",$F10="",$F10>an_final,$O10=FALSE),"",1) | M10: =IF(OR($B10="",$C10="",$D10="",$E10="",$F10="",$F10>an_final,$O10=FALSE),"",IF($H10="",$G10/P10,$H10)) | N10: =IF(OR($B10="",$C10="",$D10="",$E10="",$F10="",$F10<an_initial,$F10>an_final,$O10=FALSE),"",IF($H10="",$G10/P10,$H10)) | O10: =IF(nume_candidat="",FALSE,ISNUMBER(SEARCH(nume_candidat,$B10))) -> FALSE | P10: =LEN(B10)-LEN(SUBSTITUTE(B10,",",""))+1 -> 1
A11: 2 | I11: =IF(OR($B11="",$C11="",$D11="",$E11="",$F11<an_initial,$F11>an_final,$O11=FALSE),"",IF($H11="",CS_STR_RO2*$G11/P11,CS_STR_RO2*$H11)) | J11: =IF(OR($B11="",$C11="",$D11="",$E11="",$F11="",$F11>an_final,$O11=FALSE),"",IF($H11="",CS_STR_RO2*$G11/P11,CS_STR_RO2*$H11)) | K11: =IF(OR($B11="",$C11="",$D11="",$E11="",$F11="",$F11>an_final,$O11=FALSE),"",IF($F11>=an_initial,1,"")) | L11: =IF(OR($B11="",$C11="",$D11="",$E11="",$F11="",$F11>an_final,$O11=FALSE),"",1) | M11: =IF(OR($B11="",$C11="",$D11="",$E11="",$F11="",$F11>an_final,$O11=FALSE),"",IF($H11="",$G11/P11,$H11)) | N11: =IF(OR($B11="",$C11="",$D11="",$E11="",$F11="",$F11<an_initial,$F11>an_final,$O11=FALSE),"",IF($H11="",$G11/P11,$H11)) | O11: =IF(nume_candidat="",FALSE,ISNUMBER(SEARCH(nume_candidat,$B11))) -> FALSE | P11: =LEN(B11)-LEN(SUBSTITUTE(B11,",",""))+1 -> 1
A12: 3 | I12: =IF(OR($B12="",$C12="",$D12="",$E12="",$F12<an_initial,$F12>an_final,$O12=FALSE),"",IF($H12="",CS_STR_RO2*$G12/P12,CS_STR_RO2*$H12)) | J12: =IF(OR($B12="",$C12="",$D12="",$E12="",$F12="",$F12>an_final,$O12=FALSE),"",IF($H12="",CS_STR_RO2*$G12/P12,CS_STR_RO2*$H12)) | K12: =IF(OR($B12="",$C12="",$D12="",$E12="",$F12="",$F12>an_final,$O12=FALSE),"",IF($F12>=an_initial,1,"")) | L12: =IF(OR($B12="",$C12="",$D12="",$E12="",$F12="",$F12>an_final,$O12=FALSE),"",1) | M12: =IF(OR($B12="",$C12="",$D12="",$E12="",$F12="",$F12>an_final,$O12=FALSE),"",IF($H12="",$G12/P12,$H12)) | N12: =IF(OR($B12="",$C12="",$D12="",$E12="",$F12="",$F12<an_initial,$F12>an_final,$O12=FALSE),"",IF($H12="",$G12/P12,$H12)) | O12: =IF(nume_candidat="",FALSE,ISNUMBER(SEARCH(nume_candidat,$B12))) -> FALSE | P12: =LEN(B12)-LEN(SUBSTITUTE(B12,",",""))+1 -> 1
A13: 4 | I13: =IF(OR($B13="",$C13="",$D13="",$E13="",$F13<an_initial,$F13>an_final,$O13=FALSE),"",IF($H13="",CS_STR_RO2*$G13/P13,CS_STR_RO2*$H13)) | J13: =IF(OR($B13="",$C13="",$D13="",$E13="",$F13="",$F13>an_final,$O13=FALSE),"",IF($H13="",CS_STR_RO2*$G13/P13,CS_STR_RO2*$H13)) | K13: =IF(OR($B13="",$C13="",$D13="",$E13="",$F13="",$F13>an_final,$O13=FALSE),"",IF($F13>=an_initial,1,"")) | L13: =IF(OR($B13="",$C13="",$D13="",$E13="",$F13="",$F13>an_final,$O13=FALSE),"",1) | M13: =IF(OR($B13="",$C13="",$D13="",$E13="",$F13="",$F13>an_final,$O13=FALSE),"",IF($H13="",$G13/P13,$H13)) | N13: =IF(OR($B13="",$C13="",$D13="",$E13="",$F13="",$F13<an_initial,$F13>an_final,$O13=FALSE),"",IF($H13="",$G13/P13,$H13)) | O13: =IF(nume_candidat="",FALSE,ISNUMBER(SEARCH(nume_candidat,$B13))) -> FALSE | P13: =LEN(B13)-LEN(SUBSTITUTE(B13,",",""))+1 -> 1
A14: 5 | I14: =IF(OR($B14="",$C14="",$D14="",$E14="",$F14<an_initial,$F14>an_final,$O14=FALSE),"",IF($H14="",CS_STR_RO2*$G14/P14,CS_STR_RO2*$H14)) | J14: =IF(OR($B14="",$C14="",$D14="",$E14="",$F14="",$F14>an_final,$O14=FALSE),"",IF($H14="",CS_STR_RO2*$G14/P14,CS_STR_RO2*$H14)) | K14: =IF(OR($B14="",$C14="",$D14="",$E14="",$F14="",$F14>an_final,$O14=FALSE),"",IF($F14>=an_initial,1,"")) | L14: =IF(OR($B14="",$C14="",$D14="",$E14="",$F14="",$F14>an_final,$O14=FALSE),"",1) | M14: =IF(OR($B14="",$C14="",$D14="",$E14="",$F14="",$F14>an_final,$O14=FALSE),"",IF($H14="",$G14/P14,$H14)) | N14: =IF(OR($B14="",$C14="",$D14="",$E14="",$F14="",$F14<an_initial,$F14>an_final,$O14=FALSE),"",IF($H14="",$G14/P14,$H14)) | O14: =IF(nume_candidat="",FALSE,ISNUMBER(SEARCH(nume_candidat,$B14))) -> FALSE | P14: =LEN(B14)-LEN(SUBSTITUTE(B14,",",""))+1 -> 1
A15: 6 | I15: =IF(OR($B15="",$C15="",$D15="",$E15="",$F15<an_initial,$F15>an_final,$O15=FALSE),"",IF($H15="",CS_STR_RO2*$G15/P15,CS_STR_RO2*$H15)) | J15: =IF(OR($B15="",$C15="",$D15="",$E15="",$F15="",$F15>an_final,$O15=FALSE),"",IF($H15="",CS_STR_RO2*$G15/P15,CS_STR_RO2*$H15)) | K15: =IF(OR($B15="",$C15="",$D15="",$E15="",$F15="",$F15>an_final,$O15=FALSE),"",IF($F15>=an_initial,1,"")) | L15: =IF(OR($B15="",$C15="",$D15="",$E15="",$F15="",$F15>an_final,$O15=FALSE),"",1) | M15: =IF(OR($B15="",$C15="",$D15="",$E15="",$F15="",$F15>an_final,$O15=FALSE),"",IF($H15="",$G15/P15,$H15)) | N15: =IF(OR($B15="",$C15="",$D15="",$E15="",$F15="",$F15<an_initial,$F15>an_final,$O15=FALSE),"",IF($H15="",$G15/P15,$H15)) | O15: =IF(nume_candidat="",FALSE,ISNUMBER(SEARCH(nume_candidat,$B15))) -> FALSE | P15: =LEN(B15)-LEN(SUBSTITUTE(B15,",",""))+1 -> 1
A16: 7 | I16: =IF(OR($B16="",$C16="",$D16="",$E16="",$F16<an_initial,$F16>an_final,$O16=FALSE),"",IF($H16="",CS_STR_RO2*$G16/P16,CS_STR_RO2*$H16)) | J16: =IF(OR($B16="",$C16="",$D16="",$E16="",$F16="",$F16>an_final,$O16=FALSE),"",IF($H16="",CS_STR_RO2*$G16/P16,CS_STR_RO2*$H16)) | K16: =IF(OR($B16="",$C16="",$D16="",$E16="",$F16="",$F16>an_final,$O16=FALSE),"",IF($F16>=an_initial,1,"")) | L16: =IF(OR($B16="",$C16="",$D16="",$E16="",$F16="",$F16>an_final,$O16=FALSE),"",1) | M16: =IF(OR($B16="",$C16="",$D16="",$E16="",$F16="",$F16>an_final,$O16=FALSE),"",IF($H16="",$G16/P16,$H16)) | N16: =IF(OR($B16="",$C16="",$D16="",$E16="",$F16="",$F16<an_initial,$F16>an_final,$O16=FALSE),"",IF($H16="",$G16/P16,$H16)) | O16: =IF(nume_candidat="",FALSE,ISNUMBER(SEARCH(nume_candidat,$B16))) -> FALSE | P16: =LEN(B16)-LEN(SUBSTITUTE(B16,",",""))+1 -> 1
A17: 8 | I17: =IF(OR($B17="",$C17="",$D17="",$E17="",$F17<an_initial,$F17>an_final,$O17=FALSE),"",IF($H17="",CS_STR_RO2*$G17/P17,CS_STR_RO2*$H17)) | J17: =IF(OR($B17="",$C17="",$D17="",$E17="",$F17="",$F17>an_final,$O17=FALSE),"",IF($H17="",CS_STR_RO2*$G17/P17,CS_STR_RO2*$H17)) | K17: =IF(OR($B17="",$C17="",$D17="",$E17="",$F17="",$F17>an_final,$O17=FALSE),"",IF($F17>=an_initial,1,"")) | L17: =IF(OR($B17="",$C17="",$D17="",$E17="",$F17="",$F17>an_final,$O17=FALSE),"",1) | M17: =IF(OR($B17="",$C17="",$D17="",$E17="",$F17="",$F17>an_final,$O17=FALSE),"",IF($H17="",$G17/P17,$H17)) | N17: =IF(OR($B17="",$C17="",$D17="",$E17="",$F17="",$F17<an_initial,$F17>an_final,$O17=FALSE),"",IF($H17="",$G17/P17,$H17)) | O17: =IF(nume_candidat="",FALSE,ISNUMBER(SEARCH(nume_candidat,$B17))) -> FALSE | P17: =LEN(B17)-LEN(SUBSTITUTE(B17,",",""))+1 -> 1
A18: 9 | I18: =IF(OR($B18="",$C18="",$D18="",$E18="",$F18<an_initial,$F18>an_final,$O18=FALSE),"",IF($H18="",CS_STR_RO2*$G18/P18,CS_STR_RO2*$H18)) | J18: =IF(OR($B18="",$C18="",$D18="",$E18="",$F18="",$F18>an_final,$O18=FALSE),"",IF($H18="",CS_STR_RO2*$G18/P18,CS_STR_RO2*$H18)) | K18: =IF(OR($B18="",$C18="",$D18="",$E18="",$F18="",$F18>an_final,$O18=FALSE),"",IF($F18>=an_initial,1,"")) | L18: =IF(OR($B18="",$C18="",$D18="",$E18="",$F18="",$F18>an_final,$O18=FALSE),"",1) | M18: =IF(OR($B18="",$C18="",$D18="",$E18="",$F18="",$F18>an_final,$O18=FALSE),"",IF($H18="",$G18/P18,$H18)) | N18: =IF(OR($B18="",$C18="",$D18="",$E18="",$F18="",$F18<an_initial,$F18>an_final,$O18=FALSE),"",IF($H18="",$G18/P18,$H18)) | O18: =IF(nume_candidat="",FALSE,ISNUMBER(SEARCH(nume_candidat,$B18))) -> FALSE | P18: =LEN(B18)-LEN(SUBSTITUTE(B18,",",""))+1 -> 1
A19: 10 | I19: =IF(OR($B19="",$C19="",$D19="",$E19="",$F19<an_initial,$F19>an_final,$O19=FALSE),"",IF($H19="",CS_STR_RO2*$G19/P19,CS_STR_RO2*$H19)) | J19: =IF(OR($B19="",$C19="",$D19="",$E19="",$F19="",$F19>an_final,$O19=FALSE),"",IF($H19="",CS_STR_RO2*$G19/P19,CS_STR_RO2*$H19)) | K19: =IF(OR($B19="",$C19="",$D19="",$E19="",$F19="",$F19>an_final,$O19=FALSE),"",IF($F19>=an_initial,1,"")) | L19: =IF(OR($B19="",$C19="",$D19="",$E19="",$F19="",$F19>an_final,$O19=FALSE),"",1) | M19: =IF(OR($B19="",$C19="",$D19="",$E19="",$F19="",$F19>an_final,$O19=FALSE),"",IF($H19="",$G19/P19,$H19)) | N19: =IF(OR($B19="",$C19="",$D19="",$E19="",$F19="",$F19<an_initial,$F19>an_final,$O19=FALSE),"",IF($H19="",$G19/P19,$H19)) | O19: =IF(nume_candidat="",FALSE,ISNUMBER(SEARCH(nume_candidat,$B19))) -> FALSE | P19: =LEN(B19)-LEN(SUBSTITUTE(B19,",",""))+1 -> 1
A20: 11 | I20: =IF(OR($B20="",$C20="",$D20="",$E20="",$F20<an_initial,$F20>an_final,$O20=FALSE),"",IF($H20="",CS_STR_RO2*$G20/P20,CS_STR_RO2*$H20)) | J20: =IF(OR($B20="",$C20="",$D20="",$E20="",$F20="",$F20>an_final,$O20=FALSE),"",IF($H20="",CS_STR_RO2*$G20/P20,CS_STR_RO2*$H20)) | K20: =IF(OR($B20="",$C20="",$D20="",$E20="",$F20="",$F20>an_final,$O20=FALSE),"",IF($F20>=an_initial,1,"")) | L20: =IF(OR($B20="",$C20="",$D20="",$E20="",$F20="",$F20>an_final,$O20=FALSE),"",1) | M20: =IF(OR($B20="",$C20="",$D20="",$E20="",$F20="",$F20>an_final,$O20=FALSE),"",IF($H20="",$G20/P20,$H20)) | N20: =IF(OR($B20="",$C20="",$D20="",$E20="",$F20="",$F20<an_initial,$F20>an_final,$O20=FALSE),"",IF($H20="",$G20/P20,$H20)) | O20: =IF(nume_candidat="",FALSE,ISNUMBER(SEARCH(nume_candidat,$B20))) -> FALSE | P20: =LEN(B20)-LEN(SUBSTITUTE(B20,",",""))+1 -> 1
A21: 12 | I21: =IF(OR($B21="",$C21="",$D21="",$E21="",$F21<an_initial,$F21>an_final,$O21=FALSE),"",IF($H21="",CS_STR_RO2*$G21/P21,CS_STR_RO2*$H21)) | J21: =IF(OR($B21="",$C21="",$D21="",$E21="",$F21="",$F21>an_final,$O21=FALSE),"",IF($H21="",CS_STR_RO2*$G21/P21,CS_STR_RO2*$H21)) | K21: =IF(OR($B21="",$C21="",$D21="",$E21="",$F21="",$F21>an_final,$O21=FALSE),"",IF($F21>=an_initial,1,"")) | L21: =IF(OR($B21="",$C21="",$D21="",$E21="",$F21="",$F21>an_final,$O21=FALSE),"",1) | M21: =IF(OR($B21="",$C21="",$D21="",$E21="",$F21="",$F21>an_final,$O21=FALSE),"",IF($H21="",$G21/P21,$H21)) | N21: =IF(OR($B21="",$C21="",$D21="",$E21="",$F21="",$F21<an_initial,$F21>an_final,$O21=FALSE),"",IF($H21="",$G21/P21,$H21)) | O21: =IF(nume_candidat="",FALSE,ISNUMBER(SEARCH(nume_candidat,$B21))) -> FALSE | P21: =LEN(B21)-LEN(SUBSTITUTE(B21,",",""))+1 -> 1
... A259: 250 | I259: =IF(OR($B259="",$C259="",$D259="",$E259="",$F259<an_initial,$F259>an_final,$O259=FALSE),"",IF($H259="",CS_STR_RO2*$G259/P259,CS_STR_RO2*$H259)) | J259: =IF(OR($B259="",$C259="",$D259="",$E259="",$F259="",$F259>an_final,$O259=FALSE),"",IF($H259="",CS_STR_RO2*$G259/P259,CS_STR_RO2*$H259)) | K259: =IF(OR($B259="",$C259="",$D259="",$E259="",$F259="",$F259>an_final,$O259=FALSE),"",IF($F259>=an_initial,1,"")) | L259: =IF(OR($B259="",$C259="",$D259="",$E259="",$F259="",$F259>an_final,$O259=FALSE),"",1) | M259: =IF(OR($B259="",$C259="",$D259="",$E259="",$F259="",$F259>an_final,$O259=FALSE),"",IF($H259="",$G259/P259,$H259)) | N259: =IF(OR($B259="",$C259="",$D259="",$E259="",$F259="",$F259<an_initial,$F259>an_final,$O259=FALSE),"",IF($H259="",$G259/P259,$H259)) | O259: =IF(nume_candidat="",FALSE,ISNUMBER(SEARCH(nume_candidat,$B259))) -> FALSE | P259: =LEN(B259)-LEN(SUBSTITUTE(B259,",",""))+1 -> 1

Sheet I.2.2e
A1: Universitatea Politehnica Timișoara
A2: =IF(ISBLANK(facultate), IF(ISBLANK(departament),"","Departament " & departament), "Facultatea " & facultate) -> Facultatea Automatică și Calculatoare
A3: =IF(ISBLANK(departament),"","Departamentul " & departament) -> Departamentul Automatică și Informatică Aplicată
A4: I. ACTIVITĂȚI DIDACTICE ȘI PROFESIONALE
A5: 2.2e Cărți de specialitate publicate în calitate de editor/coordonator la alte edituri din ţară (cu ISBN şi referenţiere ştiinţifică)
I6: =CONCATENATE(functie," ",nume_candidat) -> Conferențiar Bojan-Dragos Claudia-Adina | J6: =CONCATENATE(functie," ",nume_candidat) -> Conferențiar Bojan-Dragos Claudia-Adina
A7: Nr. crt. | B7: Autori | C7: Titlul cărții | D7: Editura | E7: ISBN | F7: Anul | G7: Număr total de pagini | H7: Număr de pagini contribuție proprie | I7: Punctaj obținut | K7: Număr de lucrări | M7: Nr. pag. red. pr. | O7: candidat găsit | P7: autori
I8: =CONCATENATE("ultimii ",durata_evaluare," ani") -> ultimii 5 ani | J8: întreaga activitate | K8: =CONCATENATE("ultimii ",durata_evaluare," ani") -> ultimii 5 ani | L8: întreaga activitate | M8: întreaga activitate | N8: =CONCATENATE("ultimii ",durata_evaluare," ani") -> ultimii 5 ani
I9: =SUMIF(I10:I1010,">0") -> 0 | J9: =SUMIF(J10:J108,">0") -> 0 | K9: =SUMIF(K10:K108,">0") -> 0 | L9: =SUMIF(L10:L108,">0") -> 0 | M9: =SUMIF(M10:M108,">0") -> 0 | N9: =SUMIF(N10:N108,">0") -> 0
A10: 1 | I10: =IF(OR($B10="",$C10="",$D10="",$E10="",$F10<an_initial,$F10>an_final,$O10=FALSE),"",IF($H10="",CS_STR_RO_ALT2*$G10/P10,CS_STR_RO_ALT2*$H10)) | J10: =IF(OR($B10="",$C10="",$D10="",$E10="",$F10="",$F10>an_final,$O10=FALSE),"",IF($H10="",CS_STR_RO_ALT2*$G10/P10,CS_STR_RO_ALT2*$H10)) | K10: =IF(OR($B10="",$C10="",$D10="",$E10="",$F10="",$F10>an_final,$O10=FALSE),"",IF($F10>=an_initial,1,"")) | L10: =IF(OR($B10="",$C10="",$D10="",$E10="",$F10="",$F10>an_final,$O10=FALSE),"",1) | M10: =IF(OR($B10="",$C10="",$D10="",$E10="",$F10="",$F10>an_final,$O10=FALSE),"",IF($H10="",$G10/P10,$H10)) | N10: =IF(OR($B10="",$C10="",$D10="",$E10="",$F10="",$F10<an_initial,$F10>an_final,$O10=FALSE),"",IF($H10="",$G10/P10,$H10)) | O10: =IF(nume_candidat="",FALSE,ISNUMBER(SEARCH(nume_candidat,$B10))) -> FALSE | P10: =LEN(B10)-LEN(SUBSTITUTE(B10,",",""))+1 -> 1
A11: 2 | I11: =IF(OR($B11="",$C11="",$D11="",$E11="",$F11<an_initial,$F11>an_final,$O11=FALSE),"",IF($H11="",CS_STR_RO_ALT2*$G11/P11,CS_STR_RO_ALT2*$H11)) | J11: =IF(OR($B11="",$C11="",$D11="",$E11="",$F11="",$F11>an_final,$O11=FALSE),"",IF($H11="",CS_STR_RO_ALT2*$G11/P11,CS_STR_RO_ALT2*$H11)) | K11: =IF(OR($B11="",$C11="",$D11="",$E11="",$F11="",$F11>an_final,$O11=FALSE),"",IF($F11>=an_initial,1,"")) | L11: =IF(OR($B11="",$C11="",$D11="",$E11="",$F11="",$F11>an_final,$O11=FALSE),"",1) | M11: =IF(OR($B11="",$C11="",$D11="",$E11="",$F11="",$F11>an_final,$O11=FALSE),"",IF($H11="",$G11/P11,$H11)) | N11: =IF(OR($B11="",$C11="",$D11="",$E11="",$F11="",$F11<an_initial,$F11>an_final,$O11=FALSE),"",IF($H11="",$G11/P11,$H11)) | O11: =IF(nume_candidat="",FALSE,ISNUMBER(SEARCH(nume_candidat,$B11))) -> FALSE | P11: =LEN(B11)-LEN(SUBSTITUTE(B11,",",""))+1 -> 1
A12: 3 | I12: =IF(OR($B12="",$C12="",$D12="",$E12="",$F12<an_initial,$F12>an_final,$O12=FALSE),"",IF($H12="",CS_STR_RO_ALT2*$G12/P12,CS_STR_RO_ALT2*$H12)) | J12: =IF(OR($B12="",$C12="",$D12="",$E12="",$F12="",$F12>an_final,$O12=FALSE),"",IF($H12="",CS_STR_RO_ALT2*$G12/P12,CS_STR_RO_ALT2*$H12)) | K12: =IF(OR($B12="",$C12="",$D12="",$E12="",$F12="",$F12>an_final,$O12=FALSE),"",IF($F12>=an_initial,1,"")) | L12: =IF(OR($B12="",$C12="",$D12="",$E12="",$F12="",$F12>an_final,$O12=FALSE),"",1) | M12: =IF(OR($B12="",$C12="",$D12="",$E12="",$F12="",$F12>an_final,$O12=FALSE),"",IF($H12="",$G12/P12,$H12)) | N12: =IF(OR($B12="",$C12="",$D12="",$E12="",$F12="",$F12<an_initial,$F12>an_final,$O12=FALSE),"",IF($H12="",$G12/P12,$H12)) | O12: =IF(nume_candidat="",FALSE,ISNUMBER(SEARCH(nume_candidat,$B12))) -> FALSE | P12: =LEN(B12)-LEN(SUBSTITUTE(B12,",",""))+1 -> 1
A13: 4 | I13: =IF(OR($B13="",$C13="",$D13="",$E13="",$F13<an_initial,$F13>an_final,$O13=FALSE),"",IF($H13="",CS_STR_RO_ALT2*$G13/P13,CS_STR_RO_ALT2*$H13)) | J13: =IF(OR($B13="",$C13="",$D13="",$E13="",$F13="",$F13>an_final,$O13=FALSE),"",IF($H13="",CS_STR_RO_ALT2*$G13/P13,CS_STR_RO_ALT2*$H13)) | K13: =IF(OR($B13="",$C13="",$D13="",$E13="",$F13="",$F13>an_final,$O13=FALSE),"",IF($F13>=an_initial,1,"")) | L13: =IF(OR($B13="",$C13="",$D13="",$E13="",$F13="",$F13>an_final,$O13=FALSE),"",1) | M13: =IF(OR($B13="",$C13="",$D13="",$E13="",$F13="",$F13>an_final,$O13=FALSE),"",IF($H13="",$G13/P13,$H13)) | N13: =IF(OR($B13="",$C13="",$D13="",$E13="",$F13="",$F13<an_initial,$F13>an_final,$O13=FALSE),"",IF($H13="",$G13/P13,$H13)) | O13: =IF(nume_candidat="",FALSE,ISNUMBER(SEARCH(nume_candidat,$B13))) -> FALSE | P13: =LEN(B13)-LEN(SUBSTITUTE(B13,",",""))+1 -> 1
A14: 5 | I14: =IF(OR($B14="",$C14="",$D14="",$E14="",$F14<an_initial,$F14>an_final,$O14=FALSE),"",IF($H14="",CS_STR_RO_ALT2*$G14/P14,CS_STR_RO_ALT2*$H14)) | J14: =IF(OR($B14="",$C14="",$D14="",$E14="",$F14="",$F14>an_final,$O14=FALSE),"",IF($H14="",CS_STR_RO_ALT2*$G14/P14,CS_STR_RO_ALT2*$H14)) | K14: =IF(OR($B14="",$C14="",$D14="",$E14="",$F14="",$F14>an_final,$O14=FALSE),"",IF($F14>=an_initial,1,"")) | L14: =IF(OR($B14="",$C14="",$D14="",$E14="",$F14="",$F14>an_final,$O14=FALSE),"",1) | M14: =IF(OR($B14="",$C14="",$D14="",$E14="",$F14="",$F14>an_final,$O14=FALSE),"",IF($H14="",$G14/P14,$H14)) | N14: =IF(OR($B14="",$C14="",$D14="",$E14="",$F14="",$F14<an_initial,$F14>an_final,$O14=FALSE),"",IF($H14="",$G14/P14,$H14)) | O14: =IF(nume_candidat="",FALSE,ISNUMBER(SEARCH(nume_candidat,$B14))) -> FALSE | P14: =LEN(B14)-LEN(SUBSTITUTE(B14,",",""))+1 -> 1
A15: 6 | I15: =IF(OR($B15="",$C15="",$D15="",$E15="",$F15<an_initial,$F15>an_final,$O15=FALSE),"",IF($H15="",CS_STR_RO_ALT2*$G15/P15,CS_STR_RO_ALT2*$H15)) | J15: =IF(OR($B15="",$C15="",$D15="",$E15="",$F15="",$F15>an_final,$O15=FALSE),"",IF($H15="",CS_STR_RO_ALT2*$G15/P15,CS_STR_RO_ALT2*$H15)) | K15: =IF(OR($B15="",$C15="",$D15="",$E15="",$F15="",$F15>an_final,$O15=FALSE),"",IF($F15>=an_initial,1,"")) | L15: =IF(OR($B15="",$C15="",$D15="",$E15="",$F15="",$F15>an_final,$O15=FALSE),"",1) | M15: =IF(OR($B15="",$C15="",$D15="",$E15="",$F15="",$F15>an_final,$O15=FALSE),"",IF($H15="",$G15/P15,$H15)) | N15: =IF(OR($B15="",$C15="",$D15="",$E15="",$F15="",$F15<an_initial,$F15>an_final,$O15=FALSE),"",IF($H15="",$G15/P15,$H15)) | O15: =IF(nume_candidat="",FALSE,ISNUMBER(SEARCH(nume_candidat,$B15))) -> FALSE | P15: =LEN(B15)-LEN(SUBSTITUTE(B15,",",""))+1 -> 1
A16: 7 | I16: =IF(OR($B16="",$C16="",$D16="",$E16="",$F16<an_initial,$F16>an_final,$O16=FALSE),"",IF($H16="",CS_STR_RO_ALT2*$G16/P16,CS_STR_RO_ALT2*$H16)) | J16: =IF(OR($B16="",$C16="",$D16="",$E16="",$F16="",$F16>an_final,$O16=FALSE),"",IF($H16="",CS_STR_RO_ALT2*$G16/P16,CS_STR_RO_ALT2*$H16)) | K16: =IF(OR($B16="",$C16="",$D16="",$E16="",$F16="",$F16>an_final,$O16=FALSE),"",IF($F16>=an_initial,1,"")) | L16: =IF(OR($B16="",$C16="",$D16="",$E16="",$F16="",$F16>an_final,$O16=FALSE),"",1) | M16: =IF(OR($B16="",$C16="",$D16="",$E16="",$F16="",$F16>an_final,$O16=FALSE),"",IF($H16="",$G16/P16,$H16)) | N16: =IF(OR($B16="",$C16="",$D16="",$E16="",$F16="",$F16<an_initial,$F16>an_final,$O16=FALSE),"",IF($H16="",$G16/P16,$H16)) | O16: =IF(nume_candidat="",FALSE,ISNUMBER(SEARCH(nume_candidat,$B16))) -> FALSE | P16: =LEN(B16)-LEN(SUBSTITUTE(B16,",",""))+1 -> 1
A17: 8 | I17: =IF(OR($B17="",$C17="",$D17="",$E17="",$F17<an_initial,$F17>an_final,$O17=FALSE),"",IF($H17="",CS_STR_RO_ALT2*$G17/P17,CS_STR_RO_ALT2*$H17)) | J17: =IF(OR($B17="",$C17="",$D17="",$E17="",$F17="",$F17>an_final,$O17=FALSE),"",IF($H17="",CS_STR_RO_ALT2*$G17/P17,CS_STR_RO_ALT2*$H17)) | K17: =IF(OR($B17="",$C17="",$D17="",$E17="",$F17="",$F17>an_final,$O17=FALSE),"",IF($F17>=an_initial,1,"")) | L17: =IF(OR($B17="",$C17="",$D17="",$E17="",$F17="",$F17>an_final,$O17=FALSE),"",1) | M17: =IF(OR($B17="",$C17="",$D17="",$E17="",$F17="",$F17>an_final,$O17=FALSE),"",IF($H17="",$G17/P17,$H17)) | N17: =IF(OR($B17="",$C17="",$D17="",$E17="",$F17="",$F17<an_initial,$F17>an_final,$O17=FALSE),"",IF($H17="",$G17/P17,$H17)) | O17: =IF(nume_candidat="",FALSE,ISNUMBER(SEARCH(nume_candidat,$B17))) -> FALSE | P17: =LEN(B17)-LEN(SUBSTITUTE(B17,",",""))+1 -> 1
A18: 9 | I18: =IF(OR($B18="",$C18="",$D18="",$E18="",$F18<an_initial,$F18>an_final,$O18=FALSE),"",IF($H18="",CS_STR_RO_ALT2*$G18/P18,CS_STR_RO_ALT2*$H18)) | J18: =IF(OR($B18="",$C18="",$D18="",$E18="",$F18="",$F18>an_final,$O18=FALSE),"",IF($H18="",CS_STR_RO_ALT2*$G18/P18,CS_STR_RO_ALT2*$H18)) | K18: =IF(OR($B18="",$C18="",$D18="",$E18="",$F18="",$F18>an_final,$O18=FALSE),"",IF($F18>=an_initial,1,"")) | L18: =IF(OR($B18="",$C18="",$D18="",$E18="",$F18="",$F18>an_final,$O18=FALSE),"",1) | M18: =IF(OR($B18="",$C18="",$D18="",$E18="",$F18="",$F18>an_final,$O18=FALSE),"",IF($H18="",$G18/P18,$H18)) | N18: =IF(OR($B18="",$C18="",$D18="",$E18="",$F18="",$F18<an_initial,$F18>an_final,$O18=FALSE),"",IF($H18="",$G18/P18,$H18)) | O18: =IF(nume_candidat="",FALSE,ISNUMBER(SEARCH(nume_candidat,$B18))) -> FALSE | P18: =LEN(B18)-LEN(SUBSTITUTE(B18,",",""))+1 -> 1
A19: 10 | I19: =IF(OR($B19="",$C19="",$D19="",$E19="",$F19<an_initial,$F19>an_final,$O19=FALSE),"",IF($H19="",CS_STR_RO_ALT2*$G19/P19,CS_STR_RO_ALT2*$H19)) | J19: =IF(OR($B19="",$C19="",$D19="",$E19="",$F19="",$F19>an_final,$O19=FALSE),"",IF($H19="",CS_STR_RO_ALT2*$G19/P19,CS_STR_RO_ALT2*$H19)) | K19: =IF(OR($B19="",$C19="",$D19="",$E19="",$F19="",$F19>an_final,$O19=FALSE),"",IF($F19>=an_initial,1,"")) | L19: =IF(OR($B19="",$C19="",$D19="",$E19="",$F19="",$F19>an_final,$O19=FALSE),"",1) | M19: =IF(OR($B19="",$C19="",$D19="",$E19="",$F19="",$F19>an_final,$O19=FALSE),"",IF($H19="",$G19/P19,$H19)) | N19: =IF(OR($B19="",$C19="",$D19="",$E19="",$F19="",$F19<an_initial,$F19>an_final,$O19=FALSE),"",IF($H19="",$G19/P19,$H19)) | O19: =IF(nume_candidat="",FALSE,ISNUMBER(SEARCH(nume_candidat,$B19))) -> FALSE | P19: =LEN(B19)-LEN(SUBSTITUTE(B19,",",""))+1 -> 1
A20: 11 | I20: =IF(OR($B20="",$C20="",$D20="",$E20="",$F20<an_initial,$F20>an_final,$O20=FALSE),"",IF($H20="",CS_STR_RO_ALT2*$G20/P20,CS_STR_RO_ALT2*$H20)) | J20: =IF(OR($B20="",$C20="",$D20="",$E20="",$F20="",$F20>an_final,$O20=FALSE),"",IF($H20="",CS_STR_RO_ALT2*$G20/P20,CS_STR_RO_ALT2*$H20)) | K20: =IF(OR($B20="",$C20="",$D20="",$E20="",$F20="",$F20>an_final,$O20=FALSE),"",IF($F20>=an_initial,1,"")) | L20: =IF(OR($B20="",$C20="",$D20="",$E20="",$F20="",$F20>an_final,$O20=FALSE),"",1) | M20: =IF(OR($B20="",$C20="",$D20="",$E20="",$F20="",$F20>an_final,$O20=FALSE),"",IF($H20="",$G20/P20,$H20)) | N20: =IF(OR($B20="",$C20="",$D20="",$E20="",$F20="",$F20<an_initial,$F20>an_final,$O20=FALSE),"",IF($H20="",$G20/P20,$H20)) | O20: =IF(nume_candidat="",FALSE,ISNUMBER(SEARCH(nume_candidat,$B20))) -> FALSE | P20: =LEN(B20)-LEN(SUBSTITUTE(B20,",",""))+1 -> 1
A21: 12 | I21: =IF(OR($B21="",$C21="",$D21="",$E21="",$F21<an_initial,$F21>an_final,$O21=FALSE),"",IF($H21="",CS_STR_RO_ALT2*$G21/P21,CS_STR_RO_ALT2*$H21)) | J21: =IF(OR($B21="",$C21="",$D21="",$E21="",$F21="",$F21>an_final,$O21=FALSE),"",IF($H21="",CS_STR_RO_ALT2*$G21/P21,CS_STR_RO_ALT2*$H21)) | K21: =IF(OR($B21="",$C21="",$D21="",$E21="",$F21="",$F21>an_final,$O21=FALSE),"",IF($F21>=an_initial,1,"")) | L21: =IF(OR($B21="",$C21="",$D21="",$E21="",$F21="",$F21>an_final,$O21=FALSE),"",1) | M21: =IF(OR($B21="",$C21="",$D21="",$E21="",$F21="",$F21>an_final,$O21=FALSE),"",IF($H21="",$G21/P21,$H21)) | N21: =IF(OR($B21="",$C21="",$D21="",$E21="",$F21="",$F21<an_initial,$F21>an_final,$O21=FALSE),"",IF($H21="",$G21/P21,$H21)) | O21: =IF(nume_candidat="",FALSE,ISNUMBER(SEARCH(nume_candidat,$B21))) -> FALSE | P21: =LEN(B21)-LEN(SUBSTITUTE(B21,",",""))+1 -> 1
... A259: 250 | I259: =IF(OR($B259="",$C259="",$D259="",$E259="",$F259<an_initial,$F259>an_final,$O259=FALSE),"",IF($H259="",CS_STR_RO_ALT2*$G259/P259,CS_STR_RO_ALT2*$H259)) | J259: =IF(OR($B259="",$C259="",$D259="",$E259="",$F259="",$F259>an_final,$O259=FALSE),"",IF($H259="",CS_STR_RO_ALT2*$G259/P259,CS_STR_RO_ALT2*$H259)) | K259: =IF(OR($B259="",$C259="",$D259="",$E259="",$F259="",$F259>an_final,$O259=FALSE),"",IF($F259>=an_initial,1,"")) | L259: =IF(OR($B259="",$C259="",$D259="",$E259="",$F259="",$F259>an_final,$O259=FALSE),"",1) | M259: =IF(OR($B259="",$C259="",$D259="",$E259="",$F259="",$F259>an_final,$O259=FALSE),"",IF($H259="",$G259/P259,$H259)) | N259: =IF(OR($B259="",$C259="",$D259="",$E259="",$F259="",$F259<an_initial,$F259>an_final,$O259=FALSE),"",IF($H259="",$G259/P259,$H259)) | O259: =IF(nume_candidat="",FALSE,ISNUMBER(SEARCH(nume_candidat,$B259))) -> FALSE | P259: =LEN(B259)-LEN(SUBSTITUTE(B259,",",""))+1 -> 1

Sheet I.2.3a
A1: Universitatea Politehnica Timișoara
A2: =IF(ISBLANK(facultate), IF(ISBLANK(departament),"","Departament " & departament), "Facultatea " & facultate) -> Facultatea Automatică și Calculatoare
A3: =IF(ISBLANK(departament),"","Departamentul " & departament) -> Departamentul Automatică și Informatică Aplicată
A4: I. ACTIVITĂȚI DIDACTICE ȘI PROFESIONALE
A5: 2.3a Culegeri de probleme, îndrumătoare de lucrări practice şi de proiectare (cu ISBN şi referenţiere ştiinţifică) pt. învăţământul superior publicate la editura POLITEHNICA
I6: =CONCATENATE(functie," ",nume_candidat) -> Conferențiar Bojan-Dragos Claudia-Adina | J6: =CONCATENATE(functie," ",nume_candidat) -> Conferențiar Bojan-Dragos Claudia-Adina
A7: Nr. crt. | B7: Autori | C7: Titlul cărții | D7: Editura | E7: ISBN | F7: Anul | G7: Număr total de pagini | H7: Număr de pagini contribuție proprie | I7: Punctaj obținut | K7: Număr de lucrări | M7: Nr. pag. red. pr. | O7: candidat găsit | P7: autori
I8: =CONCATENATE("ultimii ",durata_evaluare," ani") -> ultimii 5 ani | J8: întreaga activitate | K8: =CONCATENATE("ultimii ",durata_evaluare," ani") -> ultimii 5 ani | L8: întreaga activitate | M8: întreaga activitate | N8: =CONCATENATE("ultimii ",durata_evaluare," ani") -> ultimii 5 ani
I9: =SUMIF(I10:I1010,">0") -> 0 | J9: =SUMIF(J10:J108,">0") -> 0 | K9: =SUMIF(K10:K108,">0") -> 0 | L9: =SUMIF(L10:L108,">0") -> 0 | M9: =SUMIF(M10:M108,">0") -> 0 | N9: =SUMIF(N10:N108,">0") -> 0
A10: 1 | I10: =IF(OR($B10="",$C10="",$D10="",$E10="",$F10<an_initial,$F10>an_final,$O10=FALSE),"",IF($H10="",CS23a*$G10/P10,CS23a*$H10)) | J10: =IF(OR($B10="",$C10="",$D10="",$E10="",$F10="",$F10>an_final,$O10=FALSE),"",IF($H10="",CS_STR_A*$G10/P10,CS_STR_A*$H10)) | K10: =IF(OR($B10="",$C10="",$D10="",$E10="",$F10="",$F10>an_final,$O10=FALSE),"",IF($F10>=an_initial,1,"")) | L10: =IF(OR($B10="",$C10="",$D10="",$E10="",$F10="",$F10>an_final,$O10=FALSE),"",1) | M10: =IF(OR($B10="",$C10="",$D10="",$E10="",$F10="",$F10>an_final,$O10=FALSE),"",IF($H10="",$G10/P10,$H10)) | N10: =IF(OR($B10="",$C10="",$D10="",$E10="",$F10="",$F10<an_initial,$F10>an_final,$O10=FALSE),"",IF($H10="",$G10/P10,$H10)) | O10: =IF(nume_candidat="",FALSE,ISNUMBER(SEARCH(nume_candidat,$B10))) -> FALSE | P10: =LEN(B10)-LEN(SUBSTITUTE(B10,",",""))+1 -> 1
A11: 2 | I11: =IF(OR($B11="",$C11="",$D11="",$E11="",$F11<an_initial,$F11>an_final,$O11=FALSE),"",IF($H11="",CS23a*$G11/P11,CS23a*$H11)) | J11: =IF(OR($B11="",$C11="",$D11="",$E11="",$F11="",$F11>an_final,$O11=FALSE),"",IF($H11="",CS_STR_A*$G11/P11,CS_STR_A*$H11)) | K11: =IF(OR($B11="",$C11="",$D11="",$E11="",$F11="",$F11>an_final,$O11=FALSE),"",IF($F11>=an_initial,1,"")) | L11: =IF(OR($B11="",$C11="",$D11="",$E11="",$F11="",$F11>an_final,$O11=FALSE),"",1) | M11: =IF(OR($B11="",$C11="",$D11="",$E11="",$F11="",$F11>an_final,$O11=FALSE),"",IF($H11="",$G11/P11,$H11)) | N11: =IF(OR($B11="",$C11="",$D11="",$E11="",$F11="",$F11<an_initial,$F11>an_final,$O11=FALSE),"",IF($H11="",$G11/P11,$H11)) | O11: =IF(nume_candidat="",FALSE,ISNUMBER(SEARCH(nume_candidat,$B11))) -> FALSE | P11: =LEN(B11)-LEN(SUBSTITUTE(B11,",",""))+1 -> 1
A12: 3 | I12: =IF(OR($B12="",$C12="",$D12="",$E12="",$F12<an_initial,$F12>an_final,$O12=FALSE),"",IF($H12="",CS23a*$G12/P12,CS23a*$H12)) | J12: =IF(OR($B12="",$C12="",$D12="",$E12="",$F12="",$F12>an_final,$O12=FALSE),"",IF($H12="",CS_STR_A*$G12/P12,CS_STR_A*$H12)) | K12: =IF(OR($B12="",$C12="",$D12="",$E12="",$F12="",$F12>an_final,$O12=FALSE),"",IF($F12>=an_initial,1,"")) | L12: =IF(OR($B12="",$C12="",$D12="",$E12="",$F12="",$F12>an_final,$O12=FALSE),"",1) | M12: =IF(OR($B12="",$C12="",$D12="",$E12="",$F12="",$F12>an_final,$O12=FALSE),"",IF($H12="",$G12/P12,$H12)) | N12: =IF(OR($B12="",$C12="",$D12="",$E12="",$F12="",$F12<an_initial,$F12>an_final,$O12=FALSE),"",IF($H12="",$G12/P12,$H12)) | O12: =IF(nume_candidat="",FALSE,ISNUMBER(SEARCH(nume_candidat,$B12))) -> FALSE | P12: =LEN(B12)-LEN(SUBSTITUTE(B12,",",""))+1 -> 1
A13: 4 | I13: =IF(OR($B13="",$C13="",$D13="",$E13="",$F13<an_initial,$F13>an_final,$O13=FALSE),"",IF($H13="",CS23a*$G13/P13,CS23a*$H13)) | J13: =IF(OR($B13="",$C13="",$D13="",$E13="",$F13="",$F13>an_final,$O13=FALSE),"",IF($H13="",CS_STR_A*$G13/P13,CS_STR_A*$H13)) | K13: =IF(OR($B13="",$C13="",$D13="",$E13="",$F13="",$F13>an_final,$O13=FALSE),"",IF($F13>=an_initial,1,"")) | L13: =IF(OR($B13="",$C13="",$D13="",$E13="",$F13="",$F13>an_final,$O13=FALSE),"",1) | M13: =IF(OR($B13="",$C13="",$D13="",$E13="",$F13="",$F13>an_final,$O13=FALSE),"",IF($H13="",$G13/P13,$H13)) | N13: =IF(OR($B13="",$C13="",$D13="",$E13="",$F13="",$F13<an_initial,$F13>an_final,$O13=FALSE),"",IF($H13="",$G13/P13,$H13)) | O13: =IF(nume_candidat="",FALSE,ISNUMBER(SEARCH(nume_candidat,$B13))) -> FALSE | P13: =LEN(B13)-LEN(SUBSTITUTE(B13,",",""))+1 -> 1
A14: 5 | I14: =IF(OR($B14="",$C14="",$D14="",$E14="",$F14<an_initial,$F14>an_final,$O14=FALSE),"",IF($H14="",CS23a*$G14/P14,CS23a*$H14)) | J14: =IF(OR($B14="",$C14="",$D14="",$E14="",$F14="",$F14>an_final,$O14=FALSE),"",IF($H14="",CS_STR_A*$G14/P14,CS_STR_A*$H14)) | K14: =IF(OR($B14="",$C14="",$D14="",$E14="",$F14="",$F14>an_final,$O14=FALSE),"",IF($F14>=an_initial,1,"")) | L14: =IF(OR($B14="",$C14="",$D14="",$E14="",$F14="",$F14>an_final,$O14=FALSE),"",1) | M14: =IF(OR($B14="",$C14="",$D14="",$E14="",$F14="",$F14>an_final,$O14=FALSE),"",IF($H14="",$G14/P14,$H14)) | N14: =IF(OR($B14="",$C14="",$D14="",$E14="",$F14="",$F14<an_initial,$F14>an_final,$O14=FALSE),"",IF($H14="",$G14/P14,$H14)) | O14: =IF(nume_candidat="",FALSE,ISNUMBER(SEARCH(nume_candidat,$B14))) -> FALSE | P14: =LEN(B14)-LEN(SUBSTITUTE(B14,",",""))+1 -> 1
A15: 6 | I15: =IF(OR($B15="",$C15="",$D15="",$E15="",$F15<an_initial,$F15>an_final,$O15=FALSE),"",IF($H15="",CS23a*$G15/P15,CS23a*$H15)) | J15: =IF(OR($B15="",$C15="",$D15="",$E15="",$F15="",$F15>an_final,$O15=FALSE),"",IF($H15="",CS_STR_A*$G15/P15,CS_STR_A*$H15)) | K15: =IF(OR($B15="",$C15="",$D15="",$E15="",$F15="",$F15>an_final,$O15=FALSE),"",IF($F15>=an_initial,1,"")) | L15: =IF(OR($B15="",$C15="",$D15="",$E15="",$F15="",$F15>an_final,$O15=FALSE),"",1) | M15: =IF(OR($B15="",$C15="",$D15="",$E15="",$F15="",$F15>an_final,$O15=FALSE),"",IF($H15="",$G15/P15,$H15)) | N15: =IF(OR($B15="",$C15="",$D15="",$E15="",$F15="",$F15<an_initial,$F15>an_final,$O15=FALSE),"",IF($H15="",$G15/P15,$H15)) | O15: =IF(nume_candidat="",FALSE,ISNUMBER(SEARCH(nume_candidat,$B15))) -> FALSE | P15: =LEN(B15)-LEN(SUBSTITUTE(B15,",",""))+1 -> 1
A16: 7 | I16: =IF(OR($B16="",$C16="",$D16="",$E16="",$F16<an_initial,$F16>an_final,$O16=FALSE),"",IF($H16="",CS23a*$G16/P16,CS23a*$H16)) | J16: =IF(OR($B16="",$C16="",$D16="",$E16="",$F16="",$F16>an_final,$O16=FALSE),"",IF($H16="",CS_STR_A*$G16/P16,CS_STR_A*$H16)) | K16: =IF(OR($B16="",$C16="",$D16="",$E16="",$F16="",$F16>an_final,$O16=FALSE),"",IF($F16>=an_initial,1,"")) | L16: =IF(OR($B16="",$C16="",$D16="",$E16="",$F16="",$F16>an_final,$O16=FALSE),"",1) | M16: =IF(OR($B16="",$C16="",$D16="",$E16="",$F16="",$F16>an_final,$O16=FALSE),"",IF($H16="",$G16/P16,$H16)) | N16: =IF(OR($B16="",$C16="",$D16="",$E16="",$F16="",$F16<an_initial,$F16>an_final,$O16=FALSE),"",IF($H16="",$G16/P16,$H16)) | O16: =IF(nume_candidat="",FALSE,ISNUMBER(SEARCH(nume_candidat,$B16))) -> FALSE | P16: =LEN(B16)-LEN(SUBSTITUTE(B16,",",""))+1 -> 1
A17: 8 | I17: =IF(OR($B17="",$C17="",$D17="",$E17="",$F17<an_initial,$F17>an_final,$O17=FALSE),"",IF($H17="",CS23a*$G17/P17,CS23a*$H17)) | J17: =IF(OR($B17="",$C17="",$D17="",$E17="",$F17="",$F17>an_final,$O17=FALSE),"",IF($H17="",CS_STR_A*$G17/P17,CS_STR_A*$H17)) | K17: =IF(OR($B17="",$C17="",$D17="",$E17="",$F17="",$F17>an_final,$O17=FALSE),"",IF($F17>=an_initial,1,"")) | L17: =IF(OR($B17="",$C17="",$D17="",$E17="",$F17="",$F17>an_final,$O17=FALSE),"",1) | M17: =IF(OR($B17="",$C17="",$D17="",$E17="",$F17="",$F17>an_final,$O17=FALSE),"",IF($H17="",$G17/P17,$H17)) | N17: =IF(OR($B17="",$C17="",$D17="",$E17="",$F17="",$F17<an_initial,$F17>an_final,$O17=FALSE),"",IF($H17="",$G17/P17,$H17)) | O17: =IF(nume_candidat="",FALSE,ISNUMBER(SEARCH(nume_candidat,$B17))) -> FALSE | P17: =LEN(B17)-LEN(SUBSTITUTE(B17,",",""))+1 -> 1
A18: 9 | I18: =IF(OR($B18="",$C18="",$D18="",$E18="",$F18<an_initial,$F18>an_final,$O18=FALSE),"",IF($H18="",CS23a*$G18/P18,CS23a*$H18)) | J18: =IF(OR($B18="",$C18="",$D18="",$E18="",$F18="",$F18>an_final,$O18=FALSE),"",IF($H18="",CS_STR_A*$G18/P18,CS_STR_A*$H18)) | K18: =IF(OR($B18="",$C18="",$D18="",$E18="",$F18="",$F18>an_final,$O18=FALSE),"",IF($F18>=an_initial,1,"")) | L18: =IF(OR($B18="",$C18="",$D18="",$E18="",$F18="",$F18>an_final,$O18=FALSE),"",1) | M18: =IF(OR($B18="",$C18="",$D18="",$E18="",$F18="",$F18>an_final,$O18=FALSE),"",IF($H18="",$G18/P18,$H18)) | N18: =IF(OR($B18="",$C18="",$D18="",$E18="",$F18="",$F18<an_initial,$F18>an_final,$O18=FALSE),"",IF($H18="",$G18/P18,$H18)) | O18: =IF(nume_candidat="",FALSE,ISNUMBER(SEARCH(nume_candidat,$B18))) -> FALSE | P18: =LEN(B18)-LEN(SUBSTITUTE(B18,",",""))+1 -> 1
A19: 10 | I19: =IF(OR($B19="",$C19="",$D19="",$E19="",$F19<an_initial,$F19>an_final,$O19=FALSE),"",IF($H19="",CS23a*$G19/P19,CS23a*$H19)) | J19: =IF(OR($B19="",$C19="",$D19="",$E19="",$F19="",$F19>an_final,$O19=FALSE),"",IF($H19="",CS_STR_A*$G19/P19,CS_STR_A*$H19)) | K19: =IF(OR($B19="",$C19="",$D19="",$E19="",$F19="",$F19>an_final,$O19=FALSE),"",IF($F19>=an_initial,1,"")) | L19: =IF(OR($B19="",$C19="",$D19="",$E19="",$F19="",$F19>an_final,$O19=FALSE),"",1) | M19: =IF(OR($B19="",$C19="",$D19="",$E19="",$F19="",$F19>an_final,$O19=FALSE),"",IF($H19="",$G19/P19,$H19)) | N19: =IF(OR($B19="",$C19="",$D19="",$E19="",$F19="",$F19<an_initial,$F19>an_final,$O19=FALSE),"",IF($H19="",$G19/P19,$H19)) | O19: =IF(nume_candidat="",FALSE,ISNUMBER(SEARCH(nume_candidat,$B19))) -> FALSE | P19: =LEN(B19)-LEN(SUBSTITUTE(B19,",",""))+1 -> 1
A20: 11 | I20: =IF(OR($B20="",$C20="",$D20="",$E20="",$F20<an_initial,$F20>an_final,$O20=FALSE),"",IF($H20="",CS23a*$G20/P20,CS23a*$H20)) | J20: =IF(OR($B20="",$C20="",$D20="",$E20="",$F20="",$F20>an_final,$O20=FALSE),"",IF($H20="",CS_STR_A*$G20/P20,CS_STR_A*$H20)) | K20: =IF(OR($B20="",$C20="",$D20="",$E20="",$F20="",$F20>an_final,$O20=FALSE),"",IF($F20>=an_initial,1,"")) | L20: =IF(OR($B20="",$C20="",$D20="",$E20="",$F20="",$F20>an_final,$O20=FALSE),"",1) | M20: =IF(OR($B20="",$C20="",$D20="",$E20="",$F20="",$F20>an_final,$O20=FALSE),"",IF($H20="",$G20/P20,$H20)) | N20: =IF(OR($B20="",$C20="",$D20="",$E20="",$F20="",$F20<an_initial,$F20>an_final,$O20=FALSE),"",IF($H20="",$G20/P20,$H20)) | O20: =IF(nume_candidat="",FALSE,ISNUMBER(SEARCH(nume_candidat,$B20))) -> FALSE | P20: =LEN(B20)-LEN(SUBSTITUTE(B20,",",""))+1 -> 1
A21: 12 | I21: =IF(OR($B21="",$C21="",$D21="",$E21="",$F21<an_initial,$F21>an_final,$O21=FALSE),"",IF($H21="",CS23a*$G21/P21,CS23a*$H21)) | J21: =IF(OR($B21="",$C21="",$D21="",$E21="",$F21="",$F21>an_final,$O21=FALSE),"",IF($H21="",CS_STR_A*$G21/P21,CS_STR_A*$H21)) | K21: =IF(OR($B21="",$C21="",$D21="",$E21="",$F21="",$F21>an_final,$O21=FALSE),"",IF($F21>=an_initial,1,"")) | L21: =IF(OR($B21="",$C21="",$D21="",$E21="",$F21="",$F21>an_final,$O21=FALSE),"",1) | M21: =IF(OR($B21="",$C21="",$D21="",$E21="",$F21="",$F21>an_final,$O21=FALSE),"",IF($H21="",$G21/P21,$H21)) | N21: =IF(OR($B21="",$C21="",$D21="",$E21="",$F21="",$F21<an_initial,$F21>an_final,$O21=FALSE),"",IF($H21="",$G21/P21,$H21)) | O21: =IF(nume_candidat="",FALSE,ISNUMBER(SEARCH(nume_candidat,$B21))) -> FALSE | P21: =LEN(B21)-LEN(SUBSTITUTE(B21,",",""))+1 -> 1
... A259: 250 | I259: =IF(OR($B259="",$C259="",$D259="",$E259="",$F259<an_initial,$F259>an_final,$O259=FALSE),"",IF($H259="",CS23a*$G259/P259,CS23a*$H259)) | J259: =IF(OR($B259="",$C259="",$D259="",$E259="",$F259="",$F259>an_final,$O259=FALSE),"",IF($H259="",CS_STR_A*$G259/P259,CS_STR_A*$H259)) | K259: =IF(OR($B259="",$C259="",$D259="",$E259="",$F259="",$F259>an_final,$O259=FALSE),"",IF($F259>=an_initial,1,"")) | L259: =IF(OR($B259="",$C259="",$D259="",$E259="",$F259="",$F259>an_final,$O259=FALSE),"",1) | M259: =IF(OR($B259="",$C259="",$D259="",$E259="",$F259="",$F259>an_final,$O259=FALSE),"",IF($H259="",$G259/P259,$H259)) | N259: =IF(OR($B259="",$C259="",$D259="",$E259="",$F259="",$F259<an_initial,$F259>an_final,$O259=FALSE),"",IF($H259="",$G259/P259,$H259)) | O259: =IF(nume_candidat="",FALSE,ISNUMBER(SEARCH(nume_candidat,$B259))) -> FALSE | P259: =LEN(B259)-LEN(SUBSTITUTE(B259,",",""))+1 -> 1

Sheet I.2.3b
A1: Universitatea Politehnica Timișoara
A2: =IF(ISBLANK(facultate), IF(ISBLANK(departament),"","Departament " & departament), "Facultatea " & facultate) -> Facultatea Automatică și Calculatoare
A3: =IF(ISBLANK(departament),"","Departamentul " & departament) -> Departamentul Automatică și Informatică Aplicată
A4: I. ACTIVITĂȚI DIDACTICE ȘI PROFESIONALE
A5: 2.3b Culegeri de probleme, îndrumătoare de lucrări practice și de proiectare (cu ISBN și referențiere științifică) pt. învățământul superior publicate la alte edituri din țară
I6: =CONCATENATE(functie," ",nume_candidat) -> Conferențiar Bojan-Dragos Claudia-Adina | J6: =CONCATENATE(functie," ",nume_candidat) -> Conferențiar Bojan-Dragos Claudia-Adina
A7: Nr. crt. | B7: Autori | C7: Titlul cărții | D7: Editura | E7: ISBN | F7: Anul | G7: Număr total de pagini | H7: Număr de pagini contribuție proprie | I7: Punctaj obținut | K7: Număr de lucrări | M7: Nr. pag. red. pr. | O7: candidat găsit | P7: autori
I8: =CONCATENATE("ultimii ",durata_evaluare," ani") -> ultimii 5 ani | J8: întreaga activitate | K8: =CONCATENATE("ultimii ",durata_evaluare," ani") -> ultimii 5 ani | L8: întreaga activitate | M8: întreaga activitate | N8: =CONCATENATE("ultimii ",durata_evaluare," ani") -> ultimii 5 ani
I9: =SUMIF(I10:I1010,">0") -> 0 | J9: =SUMIF(J10:J108,">0") -> 0 | K9: =SUMIF(K10:K108,">0") -> 0 | L9: =SUMIF(L10:L108,">0") -> 0 | M9: =SUMIF(M10:M108,">0") -> 0 | N9: =SUMIF(N10:N108,">0") -> 0
A10: 1 | I10: =IF(OR($B10="",$C10="",$D10="",$E10="",$F10<an_initial,$F10>an_final,$O10=FALSE),"",IF($H10="",CS23b*$G10/P10,CS23b*$H10)) | J10: =IF(OR($B10="",$C10="",$D10="",$E10="",$F10="",$F10>an_final,$O10=FALSE),"",IF($H10="",CS_STR_A*$G10/P10,CS_STR_A*$H10)) | K10: =IF(OR($B10="",$C10="",$D10="",$E10="",$F10="",$F10>an_final,$O10=FALSE),"",IF($F10>=an_initial,1,"")) | L10: =IF(OR($B10="",$C10="",$D10="",$E10="",$F10="",$F10>an_final,$O10=FALSE),"",1) | M10: =IF(OR($B10="",$C10="",$D10="",$E10="",$F10="",$F10>an_final,$O10=FALSE),"",IF($H10="",$G10/P10,$H10)) | N10: =IF(OR($B10="",$C10="",$D10="",$E10="",$F10="",$F10<an_initial,$F10>an_final,$O10=FALSE),"",IF($H10="",$G10/P10,$H10)) | O10: =IF(nume_candidat="",FALSE,ISNUMBER(SEARCH(nume_candidat,$B10))) -> FALSE | P10: =LEN(B10)-LEN(SUBSTITUTE(B10,",",""))+1 -> 1
A11: 2 | I11: =IF(OR($B11="",$C11="",$D11="",$E11="",$F11<an_initial,$F11>an_final,$O11=FALSE),"",IF($H11="",CS23b*$G11/P11,CS23b*$H11)) | J11: =IF(OR($B11="",$C11="",$D11="",$E11="",$F11="",$F11>an_final,$O11=FALSE),"",IF($H11="",CS_STR_A*$G11/P11,CS_STR_A*$H11)) | K11: =IF(OR($B11="",$C11="",$D11="",$E11="",$F11="",$F11>an_final,$O11=FALSE),"",IF($F11>=an_initial,1,"")) | L11: =IF(OR($B11="",$C11="",$D11="",$E11="",$F11="",$F11>an_final,$O11=FALSE),"",1) | M11: =IF(OR($B11="",$C11="",$D11="",$E11="",$F11="",$F11>an_final,$O11=FALSE),"",IF($H11="",$G11/P11,$H11)) | N11: =IF(OR($B11="",$C11="",$D11="",$E11="",$F11="",$F11<an_initial,$F11>an_final,$O11=FALSE),"",IF($H11="",$G11/P11,$H11)) | O11: =IF(nume_candidat="",FALSE,ISNUMBER(SEARCH(nume_candidat,$B11))) -> FALSE | P11: =LEN(B11)-LEN(SUBSTITUTE(B11,",",""))+1 -> 1
A12: 3 | I12: =IF(OR($B12="",$C12="",$D12="",$E12="",$F12<an_initial,$F12>an_final,$O12=FALSE),"",IF($H12="",CS23b*$G12/P12,CS23b*$H12)) | J12: =IF(OR($B12="",$C12="",$D12="",$E12="",$F12="",$F12>an_final,$O12=FALSE),"",IF($H12="",CS_STR_A*$G12/P12,CS_STR_A*$H12)) | K12: =IF(OR($B12="",$C12="",$D12="",$E12="",$F12="",$F12>an_final,$O12=FALSE),"",IF($F12>=an_initial,1,"")) | L12: =IF(OR($B12="",$C12="",$D12="",$E12="",$F12="",$F12>an_final,$O12=FALSE),"",1) | M12: =IF(OR($B12="",$C12="",$D12="",$E12="",$F12="",$F12>an_final,$O12=FALSE),"",IF($H12="",$G12/P12,$H12)) | N12: =IF(OR($B12="",$C12="",$D12="",$E12="",$F12="",$F12<an_initial,$F12>an_final,$O12=FALSE),"",IF($H12="",$G12/P12,$H12)) | O12: =IF(nume_candidat="",FALSE,ISNUMBER(SEARCH(nume_candidat,$B12))) -> FALSE | P12: =LEN(B12)-LEN(SUBSTITUTE(B12,",",""))+1 -> 1
A13: 4 | I13: =IF(OR($B13="",$C13="",$D13="",$E13="",$F13<an_initial,$F13>an_final,$O13=FALSE),"",IF($H13="",CS23b*$G13/P13,CS23b*$H13)) | J13: =IF(OR($B13="",$C13="",$D13="",$E13="",$F13="",$F13>an_final,$O13=FALSE),"",IF($H13="",CS_STR_A*$G13/P13,CS_STR_A*$H13)) | K13: =IF(OR($B13="",$C13="",$D13="",$E13="",$F13="",$F13>an_final,$O13=FALSE),"",IF($F13>=an_initial,1,"")) | L13: =IF(OR($B13="",$C13="",$D13="",$E13="",$F13="",$F13>an_final,$O13=FALSE),"",1) | M13: =IF(OR($B13="",$C13="",$D13="",$E13="",$F13="",$F13>an_final,$O13=FALSE),"",IF($H13="",$G13/P13,$H13)) | N13: =IF(OR($B13="",$C13="",$D13="",$E13="",$F13="",$F13<an_initial,$F13>an_final,$O13=FALSE),"",IF($H13="",$G13/P13,$H13)) | O13: =IF(nume_candidat="",FALSE,ISNUMBER(SEARCH(nume_candidat,$B13))) -> FALSE | P13: =LEN(B13)-LEN(SUBSTITUTE(B13,",",""))+1 -> 1
A14: 5 | I14: =IF(OR($B14="",$C14="",$D14="",$E14="",$F14<an_initial,$F14>an_final,$O14=FALSE),"",IF($H14="",CS23b*$G14/P14,CS23b*$H14)) | J14: =IF(OR($B14="",$C14="",$D14="",$E14="",$F14="",$F14>an_final,$O14=FALSE),"",IF($H14="",CS_STR_A*$G14/P14,CS_STR_A*$H14)) | K14: =IF(OR($B14="",$C14="",$D14="",$E14="",$F14="",$F14>an_final,$O14=FALSE),"",IF($F14>=an_initial,1,"")) | L14: =IF(OR($B14="",$C14="",$D14="",$E14="",$F14="",$F14>an_final,$O14=FALSE),"",1) | M14: =IF(OR($B14="",$C14="",$D14="",$E14="",$F14="",$F14>an_final,$O14=FALSE),"",IF($H14="",$G14/P14,$H14)) | N14: =IF(OR($B14="",$C14="",$D14="",$E14="",$F14="",$F14<an_initial,$F14>an_final,$O14=FALSE),"",IF($H14="",$G14/P14,$H14)) | O14: =IF(nume_candidat="",FALSE,ISNUMBER(SEARCH(nume_candidat,$B14))) -> FALSE | P14: =LEN(B14)-LEN(SUBSTITUTE(B14,",",""))+1 -> 1
A15: 6 | I15: =IF(OR($B15="",$C15="",$D15="",$E15="",$F15<an_initial,$F15>an_final,$O15=FALSE),"",IF($H15="",CS23b*$G15/P15,CS23b*$H15)) | J15: =IF(OR($B15="",$C15="",$D15="",$E15="",$F15="",$F15>an_final,$O15=FALSE),"",IF($H15="",CS_STR_A*$G15/P15,CS_STR_A*$H15)) | K15: =IF(OR($B15="",$C15="",$D15="",$E15="",$F15="",$F15>an_final,$O15=FALSE),"",IF($F15>=an_initial,1,"")) | L15: =IF(OR($B15="",$C15="",$D15="",$E15="",$F15="",$F15>an_final,$O15=FALSE),"",1) | M15: =IF(OR($B15="",$C15="",$D15="",$E15="",$F15="",$F15>an_final,$O15=FALSE),"",IF($H15="",$G15/P15,$H15)) | N15: =IF(OR($B15="",$C15="",$D15="",$E15="",$F15="",$F15<an_initial,$F15>an_final,$O15=FALSE),"",IF($H15="",$G15/P15,$H15)) | O15: =IF(nume_candidat="",FALSE,ISNUMBER(SEARCH(nume_candidat,$B15))) -> FALSE | P15: =LEN(B15)-LEN(SUBSTITUTE(B15,",",""))+1 -> 1
A16: 7 | I16: =IF(OR($B16="",$C16="",$D16="",$E16="",$F16<an_initial,$F16>an_final,$O16=FALSE),"",IF($H16="",CS23b*$G16/P16,CS23b*$H16)) | J16: =IF(OR($B16="",$C16="",$D16="",$E16="",$F16="",$F16>an_final,$O16=FALSE),"",IF($H16="",CS_STR_A*$G16/P16,CS_STR_A*$H16)) | K16: =IF(OR($B16="",$C16="",$D16="",$E16="",$F16="",$F16>an_final,$O16=FALSE),"",IF($F16>=an_initial,1,"")) | L16: =IF(OR($B16="",$C16="",$D16="",$E16="",$F16="",$F16>an_final,$O16=FALSE),"",1) | M16: =IF(OR($B16="",$C16="",$D16="",$E16="",$F16="",$F16>an_final,$O16=FALSE),"",IF($H16="",$G16/P16,$H16)) | N16: =IF(OR($B16="",$C16="",$D16="",$E16="",$F16="",$F16<an_initial,$F16>an_final,$O16=FALSE),"",IF($H16="",$G16/P16,$H16)) | O16: =IF(nume_candidat="",FALSE,ISNUMBER(SEARCH(nume_candidat,$B16))) -> FALSE | P16: =LEN(B16)-LEN(SUBSTITUTE(B16,",",""))+1 -> 1
A17: 8 | I17: =IF(OR($B17="",$C17="",$D17="",$E17="",$F17<an_initial,$F17>an_final,$O17=FALSE),"",IF($H17="",CS23b*$G17/P17,CS23b*$H17)) | J17: =IF(OR($B17="",$C17="",$D17="",$E17="",$F17="",$F17>an_final,$O17=FALSE),"",IF($H17="",CS_STR_A*$G17/P17,CS_STR_A*$H17)) | K17: =IF(OR($B17="",$C17="",$D17="",$E17="",$F17="",$F17>an_final,$O17=FALSE),"",IF($F17>=an_initial,1,"")) | L17: =IF(OR($B17="",$C17="",$D17="",$E17="",$F17="",$F17>an_final,$O17=FALSE),"",1) | M17: =IF(OR($B17="",$C17="",$D17="",$E17="",$F17="",$F17>an_final,$O17=FALSE),"",IF($H17="",$G17/P17,$H17)) | N17: =IF(OR($B17="",$C17="",$D17="",$E17="",$F17="",$F17<an_initial,$F17>an_final,$O17=FALSE),"",IF($H17="",$G17/P17,$H17)) | O17: =IF(nume_candidat="",FALSE,ISNUMBER(SEARCH(nume_candidat,$B17))) -> FALSE | P17: =LEN(B17)-LEN(SUBSTITUTE(B17,",",""))+1 -> 1
A18: 9 | I18: =IF(OR($B18="",$C18="",$D18="",$E18="",$F18<an_initial,$F18>an_final,$O18=FALSE),"",IF($H18="",CS23b*$G18/P18,CS23b*$H18)) | J18: =IF(OR($B18="",$C18="",$D18="",$E18="",$F18="",$F18>an_final,$O18=FALSE),"",IF($H18="",CS_STR_A*$G18/P18,CS_STR_A*$H18)) | K18: =IF(OR($B18="",$C18="",$D18="",$E18="",$F18="",$F18>an_final,$O18=FALSE),"",IF($F18>=an_initial,1,"")) | L18: =IF(OR($B18="",$C18="",$D18="",$E18="",$F18="",$F18>an_final,$O18=FALSE),"",1) | M18: =IF(OR($B18="",$C18="",$D18="",$E18="",$F18="",$F18>an_final,$O18=FALSE),"",IF($H18="",$G18/P18,$H18)) | N18: =IF(OR($B18="",$C18="",$D18="",$E18="",$F18="",$F18<an_initial,$F18>an_final,$O18=FALSE),"",IF($H18="",$G18/P18,$H18)) | O18: =IF(nume_candidat="",FALSE,ISNUMBER(SEARCH(nume_candidat,$B18))) -> FALSE | P18: =LEN(B18)-LEN(SUBSTITUTE(B18,",",""))+1 -> 1
A19: 10 | I19: =IF(OR($B19="",$C19="",$D19="",$E19="",$F19<an_initial,$F19>an_final,$O19=FALSE),"",IF($H19="",CS23b*$G19/P19,CS23b*$H19)) | J19: =IF(OR($B19="",$C19="",$D19="",$E19="",$F19="",$F19>an_final,$O19=FALSE),"",IF($H19="",CS_STR_A*$G19/P19,CS_STR_A*$H19)) | K19: =IF(OR($B19="",$C19="",$D19="",$E19="",$F19="",$F19>an_final,$O19=FALSE),"",IF($F19>=an_initial,1,"")) | L19: =IF(OR($B19="",$C19="",$D19="",$E19="",$F19="",$F19>an_final,$O19=FALSE),"",1) | M19: =IF(OR($B19="",$C19="",$D19="",$E19="",$F19="",$F19>an_final,$O19=FALSE),"",IF($H19="",$G19/P19,$H19)) | N19: =IF(OR($B19="",$C19="",$D19="",$E19="",$F19="",$F19<an_initial,$F19>an_final,$O19=FALSE),"",IF($H19="",$G19/P19,$H19)) | O19: =IF(nume_candidat="",FALSE,ISNUMBER(SEARCH(nume_candidat,$B19))) -> FALSE | P19: =LEN(B19)-LEN(SUBSTITUTE(B19,",",""))+1 -> 1
A20: 11 | I20: =IF(OR($B20="",$C20="",$D20="",$E20="",$F20<an_initial,$F20>an_final,$O20=FALSE),"",IF($H20="",CS23b*$G20/P20,CS23b*$H20)) | J20: =IF(OR($B20="",$C20="",$D20="",$E20="",$F20="",$F20>an_final,$O20=FALSE),"",IF($H20="",CS_STR_A*$G20/P20,CS_STR_A*$H20)) | K20: =IF(OR($B20="",$C20="",$D20="",$E20="",$F20="",$F20>an_final,$O20=FALSE),"",IF($F20>=an_initial,1,"")) | L20: =IF(OR($B20="",$C20="",$D20="",$E20="",$F20="",$F20>an_final,$O20=FALSE),"",1) | M20: =IF(OR($B20="",$C20="",$D20="",$E20="",$F20="",$F20>an_final,$O20=FALSE),"",IF($H20="",$G20/P20,$H20)) | N20: =IF(OR($B20="",$C20="",$D20="",$E20="",$F20="",$F20<an_initial,$F20>an_final,$O20=FALSE),"",IF($H20="",$G20/P20,$H20)) | O20: =IF(nume_candidat="",FALSE,ISNUMBER(SEARCH(nume_candidat,$B20))) -> FALSE | P20: =LEN(B20)-LEN(SUBSTITUTE(B20,",",""))+1 -> 1
A21: 12 | I21: =IF(OR($B21="",$C21="",$D21="",$E21="",$F21<an_initial,$F21>an_final,$O21=FALSE),"",IF($H21="",CS23b*$G21/P21,CS23b*$H21)) | J21: =IF(OR($B21="",$C21="",$D21="",$E21="",$F21="",$F21>an_final,$O21=FALSE),"",IF($H21="",CS_STR_A*$G21/P21,CS_STR_A*$H21)) | K21: =IF(OR($B21="",$C21="",$D21="",$E21="",$F21="",$F21>an_final,$O21=FALSE),"",IF($F21>=an_initial,1,"")) | L21: =IF(OR($B21="",$C21="",$D21="",$E21="",$F21="",$F21>an_final,$O21=FALSE),"",1) | M21: =IF(OR($B21="",$C21="",$D21="",$E21="",$F21="",$F21>an_final,$O21=FALSE),"",IF($H21="",$G21/P21,$H21)) | N21: =IF(OR($B21="",$C21="",$D21="",$E21="",$F21="",$F21<an_initial,$F21>an_final,$O21=FALSE),"",IF($H21="",$G21/P21,$H21)) | O21: =IF(nume_candidat="",FALSE,ISNUMBER(SEARCH(nume_candidat,$B21))) -> FALSE | P21: =LEN(B21)-LEN(SUBSTITUTE(B21,",",""))+1 -> 1
... A259: 250 | I259: =IF(OR($B259="",$C259="",$D259="",$E259="",$F259<an_initial,$F259>an_final,$O259=FALSE),"",IF($H259="",CS23b*$G259/P259,CS23b*$H259)) | J259: =IF(OR($B259="",$C259="",$D259="",$E259="",$F259="",$F259>an_final,$O259=FALSE),"",IF($H259="",CS_STR_A*$G259/P259,CS_STR_A*$H259)) | K259: =IF(OR($B259="",$C259="",$D259="",$E259="",$F259="",$F259>an_final,$O259=FALSE),"",IF($F259>=an_initial,1,"")) | L259: =IF(OR($B259="",$C259="",$D259="",$E259="",$F259="",$F259>an_final,$O259=FALSE),"",1) | M259: =IF(OR($B259="",$C259="",$D259="",$E259="",$F259="",$F259>an_final,$O259=FALSE),"",IF($H259="",$G259/P259,$H259)) | N259: =IF(OR($B259="",$C259="",$D259="",$E259="",$F259="",$F259<an_initial,$F259>an_final,$O259=FALSE),"",IF($H259="",$G259/P259,$H259)) | O259: =IF(nume_candidat="",FALSE,ISNUMBER(SEARCH(nume_candidat,$B259))) -> FALSE | P259: =LEN(B259)-LEN(SUBSTITUTE(B259,",",""))+1 -> 1

Sheet I.2.4
A1: Universitatea Politehnica Timișoara
A2: =IF(ISBLANK(facultate), IF(ISBLANK(departament),"","Departament " & departament), "Facultatea " & facultate) -> Facultatea Automatică și Calculatoare
A3: =IF(ISBLANK(departament),"","Departamentul " & departament) -> Departamentul Automatică și Informatică Aplicată
A4: I. ACTIVITĂȚI DIDACTICE ȘI PROFESIONALE
A5: 2.4 Materiale complexe de tip e-learning publicate pe Campusul Virtual al UPT, care includ uneltele specifice e-learning
I6: =CONCATENATE(functie," ",nume_candidat) -> Conferențiar Bojan-Dragos Claudia-Adina | J6: =CONCATENATE(functie," ",nume_candidat) -> Conferențiar Bojan-Dragos Claudia-Adina
A7: Nr. crt. | B7: Autori | C7: Titlul materialului | D7: Adresa WEB de acces | E7: Beneficiari (anul de studii, specializarea) | F7: Anul postării | G7: Număr total de pagini | H7: Număr de pagini contribuție proprie | I7: Punctaj obținut | K7: Număr de lucrări | M7: Număr pagini redactare proprie | N7: candidat găsit | O7: autori
I8: =CONCATENATE("ultimii ",durata_evaluare," ani") -> ultimii 5 ani | J8: întreaga activitate | K8: =CONCATENATE("ultimii ",durata_evaluare," ani") -> ultimii 5 ani | L8: întreaga activitate
I9: =SUMIF(I10:I1010,">0") -> 0 | J9: =SUMIF(J10:J109,">0") -> 0 | K9: =SUMIF(K10:K109,">0") -> 0 | L9: =SUMIF(L10:L109,">0") -> 0 | M9: =SUMIF(M10:M109,">0") -> 0
A10: 1 | I10: =IF(OR($B10="",$C10="",$D10="",$E10="",$F10<an_initial,$F10>an_final,$N10=FALSE),"",EBOOK/O10) | J10: =IF(OR($B10="",$C10="",$D10="",$E10="",$F10="",$F10>an_final,$N10=FALSE),"",EBOOK/O10) | K10: =IF(OR($B10="",$C10="",$D10="",$E10="",$F10="",$F10>an_final,$N10=FALSE),"",IF($F10>=an_initial,1,"")) | L10: =IF(OR($B10="",$C10="",$D10="",$E10="",$F10="",$F10>an_final,$N10=FALSE),"",1) | M10: =IF(OR($B10="",$C10="",$D10="",$E10="",$F10="",$F10>an_final,$N10=FALSE),"",IF($H10="",$G10/O10,$H10)) | N10: =IF(nume_candidat="",FALSE,ISNUMBER(SEARCH(nume_candidat,$B10))) -> FALSE | O10: =LEN(B10)-LEN(SUBSTITUTE(B10,",",""))+1 -> 1
A11: 2 | I11: =IF(OR($B11="",$C11="",$D11="",$E11="",$F11<an_initial,$F11>an_final,$N11=FALSE),"",EBOOK/O11) | J11: =IF(OR($B11="",$C11="",$D11="",$E11="",$F11="",$F11>an_final,$N11=FALSE),"",EBOOK/O11) | K11: =IF(OR($B11="",$C11="",$D11="",$E11="",$F11="",$F11>an_final,$N11=FALSE),"",IF($F11>=an_initial,1,"")) | L11: =IF(OR($B11="",$C11="",$D11="",$E11="",$F11="",$F11>an_final,$N11=FALSE),"",1) | M11: =IF(OR($B11="",$C11="",$D11="",$E11="",$F11="",$F11>an_final,$N11=FALSE),"",IF($H11="",$G11/O11,$H11)) | N11: =IF(nume_candidat="",FALSE,ISNUMBER(SEARCH(nume_candidat,$B11))) -> FALSE | O11: =LEN(B11)-LEN(SUBSTITUTE(B11,",",""))+1 -> 1
A12: 3 | I12: =IF(OR($B12="",$C12="",$D12="",$E12="",$F12<an_initial,$F12>an_final,$N12=FALSE),"",EBOOK/O12) | J12: =IF(OR($B12="",$C12="",$D12="",$E12="",$F12="",$F12>an_final,$N12=FALSE),"",EBOOK/O12) | K12: =IF(OR($B12="",$C12="",$D12="",$E12="",$F12="",$F12>an_final,$N12=FALSE),"",IF($F12>=an_initial,1,"")) | L12: =IF(OR($B12="",$C12="",$D12="",$E12="",$F12="",$F12>an_final,$N12=FALSE),"",1) | M12: =IF(OR($B12="",$C12="",$D12="",$E12="",$F12="",$F12>an_final,$N12=FALSE),"",IF($H12="",$G12/O12,$H12)) | N12: =IF(nume_candidat="",FALSE,ISNUMBER(SEARCH(nume_candidat,$B12))) -> FALSE | O12: =LEN(B12)-LEN(SUBSTITUTE(B12,",",""))+1 -> 1
A13: 4 | I13: =IF(OR($B13="",$C13="",$D13="",$E13="",$F13<an_initial,$F13>an_final,$N13=FALSE),"",EBOOK/O13) | J13: =IF(OR($B13="",$C13="",$D13="",$E13="",$F13="",$F13>an_final,$N13=FALSE),"",EBOOK/O13) | K13: =IF(OR($B13="",$C13="",$D13="",$E13="",$F13="",$F13>an_final,$N13=FALSE),"",IF($F13>=an_initial,1,"")) | L13: =IF(OR($B13="",$C13="",$D13="",$E13="",$F13="",$F13>an_final,$N13=FALSE),"",1) | M13: =IF(OR($B13="",$C13="",$D13="",$E13="",$F13="",$F13>an_final,$N13=FALSE),"",IF($H13="",$G13/O13,$H13)) | N13: =IF(nume_candidat="",FALSE,ISNUMBER(SEARCH(nume_candidat,$B13))) -> FALSE | O13: =LEN(B13)-LEN(SUBSTITUTE(B13,",",""))+1 -> 1
A14: 5 | I14: =IF(OR($B14="",$C14="",$D14="",$E14="",$F14<an_initial,$F14>an_final,$N14=FALSE),"",EBOOK/O14) | J14: =IF(OR($B14="",$C14="",$D14="",$E14="",$F14="",$F14>an_final,$N14=FALSE),"",EBOOK/O14) | K14: =IF(OR($B14="",$C14="",$D14="",$E14="",$F14="",$F14>an_final,$N14=FALSE),"",IF($F14>=an_initial,1,"")) | L14: =IF(OR($B14="",$C14="",$D14="",$E14="",$F14="",$F14>an_final,$N14=FALSE),"",1) | M14: =IF(OR($B14="",$C14="",$D14="",$E14="",$F14="",$F14>an_final,$N14=FALSE),"",IF($H14="",$G14/O14,$H14)) | N14: =IF(nume_candidat="",FALSE,ISNUMBER(SEARCH(nume_candidat,$B14))) -> FALSE | O14: =LEN(B14)-LEN(SUBSTITUTE(B14,",",""))+1 -> 1
A15: 6 | I15: =IF(OR($B15="",$C15="",$D15="",$E15="",$F15<an_initial,$F15>an_final,$N15=FALSE),"",EBOOK/O15) | J15: =IF(OR($B15="",$C15="",$D15="",$E15="",$F15="",$F15>an_final,$N15=FALSE),"",EBOOK/O15) | K15: =IF(OR($B15="",$C15="",$D15="",$E15="",$F15="",$F15>an_final,$N15=FALSE),"",IF($F15>=an_initial,1,"")) | L15: =IF(OR($B15="",$C15="",$D15="",$E15="",$F15="",$F15>an_final,$N15=FALSE),"",1) | M15: =IF(OR($B15="",$C15="",$D15="",$E15="",$F15="",$F15>an_final,$N15=FALSE),"",IF($H15="",$G15/O15,$H15)) | N15: =IF(nume_candidat="",FALSE,ISNUMBER(SEARCH(nume_candidat,$B15))) -> FALSE | O15: =LEN(B15)-LEN(SUBSTITUTE(B15,",",""))+1 -> 1
A16: 7 | I16: =IF(OR($B16="",$C16="",$D16="",$E16="",$F16<an_initial,$F16>an_final,$N16=FALSE),"",EBOOK/O16) | J16: =IF(OR($B16="",$C16="",$D16="",$E16="",$F16="",$F16>an_final,$N16=FALSE),"",EBOOK/O16) | K16: =IF(OR($B16="",$C16="",$D16="",$E16="",$F16="",$F16>an_final,$N16=FALSE),"",IF($F16>=an_initial,1,"")) | L16: =IF(OR($B16="",$C16="",$D16="",$E16="",$F16="",$F16>an_final,$N16=FALSE),"",1) | M16: =IF(OR($B16="",$C16="",$D16="",$E16="",$F16="",$F16>an_final,$N16=FALSE),"",IF($H16="",$G16/O16,$H16)) | N16: =IF(nume_candidat="",FALSE,ISNUMBER(SEARCH(nume_candidat,$B16))) -> FALSE | O16: =LEN(B16)-LEN(SUBSTITUTE(B16,",",""))+1 -> 1
A17: 8 | I17: =IF(OR($B17="",$C17="",$D17="",$E17="",$F17<an_initial,$F17>an_final,$N17=FALSE),"",EBOOK/O17) | J17: =IF(OR($B17="",$C17="",$D17="",$E17="",$F17="",$F17>an_final,$N17=FALSE),"",EBOOK/O17) | K17: =IF(OR($B17="",$C17="",$D17="",$E17="",$F17="",$F17>an_final,$N17=FALSE),"",IF($F17>=an_initial,1,"")) | L17: =IF(OR($B17="",$C17="",$D17="",$E17="",$F17="",$F17>an_final,$N17=FALSE),"",1) | M17: =IF(OR($B17="",$C17="",$D17="",$E17="",$F17="",$F17>an_final,$N17=FALSE),"",IF($H17="",$G17/O17,$H17)) | N17: =IF(nume_candidat="",FALSE,ISNUMBER(SEARCH(nume_candidat,$B17))) -> FALSE | O17: =LEN(B17)-LEN(SUBSTITUTE(B17,",",""))+1 -> 1
A18: 9 | I18: =IF(OR($B18="",$C18="",$D18="",$E18="",$F18<an_initial,$F18>an_final,$N18=FALSE),"",EBOOK/O18) | J18: =IF(OR($B18="",$C18="",$D18="",$E18="",$F18="",$F18>an_final,$N18=FALSE),"",EBOOK/O18) | K18: =IF(OR($B18="",$C18="",$D18="",$E18="",$F18="",$F18>an_final,$N18=FALSE),"",IF($F18>=an_initial,1,"")) | L18: =IF(OR($B18="",$C18="",$D18="",$E18="",$F18="",$F18>an_final,$N18=FALSE),"",1) | M18: =IF(OR($B18="",$C18="",$D18="",$E18="",$F18="",$F18>an_final,$N18=FALSE),"",IF($H18="",$G18/O18,$H18)) | N18: =IF(nume_candidat="",FALSE,ISNUMBER(SEARCH(nume_candidat,$B18))) -> FALSE | O18: =LEN(B18)-LEN(SUBSTITUTE(B18,",",""))+1 -> 1
A19: 10 | I19: =IF(OR($B19="",$C19="",$D19="",$E19="",$F19<an_initial,$F19>an_final,$N19=FALSE),"",EBOOK/O19) | J19: =IF(OR($B19="",$C19="",$D19="",$E19="",$F19="",$F19>an_final,$N19=FALSE),"",EBOOK/O19) | K19: =IF(OR($B19="",$C19="",$D19="",$E19="",$F19="",$F19>an_final,$N19=FALSE),"",IF($F19>=an_initial,1,"")) | L19: =IF(OR($B19="",$C19="",$D19="",$E19="",$F19="",$F19>an_final,$N19=FALSE),"",1) | M19: =IF(OR($B19="",$C19="",$D19="",$E19="",$F19="",$F19>an_final,$N19=FALSE),"",IF($H19="",$G19/O19,$H19)) | N19: =IF(nume_candidat="",FALSE,ISNUMBER(SEARCH(nume_candidat,$B19))) -> FALSE | O19: =LEN(B19)-LEN(SUBSTITUTE(B19,",",""))+1 -> 1
A20: 11 | I20: =IF(OR($B20="",$C20="",$D20="",$E20="",$F20<an_initial,$F20>an_final,$N20=FALSE),"",EBOOK/O20) | J20: =IF(OR($B20="",$C20="",$D20="",$E20="",$F20="",$F20>an_final,$N20=FALSE),"",EBOOK/O20) | K20: =IF(OR($B20="",$C20="",$D20="",$E20="",$F20="",$F20>an_final,$N20=FALSE),"",IF($F20>=an_initial,1,"")) | L20: =IF(OR($B20="",$C20="",$D20="",$E20="",$F20="",$F20>an_final,$N20=FALSE),"",1) | M20: =IF(OR($B20="",$C20="",$D20="",$E20="",$F20="",$F20>an_final,$N20=FALSE),"",IF($H20="",$G20/O20,$H20)) | N20: =IF(nume_candidat="",FALSE,ISNUMBER(SEARCH(nume_candidat,$B20))) -> FALSE | O20: =LEN(B20)-LEN(SUBSTITUTE(B20,",",""))+1 -> 1
A21: 12 | I21: =IF(OR($B21="",$C21="",$D21="",$E21="",$F21<an_initial,$F21>an_final,$N21=FALSE),"",EBOOK/O21) | J21: =IF(OR($B21="",$C21="",$D21="",$E21="",$F21="",$F21>an_final,$N21=FALSE),"",EBOOK/O21) | K21: =IF(OR($B21="",$C21="",$D21="",$E21="",$F21="",$F21>an_final,$N21=FALSE),"",IF($F21>=an_initial,1,"")) | L21: =IF(OR($B21="",$C21="",$D21="",$E21="",$F21="",$F21>an_final,$N21=FALSE),"",1) | M21: =IF(OR($B21="",$C21="",$D21="",$E21="",$F21="",$F21>an_final,$N21=FALSE),"",IF($H21="",$G21/O21,$H21)) | N21: =IF(nume_candidat="",FALSE,ISNUMBER(SEARCH(nume_candidat,$B21))) -> FALSE | O21: =LEN(B21)-LEN(SUBSTITUTE(B21,",",""))+1 -> 1
